BEGIN:VCALENDAR
VERSION:2.0
PRODID:-//KWHI.com - ECPv6.15.17.1//NONSGML v1.0//EN
CALSCALE:GREGORIAN
METHOD:PUBLISH
X-ORIGINAL-URL:https://kwhi.com
X-WR-CALDESC:Events for KWHI.com
REFRESH-INTERVAL;VALUE=DURATION:PT1H
X-Robots-Tag:noindex
X-PUBLISHED-TTL:PT1H
BEGIN:VTIMEZONE
TZID:America/Chicago
BEGIN:DAYLIGHT
TZOFFSETFROM:-0600
TZOFFSETTO:-0500
TZNAME:CDT
DTSTART:20220313T080000
END:DAYLIGHT
BEGIN:STANDARD
TZOFFSETFROM:-0500
TZOFFSETTO:-0600
TZNAME:CST
DTSTART:20221106T070000
END:STANDARD
BEGIN:DAYLIGHT
TZOFFSETFROM:-0600
TZOFFSETTO:-0500
TZNAME:CDT
DTSTART:20230312T080000
END:DAYLIGHT
BEGIN:STANDARD
TZOFFSETFROM:-0500
TZOFFSETTO:-0600
TZNAME:CST
DTSTART:20231105T070000
END:STANDARD
BEGIN:DAYLIGHT
TZOFFSETFROM:-0600
TZOFFSETTO:-0500
TZNAME:CDT
DTSTART:20240310T080000
END:DAYLIGHT
BEGIN:STANDARD
TZOFFSETFROM:-0500
TZOFFSETTO:-0600
TZNAME:CST
DTSTART:20241103T070000
END:STANDARD
END:VTIMEZONE
BEGIN:VEVENT
DTSTART;VALUE=DATE:20230105
DTEND;VALUE=DATE:20230302
DTSTAMP:20260420T023152
CREATED:20230105T204228Z
LAST-MODIFIED:20230105T204228Z
UID:283645-1672876800-1677715199@kwhi.com
SUMMARY:Tomato and Pepper Plant Sale
DESCRIPTION:
URL:https://kwhi.com/event/tomato-and-pepper-plant-sale/
LOCATION:Texas A&M AgriLife Extension (Washington County)\, 1305 East Blue Bell Road\, Brenham\, TX\, 77833\, United States
CATEGORIES:Bulletin Board
ATTACH;FMTTYPE=image/jpeg:https://kwhi.com/wp-content/uploads/2023/01/plant-sale-Picture1-5.jpg
END:VEVENT
BEGIN:VEVENT
DTSTART;VALUE=DATE:20230210
DTEND;VALUE=DATE:20230301
DTSTAMP:20260420T023152
CREATED:20230210T161912Z
LAST-MODIFIED:20230210T161912Z
UID:286903-1675987200-1677628799@kwhi.com
SUMMARY:Spring\, Lawn\, Landscape\, and Garden Soil Testing Campaign
DESCRIPTION:
URL:https://kwhi.com/event/spring-lawn-landscape-and-garden-soil-testing-campaign/
LOCATION:TX\, United States
CATEGORIES:Bulletin Board
ATTACH;FMTTYPE=image/png:https://kwhi.com/wp-content/uploads/2023/02/soil-testing-campaign.png
END:VEVENT
BEGIN:VEVENT
DTSTART;VALUE=DATE:20230215
DTEND;VALUE=DATE:20230225
DTSTAMP:20260420T023152
CREATED:20230215T201055Z
LAST-MODIFIED:20230215T201055Z
UID:287359-1676419200-1677283199@kwhi.com
SUMMARY:Spring Eggs Art Walk Registration
DESCRIPTION:With help from artists in the community\, Main Street Brenham will again bring art to the streets of Downtown Brenham and invite professional\, amateur\, and student artists to participate in our Annual Spring Eggs Art Walk! \nSpring Egg Art Walk Registration now open \n\nThe entry deadline is Friday\, February 24th. Online entries will be accepted at https://cityofbrenham.online/spring-eggs\, or completed entry forms can be delivered to Brenham City Hall (200 W. Vulcan Street) or Washington County Visitor Center at The Barnhill Center in Downtown Brenham.\nWooden egg cut-outs for entrants will be available on Monday\, February 27 through Friday\, March 10 at City Hall (200 W. Vulcan Street) from 8a.m. - 4 p.m. Contact Teresa Rosales at trosales@cityofbrenham.org if other arrangements are needed to pick up your egg.\n\nRegister for Spring Eggs Art Walk
URL:https://kwhi.com/event/spring-eggs-art-walk-registration/
LOCATION:TX\, United States
CATEGORIES:Bulletin Board
ATTACH;FMTTYPE=image/jpeg:https://kwhi.com/wp-content/uploads/2023/02/hop-egg.jpg
END:VEVENT
BEGIN:VEVENT
DTSTART;VALUE=DATE:20230215
DTEND;VALUE=DATE:20230302
DTSTAMP:20260420T023152
CREATED:20230215T191738Z
LAST-MODIFIED:20230215T191738Z
UID:287338-1676419200-1677715199@kwhi.com
SUMMARY:Jr. Maifest Registration Open Now
DESCRIPTION:Registration now through March 1
URL:https://kwhi.com/event/jr-maifest-registration-open-now/
LOCATION:TX\, United States
CATEGORIES:Bulletin Board
ATTACH;FMTTYPE=image/jpeg:https://kwhi.com/wp-content/uploads/2023/02/enchanted-tree-house.jpg
END:VEVENT
BEGIN:VEVENT
DTSTART;VALUE=DATE:20230217
DTEND;VALUE=DATE:20230220
DTSTAMP:20260420T023152
CREATED:20230215T195029Z
LAST-MODIFIED:20230215T195029Z
UID:287347-1676592000-1676851199@kwhi.com
SUMMARY:Chili When Its Chili Cook Off
DESCRIPTION:
URL:https://kwhi.com/event/chili-when-its-chili-cook-off/
LOCATION:Yogi Bear Park Camp-Resort\, 34843 Betka Rd.\, Waller\, 77484
CATEGORIES:Bulletin Board
ATTACH;FMTTYPE=image/jpeg:https://kwhi.com/wp-content/uploads/2023/02/chili-when-its-chili-23.jpg
END:VEVENT
BEGIN:VEVENT
DTSTART;VALUE=DATE:20230219
DTEND;VALUE=DATE:20230220
DTSTAMP:20260420T023152
CREATED:20230130T210604Z
LAST-MODIFIED:20230130T210604Z
UID:286111-1676764800-1676851199@kwhi.com
SUMMARY:Bellville Historical Society Meeting
DESCRIPTION:
URL:https://kwhi.com/event/bellville-historical-society-meeting-2/
LOCATION:TX\, United States
CATEGORIES:Bulletin Board
ATTACH;FMTTYPE=image/jpeg:https://kwhi.com/wp-content/uploads/2023/01/bellville-hist-society-feb.jpg
END:VEVENT
BEGIN:VEVENT
DTSTART;VALUE=DATE:20230219
DTEND;VALUE=DATE:20230220
DTSTAMP:20260420T023152
CREATED:20230203T205304Z
LAST-MODIFIED:20230203T205423Z
UID:286422-1676764800-1676851199@kwhi.com
SUMMARY:Goodwill MBC Men Ministry Scholarship Fundraiser
DESCRIPTION:
URL:https://kwhi.com/event/goodwill-mbc-men-ministry-scholarship-fundraiser/
LOCATION:Goodwill Missionary Baptist Church (Brenham)\, 9180 Highway 105\, Brenham\, TX\, 77833\, United States
CATEGORIES:Bulletin Board
ATTACH;FMTTYPE=image/jpeg:https://kwhi.com/wp-content/uploads/2023/02/goodwill-men-in-black-1.jpg
END:VEVENT
END:VCALENDAR