BEGIN:VCALENDAR
VERSION:2.0
PRODID:-//KWHI.com - ECPv6.15.17.1//NONSGML v1.0//EN
CALSCALE:GREGORIAN
METHOD:PUBLISH
X-WR-CALNAME:KWHI.com
X-ORIGINAL-URL:https://kwhi.com
X-WR-CALDESC:Events for KWHI.com
REFRESH-INTERVAL;VALUE=DURATION:PT1H
X-Robots-Tag:noindex
X-PUBLISHED-TTL:PT1H
BEGIN:VTIMEZONE
TZID:America/Chicago
BEGIN:DAYLIGHT
TZOFFSETFROM:-0600
TZOFFSETTO:-0500
TZNAME:CDT
DTSTART:20220313T080000
END:DAYLIGHT
BEGIN:STANDARD
TZOFFSETFROM:-0500
TZOFFSETTO:-0600
TZNAME:CST
DTSTART:20221106T070000
END:STANDARD
BEGIN:DAYLIGHT
TZOFFSETFROM:-0600
TZOFFSETTO:-0500
TZNAME:CDT
DTSTART:20230312T080000
END:DAYLIGHT
BEGIN:STANDARD
TZOFFSETFROM:-0500
TZOFFSETTO:-0600
TZNAME:CST
DTSTART:20231105T070000
END:STANDARD
BEGIN:DAYLIGHT
TZOFFSETFROM:-0600
TZOFFSETTO:-0500
TZNAME:CDT
DTSTART:20240310T080000
END:DAYLIGHT
BEGIN:STANDARD
TZOFFSETFROM:-0500
TZOFFSETTO:-0600
TZNAME:CST
DTSTART:20241103T070000
END:STANDARD
END:VTIMEZONE
BEGIN:VEVENT
DTSTART;VALUE=DATE:20230605
DTEND;VALUE=DATE:20230609
DTSTAMP:20260419T154454
CREATED:20230518T145502Z
LAST-MODIFIED:20230606T203711Z
UID:295286-1685923200-1686268799@kwhi.com
SUMMARY:Brenham ISD Summer Meals for Children
DESCRIPTION:This summer\, Brenham ISD will connect children 18 and younger\, as well as\, enrolled students with disabilities up to 21 years old with healthy\, no cost summer meals.  The meals will be served Monday-Thursday at Krause Elementary School\, June 5 through July 27.  They are going to have breakfast available from 7am-8am\, and lunch from noon-1pm.  To find a meal site anywhere across the state of Texas\, families can call 2-1-1 and speak to a live operator\, visit their website at www.SummerFood.org\, or Text FOOD to 304-304.  \nMonday June 5\nBreakfast:  cinnamon toast crunch cereal\, mixed fruit cup\, fresh orange\nLunch:  cheeseburger\, fresh sandwich trimmings\, refried beans\, tater tots\, strawberry cup\, fresh apple\nTuesday June 6\nBreakfast:  sausage & egg biscuit\, orange juice\, fresh apple\, grape jelly\nLunch:  pepperoni pizza\, green beans\, marinara sauce\, pear cup\, fresh orange\nWednesday June 7\nBreakfast:  French toast\, pear cup\, fresh strawberries\, syrup\nLunch:  popcorn chicken smackers w/roll\, fresh cucumber slices\, mashed potatoes\, strawberry cup\, fresh watermelon\nThursday June 8\nBreakfast:  sausage & egg breakfast taco\, dried cranberries\, fresh orange\, picante sauce\nLunch:  black forest ham & cheese sandwich\, cool ranch Doritos\, fresh baby carrots\, sandwich trimmings\, applesauce\, fresh strawberries
URL:https://kwhi.com/event/brenham-isd-summer-meals-for-children/
LOCATION:Krause Elementary School\, 2201 East Stone Street\, Brenham\, TX\, 77833\, United States
CATEGORIES:Bulletin Board
ATTACH;FMTTYPE=image/jpeg:https://kwhi.com/wp-content/uploads/2023/05/free-summer-meals.jpg
END:VEVENT
BEGIN:VEVENT
DTSTART;VALUE=DATE:20230606
DTEND;VALUE=DATE:20230607
DTSTAMP:20260419T154454
CREATED:20230601T140835Z
LAST-MODIFIED:20230601T140919Z
UID:296262-1686009600-1686095999@kwhi.com
SUMMARY:Zythological Society of North America Meeting
DESCRIPTION:The Zythological Society of North America will hold its June monthly meeting on Tuesday\, June 6th. Meeting time is 7:00p at HSF Biergarten in Brenham. We will be starting our new year and Annual Memberships will be available for purchase. We will feature (2) beers from Ingenious Brewing and a great night out with fellow craft beer connoisseurs. Bring your friends and we'll see you there! Anyone over the age of 21 is welcome to attend. 
URL:https://kwhi.com/event/zythological-society-of-north-america/
LOCATION:HSF Biergarten\, 307 South Park St\, Brenham\, TX\, 77833\, United States
CATEGORIES:Bulletin Board
ATTACH;FMTTYPE=image/jpeg:https://kwhi.com/wp-content/uploads/2023/06/zyth-new-logo.jpg
END:VEVENT
BEGIN:VEVENT
DTSTART;TZID=America/Chicago:20230207T120000
DTEND;TZID=America/Chicago:20230207T130000
DTSTAMP:20260419T154454
CREATED:20221229T215252Z
LAST-MODIFIED:20240523T152334Z
UID:283188-1675771200-1675774800@kwhi.com
SUMMARY:Walk With A Doc-Brenham
DESCRIPTION:NO WALK JUNE 2024 OR JULY 2024 \nAttention Brenham! Are you ready to WALK your way to better health? Join us for our monthly Walk With A Doc event on the 1st Tuesday of each month at noon at the Kruse Center-Blinn College. Walk at your own pace and distance\, and learn more about Health & Nutrition at this FREE community event! Learn more at www.walkwithadoc.org. #WWAD #cityofbrenham
URL:https://kwhi.com/event/walk-with-a-doc-brenham/
LOCATION:Kurse Center-Blinn College\, 208 Blinn Boulevard\, Brenham\, TX\, 77833\, United States
CATEGORIES:Bulletin Board
ATTACH;FMTTYPE=image/jpeg:https://kwhi.com/wp-content/uploads/2022/12/WWAD-new-flyer.jpg
END:VEVENT
BEGIN:VEVENT
DTSTART;TZID=America/Chicago:20230207T130000
DTEND;TZID=America/Chicago:20230207T150000
DTSTAMP:20260419T154454
CREATED:20230106T155729Z
LAST-MODIFIED:20230106T155729Z
UID:283729-1675774800-1675782000@kwhi.com
SUMMARY:Stitching Club with Burleson Needleworkers
DESCRIPTION:
URL:https://kwhi.com/event/stitching-club-with-burleson-needleworkers/
LOCATION:Caldwell Civic and Visitor Center\, 103 TX 21 West\, Caldwell\, TX\, 77836\, United States
CATEGORIES:Bulletin Board
ATTACH;FMTTYPE=image/jpeg:https://kwhi.com/wp-content/uploads/2023/01/stitching-club.jpg
END:VEVENT
END:VCALENDAR