BEGIN:VCALENDAR
VERSION:2.0
PRODID:-//KWHI.com - ECPv6.15.17.1//NONSGML v1.0//EN
CALSCALE:GREGORIAN
METHOD:PUBLISH
X-WR-CALNAME:KWHI.com
X-ORIGINAL-URL:https://kwhi.com
X-WR-CALDESC:Events for KWHI.com
REFRESH-INTERVAL;VALUE=DURATION:PT1H
X-Robots-Tag:noindex
X-PUBLISHED-TTL:PT1H
BEGIN:VTIMEZONE
TZID:America/Chicago
BEGIN:DAYLIGHT
TZOFFSETFROM:-0600
TZOFFSETTO:-0500
TZNAME:CDT
DTSTART:20220313T080000
END:DAYLIGHT
BEGIN:STANDARD
TZOFFSETFROM:-0500
TZOFFSETTO:-0600
TZNAME:CST
DTSTART:20221106T070000
END:STANDARD
BEGIN:DAYLIGHT
TZOFFSETFROM:-0600
TZOFFSETTO:-0500
TZNAME:CDT
DTSTART:20230312T080000
END:DAYLIGHT
BEGIN:STANDARD
TZOFFSETFROM:-0500
TZOFFSETTO:-0600
TZNAME:CST
DTSTART:20231105T070000
END:STANDARD
BEGIN:DAYLIGHT
TZOFFSETFROM:-0600
TZOFFSETTO:-0500
TZNAME:CDT
DTSTART:20240310T080000
END:DAYLIGHT
BEGIN:STANDARD
TZOFFSETFROM:-0500
TZOFFSETTO:-0600
TZNAME:CST
DTSTART:20241103T070000
END:STANDARD
END:VTIMEZONE
BEGIN:VEVENT
DTSTART;VALUE=DATE:20230608
DTEND;VALUE=DATE:20230611
DTSTAMP:20260420T161148
CREATED:20230608T201009Z
LAST-MODIFIED:20230608T201230Z
UID:297066-1686182400-1686441599@kwhi.com
SUMMARY:Lucky's Hookah Lounge Soft Opening Week
DESCRIPTION:
URL:https://kwhi.com/event/luckys-hookah-lounge-soft-opening-week/
LOCATION:Lucky’s Hookah Lounge\, 216 East Main St.\, Brenham\, TX\, 77833\, United States
CATEGORIES:Bulletin Board
ATTACH;FMTTYPE=image/jpeg:https://kwhi.com/wp-content/uploads/2023/06/lucky-hookah-lounge-1.jpg
END:VEVENT
BEGIN:VEVENT
DTSTART;VALUE=DATE:20230608
DTEND;VALUE=DATE:20230620
DTSTAMP:20260420T161148
CREATED:20230523T140027Z
LAST-MODIFIED:20230523T140027Z
UID:295648-1686182400-1687219199@kwhi.com
SUMMARY:Book Fair-Navasota
DESCRIPTION:
URL:https://kwhi.com/event/book-fair-navasota/
LOCATION:Navasota Public Library\, 1411 E. Washington Ave.\, Navasota\, TX\, 77868\, United States
CATEGORIES:Bulletin Board
ATTACH;FMTTYPE=image/png:https://kwhi.com/wp-content/uploads/2023/05/navasota-book-fair-june.png
END:VEVENT
BEGIN:VEVENT
DTSTART;VALUE=DATE:20230608
DTEND;VALUE=DATE:20230626
DTSTAMP:20260420T161148
CREATED:20230512T205819Z
LAST-MODIFIED:20230512T205907Z
UID:294807-1686182400-1687737599@kwhi.com
SUMMARY:Unity Theatre presents a Musical GODSPELL
DESCRIPTION:
URL:https://kwhi.com/event/unity-theatre-presents-a-musical-godspell/
LOCATION:Unity Theatre\, 300 Church Street\, Brenham\, TX\, 77833\, United States
CATEGORIES:Bulletin Board
ATTACH;FMTTYPE=image/jpeg:https://kwhi.com/wp-content/uploads/2023/05/Godspell.jpg
END:VEVENT
BEGIN:VEVENT
DTSTART;VALUE=DATE:20230608
DTEND;VALUE=DATE:20230719
DTSTAMP:20260420T161148
CREATED:20230608T200617Z
LAST-MODIFIED:20230608T200716Z
UID:297063-1686182400-1689724799@kwhi.com
SUMMARY:Summer Reading at NCRML
DESCRIPTION:
URL:https://kwhi.com/event/summer-reading-at-ncrml/
LOCATION:Nancy Carol Roberts Memorial Library\, 100 W. Martin Luther King Jr. Pky\, Brenham\, TX\, 77833\, United States
CATEGORIES:Bulletin Board
ATTACH;FMTTYPE=image/jpeg:https://kwhi.com/wp-content/uploads/2023/06/summer-reading-NCRML.jpg
END:VEVENT
BEGIN:VEVENT
DTSTART;VALUE=DATE:20230608
DTEND;VALUE=DATE:20230801
DTSTAMP:20260420T161148
CREATED:20230608T200335Z
LAST-MODIFIED:20230608T200400Z
UID:297060-1686182400-1690847999@kwhi.com
SUMMARY:Brenham ISD School Supply List
DESCRIPTION:School Supply Lists\nSchool supply lists for the 2023-24 school year are available online on our Brenham ISD website here. You can view the lists to purchase on your own or order directly through EPI.  \nSponsor a Student\, Classroom\, or Grade Level\nIf you are interested or need more information on how to sponsor a student\, classroom\, or grade-level school supplies please visit the Brenhamchanges website.  \nRequestion for Sponsorship\nIf you are in need of help with your child's school supplies for the 2023-2024 school year\, please fill out the form below entirely for each child who needs sponsorship. This is on a first come first serve basis.  \nEnglish: School Supplies Request for Sponsorship \nSpanish: Útiles escolares Solicitud de patrocinio  \nFor questions on school supplies\, ordering\, or sponsorships please contact Courtney Mason at cmason@brenhamk-12.net or by phone at 979-277-3719.
URL:https://kwhi.com/event/brenham-isd-school-supply-list/
LOCATION:TX\, United States
CATEGORIES:Bulletin Board
ATTACH;FMTTYPE=image/jpeg:https://kwhi.com/wp-content/uploads/2023/06/brenham-ISD-school-supplies.jpg
END:VEVENT
BEGIN:VEVENT
DTSTART;VALUE=DATE:20230609
DTEND;VALUE=DATE:20230610
DTSTAMP:20260420T161148
CREATED:20230512T205655Z
LAST-MODIFIED:20230512T205655Z
UID:294802-1686268800-1686355199@kwhi.com
SUMMARY:Combined Community Action Casino Nite
DESCRIPTION:
URL:https://kwhi.com/event/combined-community-action-casino-nite/
LOCATION:St. Michael’s Hall (Winchester)\, 310 Frio Street\, Winchester\, TX\, 78945\, United States
CATEGORIES:Bulletin Board
ATTACH;FMTTYPE=image/jpeg:https://kwhi.com/wp-content/uploads/2023/05/Casino-Nite-Poster-2023-002.jpg
END:VEVENT
BEGIN:VEVENT
DTSTART;VALUE=DATE:20230602
DTEND;VALUE=DATE:20230603
DTSTAMP:20260420T161148
CREATED:20230602T134749Z
LAST-MODIFIED:20230602T134749Z
UID:296369-1685664000-1685750399@kwhi.com
SUMMARY:Movie Nights on the Square-LaGrange
DESCRIPTION:
URL:https://kwhi.com/event/movie-nights-on-the-square-lagrange/
LOCATION:Fayette County Courthouse Lawn\, 151 N. Washington St.\, La Grange\, TX\, 78945\, United States
CATEGORIES:Bulletin Board
ATTACH;FMTTYPE=image/jpeg:https://kwhi.com/wp-content/uploads/2023/05/LaGrangeMovieNights2023Flyer.jpg
END:VEVENT
BEGIN:VEVENT
DTSTART;VALUE=DATE:20230609
DTEND;VALUE=DATE:20230610
DTSTAMP:20260420T161148
CREATED:20230606T201336Z
LAST-MODIFIED:20230606T201336Z
UID:296803-1686268800-1686355199@kwhi.com
SUMMARY:Benefit Program for New Soul Invaders
DESCRIPTION:
URL:https://kwhi.com/event/benefit-program-for-new-soul-invaders/
LOCATION:Main Street Baptist Church (Brenham)\, 905 East Main Street\, Brenham\, TX\, 77833\, United States
CATEGORIES:Bulletin Board
ATTACH;FMTTYPE=image/jpeg:https://kwhi.com/wp-content/uploads/2023/06/benefit-concert-new-soul-invaders.jpg
END:VEVENT
BEGIN:VEVENT
DTSTART;TZID=America/Chicago:20230609T110000
DTEND;TZID=America/Chicago:20230609T140000
DTSTAMP:20260420T161148
CREATED:20230605T134425Z
LAST-MODIFIED:20230605T134457Z
UID:296628-1686308400-1686319200@kwhi.com
SUMMARY:BNB Customer Appreciation Day
DESCRIPTION:
URL:https://kwhi.com/event/bnb-customer-appreciation-day/
LOCATION:Brenham National Bank-Brenham Branch\, 2211 South Day Street\, Brenham\, TX\, 77833\, United States
CATEGORIES:Bulletin Board
ATTACH;FMTTYPE=image/jpeg:https://kwhi.com/wp-content/uploads/2023/06/bnb-customer-apprec.jpg
END:VEVENT
END:VCALENDAR