BEGIN:VCALENDAR
VERSION:2.0
PRODID:-//KWHI.com - ECPv6.15.17.1//NONSGML v1.0//EN
CALSCALE:GREGORIAN
METHOD:PUBLISH
X-ORIGINAL-URL:https://kwhi.com
X-WR-CALDESC:Events for KWHI.com
REFRESH-INTERVAL;VALUE=DURATION:PT1H
X-Robots-Tag:noindex
X-PUBLISHED-TTL:PT1H
BEGIN:VTIMEZONE
TZID:America/Chicago
BEGIN:DAYLIGHT
TZOFFSETFROM:-0600
TZOFFSETTO:-0500
TZNAME:CDT
DTSTART:20220313T080000
END:DAYLIGHT
BEGIN:STANDARD
TZOFFSETFROM:-0500
TZOFFSETTO:-0600
TZNAME:CST
DTSTART:20221106T070000
END:STANDARD
BEGIN:DAYLIGHT
TZOFFSETFROM:-0600
TZOFFSETTO:-0500
TZNAME:CDT
DTSTART:20230312T080000
END:DAYLIGHT
BEGIN:STANDARD
TZOFFSETFROM:-0500
TZOFFSETTO:-0600
TZNAME:CST
DTSTART:20231105T070000
END:STANDARD
BEGIN:DAYLIGHT
TZOFFSETFROM:-0600
TZOFFSETTO:-0500
TZNAME:CDT
DTSTART:20240310T080000
END:DAYLIGHT
BEGIN:STANDARD
TZOFFSETFROM:-0500
TZOFFSETTO:-0600
TZNAME:CST
DTSTART:20241103T070000
END:STANDARD
END:VTIMEZONE
BEGIN:VEVENT
DTSTART;VALUE=DATE:20230901
DTEND;VALUE=DATE:20230913
DTSTAMP:20260420T145329
CREATED:20230612T192156Z
LAST-MODIFIED:20230612T192156Z
UID:297330-1693526400-1694563199@kwhi.com
SUMMARY:ACS Bank Field of Honor
DESCRIPTION:
URL:https://kwhi.com/event/acs-bank-field-of-honor/
LOCATION:Austin County State Bank\, 436 S. Front Street\, Bellville\, TX\, 77418\, United States
CATEGORIES:Bulletin Board
ATTACH;FMTTYPE=image/jpeg:https://kwhi.com/wp-content/uploads/2023/06/bellville-field-of-honor.jpg
END:VEVENT
BEGIN:VEVENT
DTSTART;VALUE=DATE:20230901
DTEND;VALUE=DATE:20230919
DTSTAMP:20260420T145329
CREATED:20230825T135214Z
LAST-MODIFIED:20230825T135214Z
UID:302481-1693526400-1695081599@kwhi.com
SUMMARY:Washington County Fair Country Creation News
DESCRIPTION:Country Creation Exhibits will be in the EXPO EVENT CENTER for the 2023 Washington County Fair.  All residents of the county are invited and encouraged to participate. \nArt\, Alternative Foods\, Canned Products\, Creative Arts and Crafts\, Designer Craftsman\, Machine Sewn\, Needlework\, Photography and Quilt exhibits are to be entered Thursday September 14th from 3 until 7 pm.  School Art check-in is September 14th from 4 to 5 pm.  \nCheck-in time for Baked\, Confections\, Floral and Vegetables is Monday September 18th from 7:30 to 9:00 am. \nBoth Adult and Youth Division Catalogues can be found on-line at:   washingtoncofair.com/p/thefair/country-creations \nYouth exhibitors must be registered online in the ShoWorks system by 6 p.m. September 4th.  \nAdult exhibitors can obtain an exhibitor number for $2. when they check-in.
URL:https://kwhi.com/event/washington-county-fair-country-creation-news-2/
CATEGORIES:Bulletin Board
ATTACH;FMTTYPE=image/jpeg:https://kwhi.com/wp-content/uploads/2023/08/wcf-event-center.jpg
END:VEVENT
BEGIN:VEVENT
DTSTART;VALUE=DATE:20230112
DTEND;VALUE=DATE:20230113
DTSTAMP:20260420T145329
CREATED:20230106T155229Z
LAST-MODIFIED:20230106T155229Z
UID:283721-1673481600-1673567999@kwhi.com
SUMMARY:Good Morning Club Meet & Greet
DESCRIPTION:
URL:https://kwhi.com/event/good-morning-club-meet-greet/
LOCATION:Harrie P. Woodson Memorial Library\, 704 TX-21\, Caldwell\, TX\, 77836\, United States
CATEGORIES:Bulletin Board
ATTACH;FMTTYPE=image/jpeg:https://kwhi.com/wp-content/uploads/2023/01/good-morning-club.jpg
END:VEVENT
BEGIN:VEVENT
DTSTART;VALUE=DATE:20230202
DTEND;VALUE=DATE:20230203
DTSTAMP:20260420T145329
CREATED:20230201T221304Z
LAST-MODIFIED:20230201T221442Z
UID:286264-1675296000-1675382399@kwhi.com
SUMMARY:Bread Partners of Washington County Food Distribution
DESCRIPTION:Bread Partners of Washington County weekly food distribution site is the Washington County Expo Pavilion\, Thursday evenings starting at 5:30
URL:https://kwhi.com/event/bread-partners-of-washington-county-food-distribution/
LOCATION:Washington County Expo Pavilion\, 1305 East Blue Bell Road\, Brenham\, TX\, 77833\, United States
CATEGORIES:Bulletin Board
ATTACH;FMTTYPE=image/jpeg:https://kwhi.com/wp-content/uploads/2023/02/bread-partners-of-wc.jpg
END:VEVENT
BEGIN:VEVENT
DTSTART;VALUE=DATE:20230907
DTEND;VALUE=DATE:20230908
DTSTAMP:20260420T145329
CREATED:20230822T135233Z
LAST-MODIFIED:20230822T135233Z
UID:302268-1694044800-1694131199@kwhi.com
SUMMARY:Austin County Aggie Moms Club Howdy Social
DESCRIPTION:
URL:https://kwhi.com/event/austin-county-aggie-moms-club-howdy-social/
LOCATION:El Jimador Mexican Grill #5\, 864 East Hill Street\, Bellville\, TX\, 77418\, United States
CATEGORIES:Bulletin Board
ATTACH;FMTTYPE=image/jpeg:https://kwhi.com/wp-content/uploads/2023/08/howdy-social-sept.jpg
END:VEVENT
BEGIN:VEVENT
DTSTART;VALUE=DATE:20230907
DTEND;VALUE=DATE:20230908
DTSTAMP:20260420T145329
CREATED:20230828T195730Z
LAST-MODIFIED:20230828T195926Z
UID:302706-1694044800-1694131199@kwhi.com
SUMMARY:Chamber Ribbon Cutting-Absolute Roofing
DESCRIPTION:Washington County Chamber Ribbon Cutting for New Member -\nAbsolute Roofing will be held on Thursday\, September 7 at 10:30 a.m.
URL:https://kwhi.com/event/chamber-ribbon-cutting-absolute-roofing/
LOCATION:Absolute Roofing\, 2950 Hwy. 290 W.\, Brenham\, TX\, 77833\, United States
CATEGORIES:Bulletin Board
ATTACH;FMTTYPE=image/jpeg:https://kwhi.com/wp-content/uploads/2023/08/coc-washington-county-ribbon-cutting.jpg
END:VEVENT
BEGIN:VEVENT
DTSTART;TZID=America/Chicago:20230907T110000
DTEND;TZID=America/Chicago:20230907T130000
DTSTAMP:20260420T145329
CREATED:20230901T212438Z
LAST-MODIFIED:20230901T212438Z
UID:303117-1694084400-1694091600@kwhi.com
SUMMARY:Remembrance & Honoring Appreciation Lunch
DESCRIPTION:
URL:https://kwhi.com/event/remembrance-honoring-appreciation-lunch/
LOCATION:Strickland Funeral Home (Caldwell)\, 530 Hwy. 36 South\, Caldwell\, TX\, 77836\, United States
CATEGORIES:Bulletin Board
ATTACH;FMTTYPE=image/jpeg:https://kwhi.com/wp-content/uploads/2023/09/remember-the-fallen.jpg
END:VEVENT
BEGIN:VEVENT
DTSTART;TZID=America/Chicago:20230907T160000
DTEND;TZID=America/Chicago:20230907T180000
DTSTAMP:20260420T145329
CREATED:20230828T200308Z
LAST-MODIFIED:20230828T200308Z
UID:302710-1694102400-1694109600@kwhi.com
SUMMARY:Chamber Connect After 4 Event
DESCRIPTION:Washington County Chamber Networking Event\, sponsored by Glasco Stone & Landscape Supply is Thursday\, September 7 from 4:00-6:00 p.m.
URL:https://kwhi.com/event/chamber-connect-after-4-event/
LOCATION:Glasco Stone & Landscape Supply\, 4584 Hwy. 36 South\, Brenham\, TX\, 77833\, United States
CATEGORIES:Bulletin Board
ATTACH;FMTTYPE=image/png:https://kwhi.com/wp-content/uploads/2023/08/coc-washington-county.png
END:VEVENT
END:VCALENDAR