BEGIN:VCALENDAR
VERSION:2.0
PRODID:-//KWHI.com - ECPv6.15.17.1//NONSGML v1.0//EN
CALSCALE:GREGORIAN
METHOD:PUBLISH
X-ORIGINAL-URL:https://kwhi.com
X-WR-CALDESC:Events for KWHI.com
REFRESH-INTERVAL;VALUE=DURATION:PT1H
X-Robots-Tag:noindex
X-PUBLISHED-TTL:PT1H
BEGIN:VTIMEZONE
TZID:America/Chicago
BEGIN:DAYLIGHT
TZOFFSETFROM:-0600
TZOFFSETTO:-0500
TZNAME:CDT
DTSTART:20220313T080000
END:DAYLIGHT
BEGIN:STANDARD
TZOFFSETFROM:-0500
TZOFFSETTO:-0600
TZNAME:CST
DTSTART:20221106T070000
END:STANDARD
BEGIN:DAYLIGHT
TZOFFSETFROM:-0600
TZOFFSETTO:-0500
TZNAME:CDT
DTSTART:20230312T080000
END:DAYLIGHT
BEGIN:STANDARD
TZOFFSETFROM:-0500
TZOFFSETTO:-0600
TZNAME:CST
DTSTART:20231105T070000
END:STANDARD
BEGIN:DAYLIGHT
TZOFFSETFROM:-0600
TZOFFSETTO:-0500
TZNAME:CDT
DTSTART:20240310T080000
END:DAYLIGHT
BEGIN:STANDARD
TZOFFSETFROM:-0500
TZOFFSETTO:-0600
TZNAME:CST
DTSTART:20241103T070000
END:STANDARD
END:VTIMEZONE
BEGIN:VEVENT
DTSTART;VALUE=DATE:20230901
DTEND;VALUE=DATE:20230913
DTSTAMP:20260422T032012
CREATED:20230612T192156Z
LAST-MODIFIED:20230612T192156Z
UID:297330-1693526400-1694563199@kwhi.com
SUMMARY:ACS Bank Field of Honor
DESCRIPTION:
URL:https://kwhi.com/event/acs-bank-field-of-honor/
LOCATION:Austin County State Bank\, 436 S. Front Street\, Bellville\, TX\, 77418\, United States
CATEGORIES:Bulletin Board
ATTACH;FMTTYPE=image/jpeg:https://kwhi.com/wp-content/uploads/2023/06/bellville-field-of-honor.jpg
END:VEVENT
BEGIN:VEVENT
DTSTART;VALUE=DATE:20230901
DTEND;VALUE=DATE:20230919
DTSTAMP:20260422T032012
CREATED:20230825T135214Z
LAST-MODIFIED:20230825T135214Z
UID:302481-1693526400-1695081599@kwhi.com
SUMMARY:Washington County Fair Country Creation News
DESCRIPTION:Country Creation Exhibits will be in the EXPO EVENT CENTER for the 2023 Washington County Fair.  All residents of the county are invited and encouraged to participate. \nArt\, Alternative Foods\, Canned Products\, Creative Arts and Crafts\, Designer Craftsman\, Machine Sewn\, Needlework\, Photography and Quilt exhibits are to be entered Thursday September 14th from 3 until 7 pm.  School Art check-in is September 14th from 4 to 5 pm.  \nCheck-in time for Baked\, Confections\, Floral and Vegetables is Monday September 18th from 7:30 to 9:00 am. \nBoth Adult and Youth Division Catalogues can be found on-line at:   washingtoncofair.com/p/thefair/country-creations \nYouth exhibitors must be registered online in the ShoWorks system by 6 p.m. September 4th.  \nAdult exhibitors can obtain an exhibitor number for $2. when they check-in.
URL:https://kwhi.com/event/washington-county-fair-country-creation-news-2/
CATEGORIES:Bulletin Board
ATTACH;FMTTYPE=image/jpeg:https://kwhi.com/wp-content/uploads/2023/08/wcf-event-center.jpg
END:VEVENT
BEGIN:VEVENT
DTSTART;VALUE=DATE:20230908
DTEND;VALUE=DATE:20230910
DTSTAMP:20260422T032012
CREATED:20230901T212102Z
LAST-MODIFIED:20230901T212102Z
UID:303114-1694131200-1694303999@kwhi.com
SUMMARY:Inaugural Whitetail Deer Classic
DESCRIPTION:Free of admission\, enjoy a beer or bourbon\, chat with local taxidermists\, and meet whitetail trophy deer owners from surrounding areas. \nInterested in displaying your whitetail trophy?\nContact: steve@thesmithnavasota.com
URL:https://kwhi.com/event/inaugural-whitetail-deer-classic/
LOCATION:P.A. Smith Hotel\, 111 Railroad Street\, Navasota\, TX\, 77868\, United States
CATEGORIES:Bulletin Board
ATTACH;FMTTYPE=image/jpeg:https://kwhi.com/wp-content/uploads/2023/09/inaugural-whitetail-deer-classic.jpg
END:VEVENT
BEGIN:VEVENT
DTSTART;VALUE=DATE:20230908
DTEND;VALUE=DATE:20230910
DTSTAMP:20260422T032012
CREATED:20230905T191422Z
LAST-MODIFIED:20230905T191422Z
UID:303275-1694131200-1694303999@kwhi.com
SUMMARY:API Bass Tournament
DESCRIPTION:The American Petroleum Institute – Austin Chalk and Brazos Valley Chapters are getting ready to host their annual bass fishing tournament this weekend at Lake Somerville Marina and Campground.   A registration event will take place on Friday\, September 8 at 5 p.m.  Dinner will be served\, and door prizes will be given away.  The tournament gets underway on Saturday\, September 9 at 6 a.m. and will run until 3 p.m.  Prizes include $1\,000 for first place teams in the open division and $500 for teams that finish first in the sportsman division.  There will also be a $100 hourly big bass pot and overall big bass pot.  Proceeds from the tournament go toward local charities and educational endowments. \nFor more details\, head to the API Bass Tournament Facebook page. \nKTEX-106’s Trail Boss Troy will broadcast live from Friday’s dinner and registration event.  KTEX-106 will also provide hourly tournament reports on Saturday.
URL:https://kwhi.com/event/api-bass-tournament/
LOCATION:Lake Somerville Marina & Campground\, 505 Marina Rd.\, Brenham\, TX\, 77833\, United States
CATEGORIES:Bulletin Board
ATTACH;FMTTYPE=image/jpeg:https://kwhi.com/wp-content/uploads/2023/09/API-bass-tournament.jpg
END:VEVENT
BEGIN:VEVENT
DTSTART;VALUE=DATE:20230114
DTEND;VALUE=DATE:20230115
DTSTAMP:20260422T032012
CREATED:20230104T213910Z
LAST-MODIFIED:20230104T213910Z
UID:283573-1673654400-1673740799@kwhi.com
SUMMARY:Downtown Caldwell 2nd Saturday
DESCRIPTION:Join several businesses Downtown Caldwell\, on and around the Square\, on the 2nd Saturday of each month.  Businesses stay open later and offers so much more on those days to their customers.  Come check out Downtown Caldwell each 2nd Saturday of the Month!
URL:https://kwhi.com/event/downtown-caldwell-2nd-saturday/
LOCATION:Downtown Caldwell\, Caldwell\, 77836\, United States
CATEGORIES:Bulletin Board
ATTACH;FMTTYPE=image/png:https://kwhi.com/wp-content/uploads/2023/01/come-in-were-open.png
END:VEVENT
BEGIN:VEVENT
DTSTART;VALUE=DATE:20230708
DTEND;VALUE=DATE:20230709
DTSTAMP:20260422T032012
CREATED:20230623T203119Z
LAST-MODIFIED:20230623T203119Z
UID:298325-1688774400-1688860799@kwhi.com
SUMMARY:Downtown Giddings Street Market Days
DESCRIPTION:Giddings Street Market Days\, to be held the second Saturday of each month from July to November\, taking place from 9 a.m. to 1 p.m.  The market will be stationed in the parking lot area off of Burleson Street\, between Main Street and Railroad Row.  Vendors selling goods like clothing\, accessories\, jams and jellies\, cheeses\, microgreens\, dog treats and cultural items. 
URL:https://kwhi.com/event/downtown-giddings-street-market-days/
LOCATION:TX\, United States
CATEGORIES:Bulletin Board
ATTACH;FMTTYPE=image/png:https://kwhi.com/wp-content/uploads/2023/06/giddings-tx.png
END:VEVENT
BEGIN:VEVENT
DTSTART;VALUE=DATE:20230812
DTEND;VALUE=DATE:20230813
DTSTAMP:20260422T032012
CREATED:20230711T192145Z
LAST-MODIFIED:20230711T192145Z
UID:299495-1691798400-1691884799@kwhi.com
SUMMARY:2nd Saturday Street Fair (Giddings)
DESCRIPTION:
URL:https://kwhi.com/event/2nd-saturday-street-fair-giddings/
LOCATION:Downtown Giddings\, Giddings\, TX\, 78942\, United States
CATEGORIES:Bulletin Board
ATTACH;FMTTYPE=image/png:https://kwhi.com/wp-content/uploads/2023/07/giddings-saturday-st-fair.png
END:VEVENT
BEGIN:VEVENT
DTSTART;VALUE=DATE:20230909
DTEND;VALUE=DATE:20230910
DTSTAMP:20260422T032012
CREATED:20230811T140623Z
LAST-MODIFIED:20230811T140623Z
UID:301537-1694217600-1694303999@kwhi.com
SUMMARY:Kolache Festival-Caldwell
DESCRIPTION:For more than 20 years\, Caldwell has hosted the Kolache Festival in the downtown square area. This festival celebrates the Czech heritage and is held the second Saturday in September each year.  Tens of thousands of Kolaches are sold\, as well as homemade sausage and festival foods of all kinds which are sold at vendor booths. Dozens and dozens of vendor booths also sell the best quality homemade crafts and other items. There are Czech bands on two stages\, a Kolache eating contest\, period costumes\, dancing\, farm equipment show\, antique car show\, kid rides and activities\, and live acts of all kinds.
URL:https://kwhi.com/event/kolache-festival-caldwell/
LOCATION:Downtown Caldwell\, Caldwell\, 77836\, United States
CATEGORIES:Bulletin Board
ATTACH;FMTTYPE=image/jpeg:https://kwhi.com/wp-content/uploads/2023/08/kolache-fest-2023.jpg
END:VEVENT
BEGIN:VEVENT
DTSTART;VALUE=DATE:20230909
DTEND;VALUE=DATE:20230910
DTSTAMP:20260422T032012
CREATED:20230905T192010Z
LAST-MODIFIED:20230905T192010Z
UID:303282-1694217600-1694303999@kwhi.com
SUMMARY:Bonnie and Clyde Musical Comedy
DESCRIPTION:
URL:https://kwhi.com/event/bonnie-and-clyde-musical-comedy/
LOCATION:Brosig Performing Arts Center\, 105 Brosig Ave.\, Navasota\, TX\, 77868\, United States
CATEGORIES:Bulletin Board
ATTACH;FMTTYPE=image/jpeg:https://kwhi.com/wp-content/uploads/2023/09/bonnie-clyde-musical-sept.jpg
END:VEVENT
BEGIN:VEVENT
DTSTART;TZID=America/Chicago:20230114T070000
DTEND;TZID=America/Chicago:20230114T120000
DTSTAMP:20260422T032012
CREATED:20230106T161309Z
LAST-MODIFIED:20230106T161309Z
UID:283734-1673679600-1673697600@kwhi.com
SUMMARY:Burleson County Farmers' Market
DESCRIPTION:
URL:https://kwhi.com/event/burleson-county-farmers-market/
LOCATION:Downtown Caldwell\, Caldwell\, 77836\, United States
CATEGORIES:Bulletin Board
ATTACH;FMTTYPE=image/jpeg:https://kwhi.com/wp-content/uploads/2023/01/burleson-co-farmers-market.jpg
END:VEVENT
BEGIN:VEVENT
DTSTART;TZID=America/Chicago:20230909T090000
DTEND;TZID=America/Chicago:20230909T130000
DTSTAMP:20260422T032012
CREATED:20230824T202320Z
LAST-MODIFIED:20230824T202320Z
UID:302445-1694250000-1694264400@kwhi.com
SUMMARY:Navasota Farmers Market
DESCRIPTION:
URL:https://kwhi.com/event/navasota-farmers-market-6/
LOCATION:Navasota Public Library parking lot\, 1411 E Washington Ave\, Navasota\, 77868
CATEGORIES:Bulletin Board
ATTACH;FMTTYPE=image/jpeg:https://kwhi.com/wp-content/uploads/2023/08/navasota-farmers-market-sept-002.jpg
END:VEVENT
END:VCALENDAR