BEGIN:VCALENDAR
VERSION:2.0
PRODID:-//KWHI.com - ECPv6.15.17.1//NONSGML v1.0//EN
CALSCALE:GREGORIAN
METHOD:PUBLISH
X-WR-CALNAME:KWHI.com
X-ORIGINAL-URL:https://kwhi.com
X-WR-CALDESC:Events for KWHI.com
REFRESH-INTERVAL;VALUE=DURATION:PT1H
X-Robots-Tag:noindex
X-PUBLISHED-TTL:PT1H
BEGIN:VTIMEZONE
TZID:America/Chicago
BEGIN:DAYLIGHT
TZOFFSETFROM:-0600
TZOFFSETTO:-0500
TZNAME:CDT
DTSTART:20220313T080000
END:DAYLIGHT
BEGIN:STANDARD
TZOFFSETFROM:-0500
TZOFFSETTO:-0600
TZNAME:CST
DTSTART:20221106T070000
END:STANDARD
BEGIN:DAYLIGHT
TZOFFSETFROM:-0600
TZOFFSETTO:-0500
TZNAME:CDT
DTSTART:20230312T080000
END:DAYLIGHT
BEGIN:STANDARD
TZOFFSETFROM:-0500
TZOFFSETTO:-0600
TZNAME:CST
DTSTART:20231105T070000
END:STANDARD
BEGIN:DAYLIGHT
TZOFFSETFROM:-0600
TZOFFSETTO:-0500
TZNAME:CDT
DTSTART:20240310T080000
END:DAYLIGHT
BEGIN:STANDARD
TZOFFSETFROM:-0500
TZOFFSETTO:-0600
TZNAME:CST
DTSTART:20241103T070000
END:STANDARD
END:VTIMEZONE
BEGIN:VEVENT
DTSTART;VALUE=DATE:20231017
DTEND;VALUE=DATE:20231120
DTSTAMP:20260420T160306
CREATED:20231017T192546Z
LAST-MODIFIED:20231017T192546Z
UID:306684-1697500800-1700438399@kwhi.com
SUMMARY:Brenham Youth Basketball Registration Now Open
DESCRIPTION:
URL:https://kwhi.com/event/brenham-youth-basketball-registration-now-open/
LOCATION:TX
CATEGORIES:Bulletin Board
ATTACH;FMTTYPE=image/jpeg:https://kwhi.com/wp-content/uploads/2023/10/brenham-youth-bb.jpg
END:VEVENT
BEGIN:VEVENT
DTSTART;VALUE=DATE:20231021
DTEND;VALUE=DATE:20231022
DTSTAMP:20260420T160306
CREATED:20230830T140848Z
LAST-MODIFIED:20230830T140848Z
UID:302930-1697846400-1697932799@kwhi.com
SUMMARY:17th Annual Kids Gone Fishin'
DESCRIPTION:
URL:https://kwhi.com/event/17th-annual-kids-gone-fishin/
LOCATION:Blue Bell Aquatic Center\, 1800 East Tom Green\, Brenham\, TX\, 77833\, United States
CATEGORIES:Bulletin Board
ATTACH;FMTTYPE=image/jpeg:https://kwhi.com/wp-content/uploads/2023/08/fish-school.jpg
END:VEVENT
BEGIN:VEVENT
DTSTART;VALUE=DATE:20231021
DTEND;VALUE=DATE:20231022
DTSTAMP:20260420T160306
CREATED:20230921T150409Z
LAST-MODIFIED:20230921T150409Z
UID:304529-1697846400-1697932799@kwhi.com
SUMMARY:Latium VFD Fundraiser
DESCRIPTION:Come join the Latium Volunteer Fire Department annual fundraiser on October 21st.  We will have grilled hamburgers\, homemade desserts\, ice cold drinks and good old German soda water.  Serving begins at 5pm.  Auction begins at 7pm.  We will also have a silent auction and live drawings.  If you would like to donate to the live auction\, please contact Chris at 979 277-8443\, Heather at 979 451-8269 or bring it by the station the morning of the fundraiser.  The fire department is located at 12255 FM 389\, on the corner of 389 and Sacred Hart Road.
URL:https://kwhi.com/event/latium-vfd-fundraiser/
LOCATION:Latium-Wesley-Greenvine VFD Fire Station\, 12255 FM 389\, Burton\, TX\, 77835\, United States
CATEGORIES:Bulletin Board
ATTACH;FMTTYPE=image/jpeg:https://kwhi.com/wp-content/uploads/2023/09/latium-wesley-greenvine-vfd.jpg
END:VEVENT
BEGIN:VEVENT
DTSTART;VALUE=DATE:20231021
DTEND;VALUE=DATE:20231022
DTSTAMP:20260420T160306
CREATED:20231018T133319Z
LAST-MODIFIED:20231018T133319Z
UID:306721-1697846400-1697932799@kwhi.com
SUMMARY:Lloyd Saunders Memorial Cookoff
DESCRIPTION:
URL:https://kwhi.com/event/lloyd-saunders-memorial-cookoff/
LOCATION:Washington County Expo\, 1305 E. Blue Bell Rd.\, Brenham\, TX\, 77833\, United States
CATEGORIES:Bulletin Board
ATTACH;FMTTYPE=image/jpeg:https://kwhi.com/wp-content/uploads/2023/10/lloyd-saunders-cookoff-1.jpg
END:VEVENT
BEGIN:VEVENT
DTSTART;VALUE=DATE:20231021
DTEND;VALUE=DATE:20231023
DTSTAMP:20260420T160306
CREATED:20230913T181239Z
LAST-MODIFIED:20230929T171445Z
UID:303906-1697846400-1698019199@kwhi.com
SUMMARY:Texas Arts & Music Festival
DESCRIPTION:
URL:https://kwhi.com/event/texas-arts-music-festival/
LOCATION:Downtown Brenham\, Brenham\, TX\, 77833\, United States
CATEGORIES:Bulletin Board
ATTACH;FMTTYPE=image/jpeg:https://kwhi.com/wp-content/uploads/2023/09/tx-arts-music-festival-free.jpg
END:VEVENT
BEGIN:VEVENT
DTSTART;VALUE=DATE:20231021
DTEND;VALUE=DATE:20231023
DTSTAMP:20260420T160306
CREATED:20230929T205509Z
LAST-MODIFIED:20230929T205509Z
UID:305331-1697846400-1698019199@kwhi.com
SUMMARY:Lickskillet Days
DESCRIPTION:
URL:https://kwhi.com/event/lickskillet-days/
LOCATION:on the Square (Fayetteville)\, Fayetteville\, 78940\, United States
CATEGORIES:Bulletin Board
ATTACH;FMTTYPE=image/jpeg:https://kwhi.com/wp-content/uploads/2023/09/lickskillet-oct-23.jpg
END:VEVENT
BEGIN:VEVENT
DTSTART;TZID=America/Chicago:20230114T070000
DTEND;TZID=America/Chicago:20230114T120000
DTSTAMP:20260420T160306
CREATED:20230106T161309Z
LAST-MODIFIED:20230106T161309Z
UID:283734-1673679600-1673697600@kwhi.com
SUMMARY:Burleson County Farmers' Market
DESCRIPTION:
URL:https://kwhi.com/event/burleson-county-farmers-market/
LOCATION:Downtown Caldwell\, Caldwell\, 77836\, United States
CATEGORIES:Bulletin Board
ATTACH;FMTTYPE=image/jpeg:https://kwhi.com/wp-content/uploads/2023/01/burleson-co-farmers-market.jpg
END:VEVENT
BEGIN:VEVENT
DTSTART;TZID=America/Chicago:20231021T070000
DTEND;TZID=America/Chicago:20231021T140000
DTSTAMP:20260420T160306
CREATED:20231020T140408Z
LAST-MODIFIED:20231020T140408Z
UID:306918-1697871600-1697896800@kwhi.com
SUMMARY:Household Hazardous Waste
DESCRIPTION:books & a blanket accepting new/used boos and donations for Books & a Blanket \nwww.booksandablanket.com 
URL:https://kwhi.com/event/household-hazardous-waste/
LOCATION:TAMU University Services Building\, College Station\, TX\, United States
CATEGORIES:Bulletin Board
ATTACH;FMTTYPE=image/jpeg:https://kwhi.com/wp-content/uploads/2023/10/household-haz-waste.jpg
END:VEVENT
BEGIN:VEVENT
DTSTART;TZID=America/Chicago:20231021T090000
DTEND;TZID=America/Chicago:20231021T150000
DTSTAMP:20260420T160306
CREATED:20230926T144012Z
LAST-MODIFIED:20230926T144012Z
UID:304952-1697878800-1697900400@kwhi.com
SUMMARY:Downtown Somerville Celebration
DESCRIPTION:Join the City of Somerville for the 3rd Annual Downtown Somerville Celebration. There will be music\, free pumpkin patch\, games\, shopping\, classic cars and more! The Somerville Museum will be open so come out for a day filled with FREE family fun! We are so excited to announce that we have added the music of Ricky Montijo!!! Come out and celebrate Somerville turning 110!
URL:https://kwhi.com/event/downtown-somerville-celebration-2/
LOCATION:Downtown Somerville\, TX\, 77879\, United States
CATEGORIES:Bulletin Board
ATTACH;FMTTYPE=image/jpeg:https://kwhi.com/wp-content/uploads/2023/09/somerville-celebration-oct.jpg
END:VEVENT
BEGIN:VEVENT
DTSTART;TZID=America/Chicago:20231021T100000
DTEND;TZID=America/Chicago:20231021T120000
DTSTAMP:20260420T160306
CREATED:20230927T185102Z
LAST-MODIFIED:20230927T185141Z
UID:305156-1697882400-1697889600@kwhi.com
SUMMARY:Wine Making Class offered at RT Family Library
DESCRIPTION:Registration required
URL:https://kwhi.com/event/wine-making-class-offered-at-rt-family-library/
LOCATION:Round Top Family Library\, 206 W. Mill Street\, Round Top\, TX\, 78954\, United States
CATEGORIES:Bulletin Board
ATTACH;FMTTYPE=image/jpeg:https://kwhi.com/wp-content/uploads/2023/09/rt-family-library-oct.jpg
END:VEVENT
BEGIN:VEVENT
DTSTART;TZID=America/Chicago:20231021T130000
DTEND;TZID=America/Chicago:20231021T160000
DTSTAMP:20260420T160306
CREATED:20231002T134201Z
LAST-MODIFIED:20231002T134201Z
UID:305438-1697893200-1697904000@kwhi.com
SUMMARY:Brew-Step 0.1K Saunter for a Cause
DESCRIPTION:The Zythological Society of North America\, Texas Chapter will be hosting their 2nd Annual Brewstep 0.1K – Saunter for a Cause\, on Saturday\, October 21st from 1p-4p. The Brewstep 0.1K is a whopping 328 feet that will be filled with breweries\, rest stops\, live music\, picture opportunities\, and tons of fun\, while raising money for The Blessing Box Project.\n\n\nRegistration to the event will be $40 and will include an event T-shirt\, 0.1K vehicle sticker\, souvenir tasting glass\, wrist band to sample beer\, and swag bag. Early registration will guarantee a T-shirt\, however the day of registration will be first come first served on limited t-shirts. The deadline for early registration will end on October 3rd. You can register online at www.zythological.com or at https://brewstep2023.eventbrite.com . Must be 21 with ID to receive a wristband.\n\n\nThe Zythological Society of North America\, Texas Chapter is an 501c3 organization that was established in 2015\, made up of beer brewers\, beer-aficionados\, and beer lovers who meet monthly for the responsible discussion and enjoyment of…beer. Cheers!
URL:https://kwhi.com/event/brew-step-0-1k-saunter-for-a-cause/
LOCATION:TX
CATEGORIES:Bulletin Board
ATTACH;FMTTYPE=image/jpeg:https://kwhi.com/wp-content/uploads/2023/10/brew-step-oct.jpg
END:VEVENT
BEGIN:VEVENT
DTSTART;TZID=America/Chicago:20231021T193000
DTEND;TZID=America/Chicago:20231021T220000
DTSTAMP:20260420T160306
CREATED:20230920T132358Z
LAST-MODIFIED:20230920T132358Z
UID:304377-1697916600-1697925600@kwhi.com
SUMMARY:Brenham Junior High Homecoming Dance
DESCRIPTION:
URL:https://kwhi.com/event/brenham-junior-high-homecoming-dance/
LOCATION:Brenham Junior High School Gym\, 1200 Carlee St.\, Brenham\, TX\, 77833\, United States
CATEGORIES:Bulletin Board
ATTACH;FMTTYPE=image/jpeg:https://kwhi.com/wp-content/uploads/2023/09/bjh-dance.jpg
END:VEVENT
END:VCALENDAR