BEGIN:VCALENDAR
VERSION:2.0
PRODID:-//KWHI.com - ECPv6.15.17.1//NONSGML v1.0//EN
CALSCALE:GREGORIAN
METHOD:PUBLISH
X-WR-CALNAME:KWHI.com
X-ORIGINAL-URL:https://kwhi.com
X-WR-CALDESC:Events for KWHI.com
REFRESH-INTERVAL;VALUE=DURATION:PT1H
X-Robots-Tag:noindex
X-PUBLISHED-TTL:PT1H
BEGIN:VTIMEZONE
TZID:America/Chicago
BEGIN:DAYLIGHT
TZOFFSETFROM:-0600
TZOFFSETTO:-0500
TZNAME:CDT
DTSTART:20220313T080000
END:DAYLIGHT
BEGIN:STANDARD
TZOFFSETFROM:-0500
TZOFFSETTO:-0600
TZNAME:CST
DTSTART:20221106T070000
END:STANDARD
BEGIN:DAYLIGHT
TZOFFSETFROM:-0600
TZOFFSETTO:-0500
TZNAME:CDT
DTSTART:20230312T080000
END:DAYLIGHT
BEGIN:STANDARD
TZOFFSETFROM:-0500
TZOFFSETTO:-0600
TZNAME:CST
DTSTART:20231105T070000
END:STANDARD
BEGIN:DAYLIGHT
TZOFFSETFROM:-0600
TZOFFSETTO:-0500
TZNAME:CDT
DTSTART:20240310T080000
END:DAYLIGHT
BEGIN:STANDARD
TZOFFSETFROM:-0500
TZOFFSETTO:-0600
TZNAME:CST
DTSTART:20241103T070000
END:STANDARD
BEGIN:DAYLIGHT
TZOFFSETFROM:-0600
TZOFFSETTO:-0500
TZNAME:CDT
DTSTART:20250309T080000
END:DAYLIGHT
BEGIN:STANDARD
TZOFFSETFROM:-0500
TZOFFSETTO:-0600
TZNAME:CST
DTSTART:20251102T070000
END:STANDARD
END:VTIMEZONE
BEGIN:VEVENT
DTSTART;VALUE=DATE:20231207
DTEND;VALUE=DATE:20240112
DTSTAMP:20260422T182600
CREATED:20231207T212416Z
LAST-MODIFIED:20231222T212936Z
UID:310600-1701907200-1705017599@kwhi.com
SUMMARY:Washington County Chamber Seeking Award Nominations
DESCRIPTION:The Washington County Chamber of Commerce is now accepting nominations for: \n\n2023 Man and Woman of the Year\n2023 Business of the Year\n2023 New Business of the Year\n2023 Non-Profit of the Year\n\nReturn completed form(s) by January 11th\, 2024 to the Chamber office (314 S. Austin Street\, Brenham) or via email to: mandy@brenhamtexas.com
URL:https://kwhi.com/event/washington-county-chamber-seeking-award-nominations/
LOCATION:TX
CATEGORIES:Bulletin Board
ATTACH;FMTTYPE=image/jpeg:https://kwhi.com/wp-content/uploads/2023/12/best-of-the-best.jpg
END:VEVENT
BEGIN:VEVENT
DTSTART;VALUE=DATE:20231229
DTEND;VALUE=DATE:20240118
DTSTAMP:20260422T182600
CREATED:20231229T220329Z
LAST-MODIFIED:20231229T220329Z
UID:311929-1703808000-1705535999@kwhi.com
SUMMARY:Washington County 4-H Photography Contest
DESCRIPTION:The Texas 4-H Photography Contest encourages self-expression and allows youth to demonstrate skills learned in the area of photography\, including the use of photographic equipment and process of photographs
URL:https://kwhi.com/event/washington-county-4-h-photography-contest/
LOCATION:TX
CATEGORIES:Bulletin Board
ATTACH;FMTTYPE=image/jpeg:https://kwhi.com/wp-content/uploads/2023/12/wc-photography-contest.jpg
END:VEVENT
BEGIN:VEVENT
DTSTART;VALUE=DATE:20231229
DTEND;VALUE=DATE:20240126
DTSTAMP:20260422T182600
CREATED:20231229T144857Z
LAST-MODIFIED:20231229T144857Z
UID:311893-1703808000-1706227199@kwhi.com
SUMMARY:Washington EEA 4-H Scholarships Offered
DESCRIPTION:
URL:https://kwhi.com/event/washington-eea-4-h-scholarships-offered/
LOCATION:TX
CATEGORIES:Bulletin Board
ATTACH;FMTTYPE=image/jpeg:https://kwhi.com/wp-content/uploads/2023/12/2024-WEEA-Scholarship-Flyer-002.jpg
END:VEVENT
BEGIN:VEVENT
DTSTART;VALUE=DATE:20240101
DTEND;VALUE=DATE:20240201
DTSTAMP:20260422T182600
CREATED:20231213T210417Z
LAST-MODIFIED:20231213T210417Z
UID:311046-1704067200-1706745599@kwhi.com
SUMMARY:Washington County A&M Club Membership Drive
DESCRIPTION:
URL:https://kwhi.com/event/washington-county-am-club-membership-drive/
LOCATION:TX
CATEGORIES:Bulletin Board
ATTACH;FMTTYPE=image/png:https://kwhi.com/wp-content/uploads/2023/12/membership-drive-aggie-supporters.png
END:VEVENT
BEGIN:VEVENT
DTSTART;VALUE=DATE:20240104
DTEND;VALUE=DATE:20240120
DTSTAMP:20260422T182600
CREATED:20240104T150445Z
LAST-MODIFIED:20240104T150445Z
UID:312250-1704326400-1705708799@kwhi.com
SUMMARY:Government-in-Action Youth Tour
DESCRIPTION:Government-in-Action Youth Tour: Washington\, D.C. tour and $1\,000 scholarship for high school students. Applications will open on Nov. 1\, 2023\, and will close on Jan. 19\, 2024.  Fill out application online at bluebonnet.coop/scholarships \n 
URL:https://kwhi.com/event/government-in-action-youth-tour/
LOCATION:TX
CATEGORIES:Bulletin Board
ATTACH;FMTTYPE=image/jpeg:https://kwhi.com/wp-content/uploads/2024/01/bluebonnet-gov-tour.jpg
END:VEVENT
BEGIN:VEVENT
DTSTART;VALUE=DATE:20240108
DTEND;VALUE=DATE:20240109
DTSTAMP:20260422T182600
CREATED:20231229T212311Z
LAST-MODIFIED:20231229T212311Z
UID:311926-1704672000-1704758399@kwhi.com
SUMMARY:Washington County Genealogical Society Meeting
DESCRIPTION:Washington County Genealogical Society meeting will be held Monday\, January 8\, 12:45pm at Nancy Carol Roberts Memorial Library.  The program for the meeting will be presented by Tammy Brauner\, District Clerk of Washington County.  Please note the time change.  The public is invited.
URL:https://kwhi.com/event/washington-county-genealogical-society-meeting-12/
LOCATION:Nancy Carol Roberts Memorial Library\, 100 W. Martin Luther King Jr. Pky\, Brenham\, TX\, 77833\, United States
CATEGORIES:Bulletin Board
ATTACH;FMTTYPE=image/jpeg:https://kwhi.com/wp-content/uploads/2023/11/wc-genealogical-society-1.jpg
END:VEVENT
BEGIN:VEVENT
DTSTART;TZID=America/Chicago:20231023T090000
DTEND;TZID=America/Chicago:20231023T150000
DTSTAMP:20260422T182600
CREATED:20231017T192148Z
LAST-MODIFIED:20231017T192148Z
UID:306676-1698051600-1698073200@kwhi.com
SUMMARY:Mobile Clinic on Site
DESCRIPTION:
URL:https://kwhi.com/event/mobile-clinic-on-site/
LOCATION:TX
CATEGORIES:Bulletin Board
ATTACH;FMTTYPE=image/jpeg:https://kwhi.com/wp-content/uploads/2023/10/tx-am-school-of-nursing.jpg
END:VEVENT
END:VCALENDAR