BEGIN:VCALENDAR
VERSION:2.0
PRODID:-//KWHI.com - ECPv6.15.17.1//NONSGML v1.0//EN
CALSCALE:GREGORIAN
METHOD:PUBLISH
X-ORIGINAL-URL:https://kwhi.com
X-WR-CALDESC:Events for KWHI.com
REFRESH-INTERVAL;VALUE=DURATION:PT1H
X-Robots-Tag:noindex
X-PUBLISHED-TTL:PT1H
BEGIN:VTIMEZONE
TZID:America/Chicago
BEGIN:DAYLIGHT
TZOFFSETFROM:-0600
TZOFFSETTO:-0500
TZNAME:CDT
DTSTART:20230312T080000
END:DAYLIGHT
BEGIN:STANDARD
TZOFFSETFROM:-0500
TZOFFSETTO:-0600
TZNAME:CST
DTSTART:20231105T070000
END:STANDARD
BEGIN:DAYLIGHT
TZOFFSETFROM:-0600
TZOFFSETTO:-0500
TZNAME:CDT
DTSTART:20240310T080000
END:DAYLIGHT
BEGIN:STANDARD
TZOFFSETFROM:-0500
TZOFFSETTO:-0600
TZNAME:CST
DTSTART:20241103T070000
END:STANDARD
BEGIN:DAYLIGHT
TZOFFSETFROM:-0600
TZOFFSETTO:-0500
TZNAME:CDT
DTSTART:20250309T080000
END:DAYLIGHT
BEGIN:STANDARD
TZOFFSETFROM:-0500
TZOFFSETTO:-0600
TZNAME:CST
DTSTART:20251102T070000
END:STANDARD
END:VTIMEZONE
BEGIN:VEVENT
DTSTART;VALUE=DATE:20240201
DTEND;VALUE=DATE:20240302
DTSTAMP:20260422T040606
CREATED:20240110T145023Z
LAST-MODIFIED:20240110T145023Z
UID:312680-1706745600-1709337599@kwhi.com
SUMMARY:Spring Tomato and Pepper Plant Sale
DESCRIPTION:
URL:https://kwhi.com/event/spring-tomato-and-pepper-plant-sale/
LOCATION:Texas A&M AgriLife Extension (Washington County)\, 1305 East Blue Bell Road\, Brenham\, TX\, 77833\, United States
CATEGORIES:Bulletin Board
ATTACH;FMTTYPE=image/jpeg:https://kwhi.com/wp-content/uploads/2024/01/tomato-pepper-plant-sale-2024.jpg
END:VEVENT
BEGIN:VEVENT
DTSTART;VALUE=DATE:20240201
DTEND;VALUE=DATE:20240316
DTSTAMP:20260422T040606
CREATED:20240118T143735Z
LAST-MODIFIED:20240118T143735Z
UID:313382-1706745600-1710547199@kwhi.com
SUMMARY:Washington County Fair Scholarship Program
DESCRIPTION:The 2024 Washington County Fair Scholarship Application is now open! Updated guidelines and application can be found on our website! >> http://tinyurl.com/k2apkhyz
URL:https://kwhi.com/event/washington-county-fair-scholarship-program/
CATEGORIES:Bulletin Board
ATTACH;FMTTYPE=image/jpeg:https://kwhi.com/wp-content/uploads/2024/01/wcf-scholarships.jpg
END:VEVENT
BEGIN:VEVENT
DTSTART;VALUE=DATE:20240205
DTEND;VALUE=DATE:20240301
DTSTAMP:20260422T040606
CREATED:20240205T223432Z
LAST-MODIFIED:20240205T223432Z
UID:315216-1707091200-1709251199@kwhi.com
SUMMARY:Washington County A&M Club Sponsorship Drive
DESCRIPTION:
URL:https://kwhi.com/event/washington-county-am-club-sponsorship-drive/
CATEGORIES:Bulletin Board
ATTACH;FMTTYPE=image/png:https://kwhi.com/wp-content/uploads/2024/02/wc-am-club-sponsorships.png
END:VEVENT
BEGIN:VEVENT
DTSTART;VALUE=DATE:20240208
DTEND;VALUE=DATE:20240226
DTSTAMP:20260422T040606
CREATED:20240117T214527Z
LAST-MODIFIED:20240117T214527Z
UID:313329-1707350400-1708905599@kwhi.com
SUMMARY:Unity Theatre presents "The Crucible"
DESCRIPTION:In the spring of 1682 a Salem village reverend discovers a group of teenage girls dancing around a fire in the woods. When his daughter exhibits strange symptoms the next morning\, the town becomes frenzied with talk of witchcraft.  Neighbor is pitted against neighbor and the deeply religious community is torn apart. The Crucible is a timeless parable about morality and the consequences when fear takes root in a community. The play won the 1953 Tony Award for Best Play and is considered a landmark work in the canon of American drama.
URL:https://kwhi.com/event/unity-theatre-presents-the-crucible/
LOCATION:Unity Theatre\, 300 Church Street\, Brenham\, TX\, 77833\, United States
CATEGORIES:Bulletin Board
ATTACH;FMTTYPE=image/jpeg:https://kwhi.com/wp-content/uploads/2024/01/the-crucible.jpg
END:VEVENT
BEGIN:VEVENT
DTSTART;VALUE=DATE:20240219
DTEND;VALUE=DATE:20240225
DTSTAMP:20260422T040606
CREATED:20231121T212609Z
LAST-MODIFIED:20240206T143757Z
UID:309492-1708300800-1708819199@kwhi.com
SUMMARY:Fortnightly Club Used Book Sale
DESCRIPTION:
URL:https://kwhi.com/event/annual-used-book-sale/
LOCATION:Washington County Expo\, 1305 E. Blue Bell Rd.\, Brenham\, TX\, 77833\, United States
CATEGORIES:Bulletin Board
ATTACH;FMTTYPE=image/jpeg:https://kwhi.com/wp-content/uploads/2023/11/fortnightly-cl-used-book-sale.jpg
END:VEVENT
BEGIN:VEVENT
DTSTART;VALUE=DATE:20240221
DTEND;VALUE=DATE:20240302
DTSTAMP:20260422T040606
CREATED:20240221T144609Z
LAST-MODIFIED:20240221T144609Z
UID:316877-1708473600-1709337599@kwhi.com
SUMMARY:Spring Eggs Art Walk
DESCRIPTION:Registration deadline is March 1\, 2024
URL:https://kwhi.com/event/spring-eggs-art-walk/
CATEGORIES:Bulletin Board
ATTACH;FMTTYPE=image/jpeg:https://kwhi.com/wp-content/uploads/2024/02/Spring-Egg-Art-Walk-345.jpg
END:VEVENT
BEGIN:VEVENT
DTSTART;VALUE=DATE:20240223
DTEND;VALUE=DATE:20240225
DTSTAMP:20260422T040606
CREATED:20240126T214913Z
LAST-MODIFIED:20240126T214913Z
UID:314269-1708646400-1708819199@kwhi.com
SUMMARY:Best Little Quilt Show in Texas (LaGrange)
DESCRIPTION:
URL:https://kwhi.com/event/best-little-quilt-show-in-texas-lagrange/
LOCATION:LaGrange Community Center (KC Hall)\, 190 S. Brown Street\, La Grange\, TX\, 78945\, United States
CATEGORIES:Bulletin Board
ATTACH;FMTTYPE=image/png:https://kwhi.com/wp-content/uploads/2024/01/best-little-qult-show-feb.png
END:VEVENT
BEGIN:VEVENT
DTSTART;VALUE=DATE:20240223
DTEND;VALUE=DATE:20240225
DTSTAMP:20260422T040606
CREATED:20240215T203531Z
LAST-MODIFIED:20240215T203531Z
UID:316373-1708646400-1708819199@kwhi.com
SUMMARY:Elk 979 Sweetheart Garage Sale
DESCRIPTION:
URL:https://kwhi.com/event/elk-979-sweetheart-garage-sale/
LOCATION:Brenham Elks Lodge 979\, 400 East Germania\, Brenham\, TX\, 77833\, United States
CATEGORIES:Bulletin Board
ATTACH;FMTTYPE=image/jpeg:https://kwhi.com/wp-content/uploads/2024/02/elk-979-sweetheart-gs.jpg
END:VEVENT
BEGIN:VEVENT
DTSTART;VALUE=DATE:20240224
DTEND;VALUE=DATE:20240225
DTSTAMP:20260422T040606
CREATED:20240117T143136Z
LAST-MODIFIED:20240117T143136Z
UID:313258-1708732800-1708819199@kwhi.com
SUMMARY:Western Dance (Snook)
DESCRIPTION:
URL:https://kwhi.com/event/western-dance-snook/
CATEGORIES:Bulletin Board
ATTACH;FMTTYPE=image/jpeg:https://kwhi.com/wp-content/uploads/2024/01/western-dance-snook.jpg
END:VEVENT
BEGIN:VEVENT
DTSTART;VALUE=DATE:20240224
DTEND;VALUE=DATE:20240225
DTSTAMP:20260422T040606
CREATED:20240207T181254Z
LAST-MODIFIED:20240207T181254Z
UID:315462-1708732800-1708819199@kwhi.com
SUMMARY:Private Film Screening of "Who Said You Can't"
DESCRIPTION:
URL:https://kwhi.com/event/private-film-screening-of-who-said-you-cant/
LOCATION:Navasota Public Library\, 1411 E. Washington Ave.\, Navasota\, TX\, 77868\, United States
CATEGORIES:Bulletin Board
ATTACH;FMTTYPE=image/jpeg:https://kwhi.com/wp-content/uploads/2024/02/who-said.jpg
END:VEVENT
BEGIN:VEVENT
DTSTART;VALUE=DATE:20240224
DTEND;VALUE=DATE:20240225
DTSTAMP:20260422T040606
CREATED:20240212T225211Z
LAST-MODIFIED:20240212T225211Z
UID:315984-1708732800-1708819199@kwhi.com
SUMMARY:Lee County Little League Crawfish Boil
DESCRIPTION:
URL:https://kwhi.com/event/lee-county-little-league-crawfish-boil/
LOCATION:The Silos on 77\, 1031 CR 223\, Giddings\, TX\, 78942\, United States
CATEGORIES:Bulletin Board
ATTACH;FMTTYPE=image/png:https://kwhi.com/wp-content/uploads/2024/02/crawfish-boil-the-silos.png
END:VEVENT
BEGIN:VEVENT
DTSTART;VALUE=DATE:20240224
DTEND;VALUE=DATE:20240225
DTSTAMP:20260422T040606
CREATED:20240214T225226Z
LAST-MODIFIED:20240214T225226Z
UID:316248-1708732800-1708819199@kwhi.com
SUMMARY:Chamber Ribbon Cutting-Bridge Ministry of Burton Texas (furniture building)
DESCRIPTION:
URL:https://kwhi.com/event/chamber-ribbon-cutting-bridge-ministry-of-burton-texas-furniture-building/
LOCATION:Bridge Ministry of Burton Texas (furniture building at Corner Shoppe)\, 307 North Brazos St.\, Burton\, TX\, 77835\, United States
CATEGORIES:Bulletin Board
ATTACH;FMTTYPE=image/jpeg:https://kwhi.com/wp-content/uploads/2024/02/ribbon-cut-feb-24.jpg
END:VEVENT
BEGIN:VEVENT
DTSTART;TZID=America/Chicago:20240224T090000
DTEND;TZID=America/Chicago:20240224T130000
DTSTAMP:20260422T040606
CREATED:20240215T203347Z
LAST-MODIFIED:20240215T203347Z
UID:316370-1708765200-1708779600@kwhi.com
SUMMARY:Special Olympics Basketball Skills Event
DESCRIPTION:
URL:https://kwhi.com/event/special-olympics-basketball-skills-event/
LOCATION:Brenham Early Childhood Learning Center\, 304 Kerr Street\, Brenham\, TX\, 77833\, United States
CATEGORIES:Bulletin Board
ATTACH;FMTTYPE=image/jpeg:https://kwhi.com/wp-content/uploads/2024/02/special-olympics-BB.jpg
END:VEVENT
END:VCALENDAR