BEGIN:VCALENDAR
VERSION:2.0
PRODID:-//KWHI.com - ECPv6.15.17.1//NONSGML v1.0//EN
CALSCALE:GREGORIAN
METHOD:PUBLISH
X-ORIGINAL-URL:https://kwhi.com
X-WR-CALDESC:Events for KWHI.com
REFRESH-INTERVAL;VALUE=DURATION:PT1H
X-Robots-Tag:noindex
X-PUBLISHED-TTL:PT1H
BEGIN:VTIMEZONE
TZID:America/Chicago
BEGIN:DAYLIGHT
TZOFFSETFROM:-0600
TZOFFSETTO:-0500
TZNAME:CDT
DTSTART:20230312T080000
END:DAYLIGHT
BEGIN:STANDARD
TZOFFSETFROM:-0500
TZOFFSETTO:-0600
TZNAME:CST
DTSTART:20231105T070000
END:STANDARD
BEGIN:DAYLIGHT
TZOFFSETFROM:-0600
TZOFFSETTO:-0500
TZNAME:CDT
DTSTART:20240310T080000
END:DAYLIGHT
BEGIN:STANDARD
TZOFFSETFROM:-0500
TZOFFSETTO:-0600
TZNAME:CST
DTSTART:20241103T070000
END:STANDARD
BEGIN:DAYLIGHT
TZOFFSETFROM:-0600
TZOFFSETTO:-0500
TZNAME:CDT
DTSTART:20250309T080000
END:DAYLIGHT
BEGIN:STANDARD
TZOFFSETFROM:-0500
TZOFFSETTO:-0600
TZNAME:CST
DTSTART:20251102T070000
END:STANDARD
END:VTIMEZONE
BEGIN:VEVENT
DTSTART;VALUE=DATE:20240315
DTEND;VALUE=DATE:20240518
DTSTAMP:20260422T100439
CREATED:20240314T141722Z
LAST-MODIFIED:20240314T141722Z
UID:318880-1710460800-1715990399@kwhi.com
SUMMARY:Lifeguard Classes Offered at BBAC
DESCRIPTION:LIFEGUARD CLASSES \nAre you looking for a flexible job\, that is understanding of school\, sports and family? Are you looking to make a difference in the community? Want to learn how to save lives? Apply today to be a lifeguard at jobs.cityofbrenham.org. We train you for FREE!! \nUpcoming Lifeguard Classes: \nSession 2 │ March 15 - 17 9:00 am - 4:00 pm \nSession 3 │ April 12 5:00 - 9:00pm │ April 13 & 14 9:00 am - 5:00 pm \nSession 4 │ April 26 5:00 - 9:00pm │ April 27 & 28 9:00 am - 5:00 pm \nSession 5 │ May 17 5:00 - 9:00pm │ May 18 & 19 9:00 am - 5:00 pm \n#BBACteam #BBACfun #LifeguardsHaveMoreFun #ParksandRecreation #CityofBrenham
URL:https://kwhi.com/event/lifeguard-classes-offered-at-bbac/
LOCATION:Blue Bell Aquatic Center\, 1800 East Tom Green\, Brenham\, TX\, 77833\, United States
CATEGORIES:Bulletin Board
ATTACH;FMTTYPE=image/jpeg:https://kwhi.com/wp-content/uploads/2024/03/bbac-lifeguards.jpg
END:VEVENT
BEGIN:VEVENT
DTSTART;VALUE=DATE:20240405
DTEND;VALUE=DATE:20240501
DTSTAMP:20260422T100439
CREATED:20240405T135234Z
LAST-MODIFIED:20240405T135234Z
UID:320643-1712275200-1714521599@kwhi.com
SUMMARY:Downtown Brenham's Peanut Butter & Jam Drive
DESCRIPTION:drop off unopened jars of any peanut butter and or jelly at participating downtown Brenham locations
URL:https://kwhi.com/event/downtown-brenhams-peanut-butter-jam-drive/
LOCATION:Downtown Brenham\, Brenham\, TX\, 77833\, United States
CATEGORIES:Bulletin Board
ATTACH;FMTTYPE=image/jpeg:https://kwhi.com/wp-content/uploads/2024/04/PBJ.jpg
END:VEVENT
BEGIN:VEVENT
DTSTART;VALUE=DATE:20240409
DTEND;VALUE=DATE:20240602
DTSTAMP:20260422T100439
CREATED:20240409T152337Z
LAST-MODIFIED:20240409T152337Z
UID:320994-1712620800-1717286399@kwhi.com
SUMMARY:Senior Fan Drive
DESCRIPTION:
URL:https://kwhi.com/event/senior-fan-drive-2/
LOCATION:Brenham Nursing and Rehabilitation Center\, 400 E. Sayles St.\, Brenham\, TX\, 77833\, United States
CATEGORIES:Bulletin Board
ATTACH;FMTTYPE=image/jpeg:https://kwhi.com/wp-content/uploads/2024/04/senior-fan-drive.jpg
END:VEVENT
BEGIN:VEVENT
DTSTART;VALUE=DATE:20240411
DTEND;VALUE=DATE:20240501
DTSTAMP:20260422T100439
CREATED:20240411T201602Z
LAST-MODIFIED:20240411T201602Z
UID:321232-1712793600-1714521599@kwhi.com
SUMMARY:Austin Co. Feral Hog Bounty Program
DESCRIPTION:
URL:https://kwhi.com/event/austin-co-feral-hog-bounty-program/
CATEGORIES:Bulletin Board
ATTACH;FMTTYPE=image/jpeg:https://kwhi.com/wp-content/uploads/2024/04/ac-Feral-Hog-Bounty-Flier-003.jpg
END:VEVENT
BEGIN:VEVENT
DTSTART;VALUE=DATE:20240417
DTEND;VALUE=DATE:20240501
DTSTAMP:20260422T100439
CREATED:20240417T201538Z
LAST-MODIFIED:20240417T201538Z
UID:321751-1713312000-1714521599@kwhi.com
SUMMARY:Brenham Trails Resident spearhead Benefit Fundraiser
DESCRIPTION:
URL:https://kwhi.com/event/brenham-trails-resident-spearhead-benefit-fundraiser/
CATEGORIES:Bulletin Board
ATTACH;FMTTYPE=image/jpeg:https://kwhi.com/wp-content/uploads/2024/04/brenham-trails-benefit-fundraiser.jpg
END:VEVENT
BEGIN:VEVENT
DTSTART;VALUE=DATE:20240112
DTEND;VALUE=DATE:20240113
DTSTAMP:20260422T100439
CREATED:20240105T183022Z
LAST-MODIFIED:20240105T192101Z
UID:312366-1705017600-1705103999@kwhi.com
SUMMARY:Brenham Elks Friday Night Steak Dinner
DESCRIPTION:The weekly Friday night steak dinner begins at 6:30 PM at Brenham Elks Lodge #979\, with all members and guests invited\n- 16 oz Boneless Ribeye with Baked Potato\, Salad\, and Dessert\n- Chef's Choice: Pork & Beef Stew with cornbread\, salad and dessert
URL:https://kwhi.com/event/brenham-elks-friday-night-steak-dinner/
LOCATION:Brenham Elks Lodge 979\, 400 East Germania\, Brenham\, TX\, 77833\, United States
CATEGORIES:Bulletin Board
ATTACH;FMTTYPE=image/jpeg:https://kwhi.com/wp-content/uploads/2024/01/elks-steak-supper-24.jpg
END:VEVENT
BEGIN:VEVENT
DTSTART;VALUE=DATE:20240419
DTEND;VALUE=DATE:20240420
DTSTAMP:20260422T100439
CREATED:20240314T144048Z
LAST-MODIFIED:20240314T144048Z
UID:318895-1713484800-1713571199@kwhi.com
SUMMARY:Chappell Hill Chamber of Commerce Recognition Banquet
DESCRIPTION:Mark your calendars…for the Chappell Hill Chamber of Commerce Annual Recognition Banquet on Friday\, April 19\, 2024! Join us in the fun\, and cheer on our Man of the Year\, Woman of the Year and Business of the Year! Denim & Diamonds in Chappell Hill! Great food\, fellowship and amazing drawing items and more! You don’t want to miss this annual event in Chappell Hill! Stay tuned for more details. #annualrecognitionbanquet
URL:https://kwhi.com/event/chappell-hill-chamber-of-commerce-recognition-banquet/
CATEGORIES:Bulletin Board
ATTACH;FMTTYPE=image/jpeg:https://kwhi.com/wp-content/uploads/2024/03/denim-and-diamonds-april.jpg
END:VEVENT
BEGIN:VEVENT
DTSTART;VALUE=DATE:20240419
DTEND;VALUE=DATE:20240420
DTSTAMP:20260422T100439
CREATED:20240410T203428Z
LAST-MODIFIED:20240410T203428Z
UID:321116-1713484800-1713571199@kwhi.com
SUMMARY:Brenham Belles Spring Show
DESCRIPTION:
URL:https://kwhi.com/event/brenham-belles-spring-show/
LOCATION:Brenham High School Auditorium\, 525 A H Ehrig Drive \, Brenham\, TX\, 77833\, United States
CATEGORIES:Bulletin Board
ATTACH;FMTTYPE=image/jpeg:https://kwhi.com/wp-content/uploads/2024/04/belles-great-american-tour.jpg
END:VEVENT
BEGIN:VEVENT
DTSTART;VALUE=DATE:20240419
DTEND;VALUE=DATE:20240420
DTSTAMP:20260422T100439
CREATED:20240418T204509Z
LAST-MODIFIED:20240418T204509Z
UID:321865-1713484800-1713571199@kwhi.com
SUMMARY:Brenham Pregnancy Center Open House
DESCRIPTION:The Brenham Pregnancy Center is inviting the public to Open House on Friday morning\, April 19.  Starting at 10am\, visitors will be able to take tours of their facility\, which is located at 1016 East Blue Bell Road.  The Brenham Pregnancy Center is a tax-exempt organization that offers free pregnancy services to those who need them.  Services that they offer include: pregnancy testing\, options counseling\, parenting classes\, childbirth classes\, counseling for men\, and an after-abortion support group. \nFor more information\, visit www.brenhampregnancycenter.org\, or the Brenham Pregnancy Center Facebook Page.
URL:https://kwhi.com/event/brenham-pregnancy-center-open-house/
LOCATION:Brenham Pregnancy Center\, 1016 E. Blue Bell Rd.\, Brenham\, TX\, 77833\, United States
CATEGORIES:Bulletin Board
ATTACH;FMTTYPE=image/jpeg:https://kwhi.com/wp-content/uploads/2024/04/BrenhamPregnancyCenterLogoFeature.jpg
END:VEVENT
BEGIN:VEVENT
DTSTART;VALUE=DATE:20240419
DTEND;VALUE=DATE:20240421
DTSTAMP:20260422T100439
CREATED:20231120T193515Z
LAST-MODIFIED:20231120T193515Z
UID:309425-1713484800-1713657599@kwhi.com
SUMMARY:Texas Assoc. of First Responders Wild Game Cook-Off
DESCRIPTION:
URL:https://kwhi.com/event/texas-assoc-of-first-responders-wild-game-cook-off/
LOCATION:Waller County Fairgrounds\, 21988 FM-359\, Hempstead\, TX\, 77445\, United States
CATEGORIES:Bulletin Board
ATTACH;FMTTYPE=image/jpeg:https://kwhi.com/wp-content/uploads/2023/11/ta-first-responders-wild-game-24.jpg
END:VEVENT
BEGIN:VEVENT
DTSTART;VALUE=DATE:20240419
DTEND;VALUE=DATE:20240421
DTSTAMP:20260422T100439
CREATED:20240322T201850Z
LAST-MODIFIED:20240322T201850Z
UID:319628-1713484800-1713657599@kwhi.com
SUMMARY:Rodeo Giddings
DESCRIPTION:
URL:https://kwhi.com/event/rodeo-giddings-2/
LOCATION:LCSP Covered Arena\, 2591 West Hwy 290\, Giddings\, TX\, 78942\, United States
CATEGORIES:Bulletin Board
ATTACH;FMTTYPE=image/png:https://kwhi.com/wp-content/uploads/2024/03/rodeo-giddings-april-19-20.png
END:VEVENT
BEGIN:VEVENT
DTSTART;VALUE=DATE:20240419
DTEND;VALUE=DATE:20240421
DTSTAMP:20260422T100439
CREATED:20240402T185522Z
LAST-MODIFIED:20240402T185522Z
UID:320386-1713484800-1713657599@kwhi.com
SUMMARY:Fayette County Sheriff's Posse Ram Rodeo
DESCRIPTION:
URL:https://kwhi.com/event/fayette-county-sheriffs-posse-ram-rodeo-2/
LOCATION:Fayette County Fairgrounds\, 400 Fair Grounds\, La Grange\, TX\, 78945\, United States
CATEGORIES:Bulletin Board
ATTACH;FMTTYPE=image/jpeg:https://kwhi.com/wp-content/uploads/2024/04/ram-rodeo-2024.jpg
END:VEVENT
BEGIN:VEVENT
DTSTART;VALUE=DATE:20240419
DTEND;VALUE=DATE:20240421
DTSTAMP:20260422T100439
CREATED:20240411T210322Z
LAST-MODIFIED:20240411T210322Z
UID:321238-1713484800-1713657599@kwhi.com
SUMMARY:Brenham Firefighters two-day Blood Drive
DESCRIPTION:There will be coffee and donuts all day with a light lunch being served from 11am to 2pm.  You will receive a Limited Edition Umbrella for all successful donations.  While an appointment is not necessary\, it is highly encouraged.  For appointments\, visit www.giveblood.org and enter Sponsor Code L126; or your can call Rob Aguilar at 979 451-2612.  You may complete your health history questionnaire the day of you donation online at CFL Express at the email address above.\nEat\, Drink\, and Bring your I.D.\n                                Give the Gift of Life
URL:https://kwhi.com/event/brenham-firefighters-two-day-blood-drive/
LOCATION:Calvary Baptist Church Fellowship Hall (Brenham)\, 1100 Niebuhr Street\, Brenham\, TX\, 77833\, United States
CATEGORIES:Bulletin Board
ATTACH;FMTTYPE=image/png:https://kwhi.com/wp-content/uploads/2024/04/blood-drive-apr-19-20.png
END:VEVENT
BEGIN:VEVENT
DTSTART;VALUE=DATE:20240419
DTEND;VALUE=DATE:20240421
DTSTAMP:20260422T100439
CREATED:20240416T205242Z
LAST-MODIFIED:20240416T205242Z
UID:321642-1713484800-1713657599@kwhi.com
SUMMARY:Christian Women Connection Prayer Retreat
DESCRIPTION:Pre-registration is encouraged for planning purposes\, registration on site will be accepted.
URL:https://kwhi.com/event/christian-women-connection-prayer-retreat/
LOCATION:New Life Church of God (Brenham)\, 1990 Farm to Market 389\, Brenham\, TX\, 77833\, United States
CATEGORIES:Bulletin Board
ATTACH;FMTTYPE=image/jpeg:https://kwhi.com/wp-content/uploads/2024/04/REFRESH.jpg
END:VEVENT
END:VCALENDAR