BEGIN:VCALENDAR
VERSION:2.0
PRODID:-//KWHI.com - ECPv6.15.17.1//NONSGML v1.0//EN
CALSCALE:GREGORIAN
METHOD:PUBLISH
X-ORIGINAL-URL:https://kwhi.com
X-WR-CALDESC:Events for KWHI.com
REFRESH-INTERVAL;VALUE=DURATION:PT1H
X-Robots-Tag:noindex
X-PUBLISHED-TTL:PT1H
BEGIN:VTIMEZONE
TZID:America/Chicago
BEGIN:DAYLIGHT
TZOFFSETFROM:-0600
TZOFFSETTO:-0500
TZNAME:CDT
DTSTART:20220313T080000
END:DAYLIGHT
BEGIN:STANDARD
TZOFFSETFROM:-0500
TZOFFSETTO:-0600
TZNAME:CST
DTSTART:20221106T070000
END:STANDARD
BEGIN:DAYLIGHT
TZOFFSETFROM:-0600
TZOFFSETTO:-0500
TZNAME:CDT
DTSTART:20230312T080000
END:DAYLIGHT
BEGIN:STANDARD
TZOFFSETFROM:-0500
TZOFFSETTO:-0600
TZNAME:CST
DTSTART:20231105T070000
END:STANDARD
BEGIN:DAYLIGHT
TZOFFSETFROM:-0600
TZOFFSETTO:-0500
TZNAME:CDT
DTSTART:20240310T080000
END:DAYLIGHT
BEGIN:STANDARD
TZOFFSETFROM:-0500
TZOFFSETTO:-0600
TZNAME:CST
DTSTART:20241103T070000
END:STANDARD
BEGIN:DAYLIGHT
TZOFFSETFROM:-0600
TZOFFSETTO:-0500
TZNAME:CDT
DTSTART:20250309T080000
END:DAYLIGHT
BEGIN:STANDARD
TZOFFSETFROM:-0500
TZOFFSETTO:-0600
TZNAME:CST
DTSTART:20251102T070000
END:STANDARD
END:VTIMEZONE
BEGIN:VEVENT
DTSTART;VALUE=DATE:20240315
DTEND;VALUE=DATE:20240518
DTSTAMP:20260422T223828
CREATED:20240314T141722Z
LAST-MODIFIED:20240314T141722Z
UID:318880-1710460800-1715990399@kwhi.com
SUMMARY:Lifeguard Classes Offered at BBAC
DESCRIPTION:LIFEGUARD CLASSES \nAre you looking for a flexible job\, that is understanding of school\, sports and family? Are you looking to make a difference in the community? Want to learn how to save lives? Apply today to be a lifeguard at jobs.cityofbrenham.org. We train you for FREE!! \nUpcoming Lifeguard Classes: \nSession 2 │ March 15 - 17 9:00 am - 4:00 pm \nSession 3 │ April 12 5:00 - 9:00pm │ April 13 & 14 9:00 am - 5:00 pm \nSession 4 │ April 26 5:00 - 9:00pm │ April 27 & 28 9:00 am - 5:00 pm \nSession 5 │ May 17 5:00 - 9:00pm │ May 18 & 19 9:00 am - 5:00 pm \n#BBACteam #BBACfun #LifeguardsHaveMoreFun #ParksandRecreation #CityofBrenham
URL:https://kwhi.com/event/lifeguard-classes-offered-at-bbac/
LOCATION:Blue Bell Aquatic Center\, 1800 East Tom Green\, Brenham\, TX\, 77833\, United States
CATEGORIES:Bulletin Board
ATTACH;FMTTYPE=image/jpeg:https://kwhi.com/wp-content/uploads/2024/03/bbac-lifeguards.jpg
END:VEVENT
BEGIN:VEVENT
DTSTART;VALUE=DATE:20240409
DTEND;VALUE=DATE:20240602
DTSTAMP:20260422T223828
CREATED:20240409T152337Z
LAST-MODIFIED:20240409T152337Z
UID:320994-1712620800-1717286399@kwhi.com
SUMMARY:Senior Fan Drive
DESCRIPTION:
URL:https://kwhi.com/event/senior-fan-drive-2/
LOCATION:Brenham Nursing and Rehabilitation Center\, 400 E. Sayles St.\, Brenham\, TX\, 77833\, United States
CATEGORIES:Bulletin Board
ATTACH;FMTTYPE=image/jpeg:https://kwhi.com/wp-content/uploads/2024/04/senior-fan-drive.jpg
END:VEVENT
BEGIN:VEVENT
DTSTART;VALUE=DATE:20240422
DTEND;VALUE=DATE:20240601
DTSTAMP:20260422T223828
CREATED:20240422T193250Z
LAST-MODIFIED:20240422T193250Z
UID:322141-1713744000-1717199999@kwhi.com
SUMMARY:Faith Mission - Neighbors Helping Neighbors
DESCRIPTION:
URL:https://kwhi.com/event/faith-mission-neighbors-helping-neighbors/
LOCATION:TX
CATEGORIES:Bulletin Board
ATTACH;FMTTYPE=image/jpeg:https://kwhi.com/wp-content/uploads/2024/04/faith-mission-neighbors-helping.jpg
END:VEVENT
BEGIN:VEVENT
DTSTART;VALUE=DATE:20231207
DTEND;VALUE=DATE:20231208
DTSTAMP:20260422T223828
CREATED:20231103T134801Z
LAST-MODIFIED:20231103T134801Z
UID:308115-1701907200-1701993599@kwhi.com
SUMMARY:American Legion Quade-Werchan Post 338 Monthly Meeting
DESCRIPTION:American Legion Quade-Werchan Post 338 meets the first Thursday of each month at their hall.  Meetings begin promptly at 6:30 PM.
URL:https://kwhi.com/event/american-legion-quade-werchan-post-338-monthly-meeting/
LOCATION:American Legion Hall Round Top\, 1503 N. State Hwy. 237\, Round Top\, TX\, 78954\, United States
CATEGORIES:Bulletin Board
ATTACH;FMTTYPE=image/jpeg:https://kwhi.com/wp-content/uploads/2023/11/american-legion.jpg
END:VEVENT
BEGIN:VEVENT
DTSTART;VALUE=DATE:20240502
DTEND;VALUE=DATE:20240503
DTSTAMP:20260422T223828
CREATED:20240418T132802Z
LAST-MODIFIED:20240418T132802Z
UID:321794-1714608000-1714694399@kwhi.com
SUMMARY:Bellville Disaster Recovery Concert
DESCRIPTION:
URL:https://kwhi.com/event/bellville-disaster-recovery-concert/
LOCATION:Emery’s Buffalo Creek\, 10827 Hwy. 36 N\, Bellville\, TX\, 77418\, United States
CATEGORIES:Bulletin Board
ATTACH;FMTTYPE=image/jpeg:https://kwhi.com/wp-content/uploads/2024/04/Bellville-Disaster-Recovery-Concert.jpg
END:VEVENT
BEGIN:VEVENT
DTSTART;VALUE=DATE:20240502
DTEND;VALUE=DATE:20240503
DTSTAMP:20260422T223828
CREATED:20240424T213956Z
LAST-MODIFIED:20240424T213956Z
UID:322318-1714608000-1714694399@kwhi.com
SUMMARY:National Day of Prayer at Night (Brenham)
DESCRIPTION:
URL:https://kwhi.com/event/national-day-of-prayer-at-night-brenham/
LOCATION:Downtown Brenham\, Brenham\, TX\, 77833\, United States
CATEGORIES:Bulletin Board
ATTACH;FMTTYPE=image/jpeg:https://kwhi.com/wp-content/uploads/2024/04/light-up-the-word-2024-002.jpg
END:VEVENT
BEGIN:VEVENT
DTSTART;VALUE=DATE:20240502
DTEND;VALUE=DATE:20240503
DTSTAMP:20260422T223828
CREATED:20240426T204148Z
LAST-MODIFIED:20240426T204148Z
UID:322532-1714608000-1714694399@kwhi.com
SUMMARY:Navasota Spring Band Concerts
DESCRIPTION:
URL:https://kwhi.com/event/navasota-spring-band-concerts/
LOCATION:Brosig Performing Arts Center\, 105 Brosig Ave.\, Navasota\, TX\, 77868\, United States
CATEGORIES:Bulletin Board
ATTACH;FMTTYPE=image/jpeg:https://kwhi.com/wp-content/uploads/2024/04/nisd-spring-band-concerts.jpg
END:VEVENT
BEGIN:VEVENT
DTSTART;VALUE=DATE:20240502
DTEND;VALUE=DATE:20240505
DTSTAMP:20260422T223828
CREATED:20240410T204546Z
LAST-MODIFIED:20240410T204546Z
UID:321120-1714608000-1714867199@kwhi.com
SUMMARY:MAIFEST 2024
DESCRIPTION:
URL:https://kwhi.com/event/maifest-2024/
LOCATION:City of Brenham Fireman’s Park\, 901 N. Park Street\, Brenham\, TX\, 77833\, United States
CATEGORIES:Bulletin Board
ATTACH;FMTTYPE=image/jpeg:https://kwhi.com/wp-content/uploads/2024/04/maifest-2024-thu-fri-sat.jpg
END:VEVENT
BEGIN:VEVENT
DTSTART;TZID=America/Chicago:20240502T120000
DTEND;TZID=America/Chicago:20240502T130000
DTSTAMP:20260422T223828
CREATED:20240423T192012Z
LAST-MODIFIED:20240423T192012Z
UID:322207-1714651200-1714654800@kwhi.com
SUMMARY:National Day of Prayer Observed at Providence Church (Chappell Hill)
DESCRIPTION:
URL:https://kwhi.com/event/national-day-of-prayer-observed-at-providence-church-chappell-hill/
LOCATION:Historic Providence Baptist Church\, 5175 Main Street\, Chappell Hill\, TX\, 77426\, United States
CATEGORIES:Bulletin Board
ATTACH;FMTTYPE=image/jpeg:https://kwhi.com/wp-content/uploads/2024/04/national-day-of-prayer-24.jpg
END:VEVENT
BEGIN:VEVENT
DTSTART;TZID=America/Chicago:20240502T180000
DTEND;TZID=America/Chicago:20240502T210000
DTSTAMP:20260422T223828
CREATED:20240403T132100Z
LAST-MODIFIED:20240403T132100Z
UID:320463-1714672800-1714683600@kwhi.com
SUMMARY:Heart of Acara Foundation presents The Boot Scoot
DESCRIPTION:On Thursday\, May 2nd Heart of Acara Foundation will host their 2nd annual fundraiser\, “The Boot Scoot” at The Kenney Store in Kenney\, TX to benefit local hospice patients in need.  The event will feature entertainment on the courtyard stage by Texas singer/songwriter Payton Howie. Entry also includes a taco bar dinner\, dancing and access to the live and silent auctions.  General admission is only $60 per ticket\, and reserved seating is also available. To view availability and purchase tickets visit www.heartofacarafoundation.org  \nHeart of Acara Foundation is a 501(c)3 organization dedicated to providing financial relief or amenities to improve the quality of life for those diagnosed with a terminal illness\, and supporting awareness and access to end-of-life care. The Foundation’s largest initiative at this time is to build a community hospice house. For more information on this project and other initiatives\, visit www.heartofacarafoundation.org
URL:https://kwhi.com/event/heart-of-acara-foundation-presents-the-boot-scoot/
LOCATION:The Kenney Store
CATEGORIES:Bulletin Board
ATTACH;FMTTYPE=image/png:https://kwhi.com/wp-content/uploads/2024/04/boot-scoot-at-kenney-store-may.png
END:VEVENT
BEGIN:VEVENT
DTSTART;TZID=America/Chicago:20240104T183000
DTEND;TZID=America/Chicago:20240104T200000
DTSTAMP:20260422T223828
CREATED:20231220T152834Z
LAST-MODIFIED:20231220T152834Z
UID:311439-1704393000-1704398400@kwhi.com
SUMMARY:NAMI Connection Recovery Support Group Meetings
DESCRIPTION:Weekly meeting on Thursdays\, 6:30 – 8:00 pm CST at St. Peters Episcopal Church in Brenham \nNAMI-Brazos Valley serves a seven-county area (Brazos Valley):  Brazos\, Burleson\, Grimes\, Leon\, Madison\, Roberts\, and Washington Counties\nWebsite:  NamiBV.org\nPhone:  979 774-4713
URL:https://kwhi.com/event/nami-connection-recovery-support-group-meetings/
LOCATION:St. Peter’s Episcopal Church (Brenham)\, 2310 Airline Drive\, Brenham\, TX\, 77883\, United States
CATEGORIES:Bulletin Board
ATTACH;FMTTYPE=image/png:https://kwhi.com/wp-content/uploads/2023/12/nami-connection-recovery-supp-gr.png
END:VEVENT
END:VCALENDAR