BEGIN:VCALENDAR
VERSION:2.0
PRODID:-//KWHI.com - ECPv6.15.17.1//NONSGML v1.0//EN
CALSCALE:GREGORIAN
METHOD:PUBLISH
X-ORIGINAL-URL:https://kwhi.com
X-WR-CALDESC:Events for KWHI.com
REFRESH-INTERVAL;VALUE=DURATION:PT1H
X-Robots-Tag:noindex
X-PUBLISHED-TTL:PT1H
BEGIN:VTIMEZONE
TZID:America/Chicago
BEGIN:DAYLIGHT
TZOFFSETFROM:-0600
TZOFFSETTO:-0500
TZNAME:CDT
DTSTART:20220313T080000
END:DAYLIGHT
BEGIN:STANDARD
TZOFFSETFROM:-0500
TZOFFSETTO:-0600
TZNAME:CST
DTSTART:20221106T070000
END:STANDARD
BEGIN:DAYLIGHT
TZOFFSETFROM:-0600
TZOFFSETTO:-0500
TZNAME:CDT
DTSTART:20230312T080000
END:DAYLIGHT
BEGIN:STANDARD
TZOFFSETFROM:-0500
TZOFFSETTO:-0600
TZNAME:CST
DTSTART:20231105T070000
END:STANDARD
BEGIN:DAYLIGHT
TZOFFSETFROM:-0600
TZOFFSETTO:-0500
TZNAME:CDT
DTSTART:20240310T080000
END:DAYLIGHT
BEGIN:STANDARD
TZOFFSETFROM:-0500
TZOFFSETTO:-0600
TZNAME:CST
DTSTART:20241103T070000
END:STANDARD
BEGIN:DAYLIGHT
TZOFFSETFROM:-0600
TZOFFSETTO:-0500
TZNAME:CDT
DTSTART:20250309T080000
END:DAYLIGHT
BEGIN:STANDARD
TZOFFSETFROM:-0500
TZOFFSETTO:-0600
TZNAME:CST
DTSTART:20251102T070000
END:STANDARD
END:VTIMEZONE
BEGIN:VEVENT
DTSTART;VALUE=DATE:20240315
DTEND;VALUE=DATE:20240518
DTSTAMP:20260425T152414
CREATED:20240314T141722Z
LAST-MODIFIED:20240314T141722Z
UID:318880-1710460800-1715990399@kwhi.com
SUMMARY:Lifeguard Classes Offered at BBAC
DESCRIPTION:LIFEGUARD CLASSES \nAre you looking for a flexible job\, that is understanding of school\, sports and family? Are you looking to make a difference in the community? Want to learn how to save lives? Apply today to be a lifeguard at jobs.cityofbrenham.org. We train you for FREE!! \nUpcoming Lifeguard Classes: \nSession 2 │ March 15 - 17 9:00 am - 4:00 pm \nSession 3 │ April 12 5:00 - 9:00pm │ April 13 & 14 9:00 am - 5:00 pm \nSession 4 │ April 26 5:00 - 9:00pm │ April 27 & 28 9:00 am - 5:00 pm \nSession 5 │ May 17 5:00 - 9:00pm │ May 18 & 19 9:00 am - 5:00 pm \n#BBACteam #BBACfun #LifeguardsHaveMoreFun #ParksandRecreation #CityofBrenham
URL:https://kwhi.com/event/lifeguard-classes-offered-at-bbac/
LOCATION:Blue Bell Aquatic Center\, 1800 East Tom Green\, Brenham\, TX\, 77833\, United States
CATEGORIES:Bulletin Board
ATTACH;FMTTYPE=image/jpeg:https://kwhi.com/wp-content/uploads/2024/03/bbac-lifeguards.jpg
END:VEVENT
BEGIN:VEVENT
DTSTART;VALUE=DATE:20240409
DTEND;VALUE=DATE:20240602
DTSTAMP:20260425T152414
CREATED:20240409T152337Z
LAST-MODIFIED:20240409T152337Z
UID:320994-1712620800-1717286399@kwhi.com
SUMMARY:Senior Fan Drive
DESCRIPTION:
URL:https://kwhi.com/event/senior-fan-drive-2/
LOCATION:Brenham Nursing and Rehabilitation Center\, 400 E. Sayles St.\, Brenham\, TX\, 77833\, United States
CATEGORIES:Bulletin Board
ATTACH;FMTTYPE=image/jpeg:https://kwhi.com/wp-content/uploads/2024/04/senior-fan-drive.jpg
END:VEVENT
BEGIN:VEVENT
DTSTART;VALUE=DATE:20240422
DTEND;VALUE=DATE:20240601
DTSTAMP:20260425T152414
CREATED:20240422T193250Z
LAST-MODIFIED:20240422T193250Z
UID:322141-1713744000-1717199999@kwhi.com
SUMMARY:Faith Mission - Neighbors Helping Neighbors
DESCRIPTION:
URL:https://kwhi.com/event/faith-mission-neighbors-helping-neighbors/
LOCATION:TX
CATEGORIES:Bulletin Board
ATTACH;FMTTYPE=image/jpeg:https://kwhi.com/wp-content/uploads/2024/04/faith-mission-neighbors-helping.jpg
END:VEVENT
BEGIN:VEVENT
DTSTART;VALUE=DATE:20240509
DTEND;VALUE=DATE:20240531
DTSTAMP:20260425T152414
CREATED:20240509T142936Z
LAST-MODIFIED:20240509T142936Z
UID:323422-1715212800-1717113599@kwhi.com
SUMMARY:Washington Co. Fair Queen Contest Application is now Available
DESCRIPTION:The 2024 Washington County Fair Queen Contest Application is now available!  Represent Washington County and gain leadership skills\, public speaking skills\, lifelong memories and scholarship money!  Any young woman that will be a junior or senior in the Fall of 2024 and resides in Washington County is eligible to apply and participate. Each contestant must be an active member of at least one school organization\, such as band\, 4-H\, FFA\, athletics\, etc.  Please contact your club/organization or the fair office for an application. Applications are due by May 30\, 2024.
URL:https://kwhi.com/event/washington-co-fair-queen-contest-application-is-now-available/
LOCATION:TX
CATEGORIES:Bulletin Board
ATTACH;FMTTYPE=image/jpeg:https://kwhi.com/wp-content/uploads/2024/05/wcf-queen-2024.jpg
END:VEVENT
BEGIN:VEVENT
DTSTART;VALUE=DATE:20240212
DTEND;VALUE=DATE:20240213
DTSTAMP:20260425T152414
CREATED:20240212T224935Z
LAST-MODIFIED:20240212T224935Z
UID:315980-1707696000-1707782399@kwhi.com
SUMMARY:HOA - Meals on Wheels of Austin County Volunteers Needed
DESCRIPTION:
URL:https://kwhi.com/event/hoa-meals-on-wheels-of-austin-county-volunteers-needed/
LOCATION:TX
CATEGORIES:Bulletin Board
ATTACH;FMTTYPE=image/png:https://kwhi.com/wp-content/uploads/2024/02/HOA-volunteers-needed.png
END:VEVENT
BEGIN:VEVENT
DTSTART;VALUE=DATE:20240513
DTEND;VALUE=DATE:20240514
DTSTAMP:20260425T152414
CREATED:20240412T211945Z
LAST-MODIFIED:20240412T211945Z
UID:321362-1715558400-1715644799@kwhi.com
SUMMARY:Navasota ISD Choral Department Spring Choir Concert
DESCRIPTION:
URL:https://kwhi.com/event/navasota-isd-choral-department-spring-choir-concert/
LOCATION:Brosig Performing Arts Center\, 105 Brosig Ave.\, Navasota\, TX\, 77868\, United States
CATEGORIES:Bulletin Board
ATTACH;FMTTYPE=image/png:https://kwhi.com/wp-content/uploads/2024/04/navasota-isd-choral-dept-spring-choir-concert-may.png
END:VEVENT
BEGIN:VEVENT
DTSTART;VALUE=DATE:20240513
DTEND;VALUE=DATE:20240514
DTSTAMP:20260425T152414
CREATED:20240423T192444Z
LAST-MODIFIED:20240423T192444Z
UID:322210-1715558400-1715644799@kwhi.com
SUMMARY:Brenham HS Scholarship Program & Honor Graduate Ceremony
DESCRIPTION:
URL:https://kwhi.com/event/brenham-hs-scholarship-program-honor-graduate-ceremony/
LOCATION:Brenham High School Auditorium\, 525 A H Ehrig Drive \, Brenham\, TX\, 77833\, United States
CATEGORIES:Bulletin Board
ATTACH;FMTTYPE=image/jpeg:https://kwhi.com/wp-content/uploads/2024/04/bhs-scholarship-program-2024.jpg
END:VEVENT
BEGIN:VEVENT
DTSTART;VALUE=DATE:20240513
DTEND;VALUE=DATE:20240514
DTSTAMP:20260425T152414
CREATED:20240426T203502Z
LAST-MODIFIED:20240426T203502Z
UID:322518-1715558400-1715644799@kwhi.com
SUMMARY:Navasota Spring Award Ceremony
DESCRIPTION:
URL:https://kwhi.com/event/navasota-spring-award-ceremony/
LOCATION:Navasota High School Gym\, 1 Rattler Drive\, Navasota\, TX\, 77868\, United States
CATEGORIES:Bulletin Board
ATTACH;FMTTYPE=image/jpeg:https://kwhi.com/wp-content/uploads/2024/04/nisd-spring-award.jpg
END:VEVENT
BEGIN:VEVENT
DTSTART;VALUE=DATE:20240513
DTEND;VALUE=DATE:20240516
DTSTAMP:20260425T152414
CREATED:20240311T193546Z
LAST-MODIFIED:20240311T193546Z
UID:318610-1715558400-1715817599@kwhi.com
SUMMARY:WCF Online Entries Now Open
DESCRIPTION:
URL:https://kwhi.com/event/wcf-online-entries-now-open-2/
LOCATION:TX
CATEGORIES:Bulletin Board
ATTACH;FMTTYPE=image/jpeg:https://kwhi.com/wp-content/uploads/2024/03/wcf-online-entries-mar-15.jpg
END:VEVENT
BEGIN:VEVENT
DTSTART;TZID=America/Chicago:20240513T083000
DTEND;TZID=America/Chicago:20240513T100000
DTSTAMP:20260425T152414
CREATED:20240509T140907Z
LAST-MODIFIED:20240509T140907Z
UID:323406-1715589000-1715594400@kwhi.com
SUMMARY:Brenham ES Track & Field Days
DESCRIPTION:
URL:https://kwhi.com/event/brenham-es-track-field-days/
LOCATION:Brenham Elementary School\, 1000 West Blue Bell Road\, Brenham\, TX\, 77833\, United States
CATEGORIES:Bulletin Board
ATTACH;FMTTYPE=image/jpeg:https://kwhi.com/wp-content/uploads/2024/05/BES-track-field-days.jpg
END:VEVENT
BEGIN:VEVENT
DTSTART;TZID=America/Chicago:20240513T090000
DTEND;TZID=America/Chicago:20240513T110000
DTSTAMP:20260425T152414
CREATED:20240509T141119Z
LAST-MODIFIED:20240509T141119Z
UID:323413-1715590800-1715598000@kwhi.com
SUMMARY:Krause ES Field Day
DESCRIPTION:
URL:https://kwhi.com/event/krause-es-field-day/
LOCATION:Cub Stadium\, 1600 East Tom Green\, Brenham\, TX\, 77833\, United States
CATEGORIES:Bulletin Board
ATTACH;FMTTYPE=image/jpeg:https://kwhi.com/wp-content/uploads/2024/05/kes-field-day.jpg
END:VEVENT
BEGIN:VEVENT
DTSTART;TZID=America/Chicago:20231023T090000
DTEND;TZID=America/Chicago:20231023T150000
DTSTAMP:20260425T152414
CREATED:20231017T192148Z
LAST-MODIFIED:20231017T192148Z
UID:306676-1698051600-1698073200@kwhi.com
SUMMARY:Mobile Clinic on Site
DESCRIPTION:
URL:https://kwhi.com/event/mobile-clinic-on-site/
LOCATION:TX
CATEGORIES:Bulletin Board
ATTACH;FMTTYPE=image/jpeg:https://kwhi.com/wp-content/uploads/2023/10/tx-am-school-of-nursing.jpg
END:VEVENT
END:VCALENDAR