BEGIN:VCALENDAR
VERSION:2.0
PRODID:-//KWHI.com - ECPv6.15.17.1//NONSGML v1.0//EN
CALSCALE:GREGORIAN
METHOD:PUBLISH
X-ORIGINAL-URL:https://kwhi.com
X-WR-CALDESC:Events for KWHI.com
REFRESH-INTERVAL;VALUE=DURATION:PT1H
X-Robots-Tag:noindex
X-PUBLISHED-TTL:PT1H
BEGIN:VTIMEZONE
TZID:America/Chicago
BEGIN:DAYLIGHT
TZOFFSETFROM:-0600
TZOFFSETTO:-0500
TZNAME:CDT
DTSTART:20230312T080000
END:DAYLIGHT
BEGIN:STANDARD
TZOFFSETFROM:-0500
TZOFFSETTO:-0600
TZNAME:CST
DTSTART:20231105T070000
END:STANDARD
BEGIN:DAYLIGHT
TZOFFSETFROM:-0600
TZOFFSETTO:-0500
TZNAME:CDT
DTSTART:20240310T080000
END:DAYLIGHT
BEGIN:STANDARD
TZOFFSETFROM:-0500
TZOFFSETTO:-0600
TZNAME:CST
DTSTART:20241103T070000
END:STANDARD
BEGIN:DAYLIGHT
TZOFFSETFROM:-0600
TZOFFSETTO:-0500
TZNAME:CDT
DTSTART:20250309T080000
END:DAYLIGHT
BEGIN:STANDARD
TZOFFSETFROM:-0500
TZOFFSETTO:-0600
TZNAME:CST
DTSTART:20251102T070000
END:STANDARD
END:VTIMEZONE
BEGIN:VEVENT
DTSTART;VALUE=DATE:20240901
DTEND;VALUE=DATE:20240917
DTSTAMP:20260425T122256
CREATED:20240820T210043Z
LAST-MODIFIED:20240820T210043Z
UID:330021-1725148800-1726531199@kwhi.com
SUMMARY:Washington County Fair Country Creations Information
DESCRIPTION:Country Creation Exhibits will be in the EXPO EVENT CENTER for the 2024 Washington County Fair.  All residents of the county are invited and encouraged to participate. \nArt\, Alternative Foods\, Canned Products\, Creative Arts and Crafts\, Designer Craftsman\, Machine Sewn\, Needlework\, Photography and Quilt exhibits are to be entered Thursday\, September 12th from 3 until 7 pm.  School Art check-in is September 12th from 4 to 5 pm.   \nCheck-in time for Baked\, Confections\, Floral and Vegetables is Monday September 16th from 7:30 to 9:00 am. \nBoth Adult and Youth Division Catalogues can be found on-line at:   https://www.washingtoncofair.com/  \nor https://www.washingtoncofair.com/p/getinvolved/country-creations \nYouth exhibitors must be registered online in the ShoWorks system by 6 p.m. September 2.   \nAdult exhibitors can obtain an exhibitor number for $5. when they check-in.
URL:https://kwhi.com/event/washington-county-fair-country-creations-information/
LOCATION:Washington County Expo Event Center\, 1305 E. Blue Bell Rd.\, Brenham\, TX\, 77833\, United States
CATEGORIES:Bulletin Board
ATTACH;FMTTYPE=image/jpeg:https://kwhi.com/wp-content/uploads/2024/08/wc-fair-NEW.jpg
END:VEVENT
BEGIN:VEVENT
DTSTART;VALUE=DATE:20240904
DTEND;VALUE=DATE:20241005
DTSTAMP:20260425T122256
CREATED:20240827T214844Z
LAST-MODIFIED:20240827T214844Z
UID:330526-1725408000-1728086399@kwhi.com
SUMMARY:Fayetteville Lickskillet Days Parade-call for entries
DESCRIPTION:
URL:https://kwhi.com/event/fayetteville-lickskillet-days-parade-call-for-entries/
LOCATION:TX
CATEGORIES:Bulletin Board
ATTACH;FMTTYPE=image/jpeg:https://kwhi.com/wp-content/uploads/2024/08/Lickskillet-002.jpg
END:VEVENT
BEGIN:VEVENT
DTSTART;VALUE=DATE:20240909
DTEND;VALUE=DATE:20240924
DTSTAMP:20260425T122256
CREATED:20240909T203346Z
LAST-MODIFIED:20240909T203346Z
UID:331421-1725840000-1727135999@kwhi.com
SUMMARY:Youth Basketball ONLINE Registration Open (Austin County)
DESCRIPTION:
URL:https://kwhi.com/event/youth-basketball-online-registration-open-austin-county/
LOCATION:TX
CATEGORIES:Bulletin Board
ATTACH;FMTTYPE=image/jpeg:https://kwhi.com/wp-content/uploads/2024/09/ac-youth-basketball-regi-sept.jpg
END:VEVENT
BEGIN:VEVENT
DTSTART;VALUE=DATE:20240909
DTEND;VALUE=DATE:20240929
DTSTAMP:20260425T122256
CREATED:20240909T192105Z
LAST-MODIFIED:20240909T192105Z
UID:331399-1725840000-1727567999@kwhi.com
SUMMARY:Fundraiser to help with Collin Smith's Therapy Costs
DESCRIPTION:Donate to help Strength4smith raise money for Project Walk Fun Run & Roll’s fundraising campaign\, on September 28th \n100% of donations on Collin Smith’s behalf will go straight to his therapy costs.  Use the link to donate\, or join us in person\, or leave a note of encouragement here\, prayers and post shares are always welcome!  \nDetails- Sept. 28th\, 8:00 am @ Brazos River Park\, Sugarland\, TX \nhttps://www.facebook.com/share/p/1MHhtNwGsCFQz8bp/?mibextid=WC7FNe
URL:https://kwhi.com/event/fundraiser-to-help-with-collin-smiths-therapy-costs/
LOCATION:TX
CATEGORIES:Bulletin Board
ATTACH;FMTTYPE=image/png:https://kwhi.com/wp-content/uploads/2024/09/fun-run-roll-sept.png
END:VEVENT
BEGIN:VEVENT
DTSTART;VALUE=DATE:20240911
DTEND;VALUE=DATE:20241022
DTSTAMP:20260425T122256
CREATED:20240911T134010Z
LAST-MODIFIED:20240911T134010Z
UID:331512-1726012800-1729555199@kwhi.com
SUMMARY:Pilot Club of Brenham annual Butter Braid Fundraiser
DESCRIPTION:The Pilot Club of Brenham is holding their annual holiday butter braid fundraiser formerly done by Bosom Buddies. Our club supports Traumatic Brain Injury awareness. Orders are due Tuesday\, October 21. A variety of flavors is available with costs of $17 and $18. Delivery is Tuesday\, November 12\, from 3-5 p.m. at Christ Lutheran Church. To place an order\, call 979-525-3455 or 512-981-9855
URL:https://kwhi.com/event/pilot-club-of-brenham-annual-butter-braid-fundraiser/
LOCATION:TX
CATEGORIES:Bulletin Board
ATTACH;FMTTYPE=image/jpeg:https://kwhi.com/wp-content/uploads/2024/09/pilot-cl-of-brenham.jpg
END:VEVENT
BEGIN:VEVENT
DTSTART;VALUE=DATE:20240913
DTEND;VALUE=DATE:20240922
DTSTAMP:20260425T122256
CREATED:20240805T182414Z
LAST-MODIFIED:20240823T205538Z
UID:329081-1726185600-1726963199@kwhi.com
SUMMARY:Washington County Fair-Celebrating our Rising Stars
DESCRIPTION:The Washington County Fair’s entertainment lineup is seeing a change.  In a press release August 23\, 2024\, the Washington County Fair Association announced that due to “unforeseen circumstances and changes in management”\, Travis Tritt and Tyler Reese Tritt will no longer headline at the fair on Saturday\, September 21st.  Now set to perform in their place will be Jon Stork opening for Carly Pearce.  Season tickets for the fair can be purchased from any of the four fair queen candidates or at www.washingtoncofair.com
URL:https://kwhi.com/event/washington-county-fair-celebrating-our-rising-stars/
LOCATION:Washington County Expo\, 1305 E. Blue Bell Rd.\, Brenham\, TX\, 77833\, United States
CATEGORIES:Bulletin Board
ATTACH;FMTTYPE=image/jpeg:https://kwhi.com/wp-content/uploads/2024/08/wash-co-fair.jpg
END:VEVENT
BEGIN:VEVENT
DTSTART;TZID=America/Chicago:20240916T163000
DTEND;TZID=America/Chicago:20240916T190000
DTSTAMP:20260425T122256
CREATED:20240821T144809Z
LAST-MODIFIED:20240821T144809Z
UID:330055-1726504200-1726513200@kwhi.com
SUMMARY:Shy-Annes Little Stars Dance Clinic (Bryan)
DESCRIPTION:
URL:https://kwhi.com/event/shy-annes-little-stars-dance-clinic-bryan/
LOCATION:Bryan High School Fine Arts Gym 3\, 3450 Campus Drive\, Bryan\, TX\, 77802\, United States
CATEGORIES:Bulletin Board
ATTACH;FMTTYPE=image/jpeg:https://kwhi.com/wp-content/uploads/2024/08/dance-clinic-sept-16.jpg
END:VEVENT
END:VCALENDAR