BEGIN:VCALENDAR
VERSION:2.0
PRODID:-//KWHI.com - ECPv6.15.17.1//NONSGML v1.0//EN
CALSCALE:GREGORIAN
METHOD:PUBLISH
X-ORIGINAL-URL:https://kwhi.com
X-WR-CALDESC:Events for KWHI.com
REFRESH-INTERVAL;VALUE=DURATION:PT1H
X-Robots-Tag:noindex
X-PUBLISHED-TTL:PT1H
BEGIN:VTIMEZONE
TZID:America/Chicago
BEGIN:DAYLIGHT
TZOFFSETFROM:-0600
TZOFFSETTO:-0500
TZNAME:CDT
DTSTART:20230312T080000
END:DAYLIGHT
BEGIN:STANDARD
TZOFFSETFROM:-0500
TZOFFSETTO:-0600
TZNAME:CST
DTSTART:20231105T070000
END:STANDARD
BEGIN:DAYLIGHT
TZOFFSETFROM:-0600
TZOFFSETTO:-0500
TZNAME:CDT
DTSTART:20240310T080000
END:DAYLIGHT
BEGIN:STANDARD
TZOFFSETFROM:-0500
TZOFFSETTO:-0600
TZNAME:CST
DTSTART:20241103T070000
END:STANDARD
BEGIN:DAYLIGHT
TZOFFSETFROM:-0600
TZOFFSETTO:-0500
TZNAME:CDT
DTSTART:20250309T080000
END:DAYLIGHT
BEGIN:STANDARD
TZOFFSETFROM:-0500
TZOFFSETTO:-0600
TZNAME:CST
DTSTART:20251102T070000
END:STANDARD
END:VTIMEZONE
BEGIN:VEVENT
DTSTART;VALUE=DATE:20240911
DTEND;VALUE=DATE:20241022
DTSTAMP:20260419T095010
CREATED:20240911T134010Z
LAST-MODIFIED:20240911T134010Z
UID:331512-1726012800-1729555199@kwhi.com
SUMMARY:Pilot Club of Brenham annual Butter Braid Fundraiser
DESCRIPTION:The Pilot Club of Brenham is holding their annual holiday butter braid fundraiser formerly done by Bosom Buddies. Our club supports Traumatic Brain Injury awareness. Orders are due Tuesday\, October 21. A variety of flavors is available with costs of $17 and $18. Delivery is Tuesday\, November 12\, from 3-5 p.m. at Christ Lutheran Church. To place an order\, call 979-525-3455 or 512-981-9855
URL:https://kwhi.com/event/pilot-club-of-brenham-annual-butter-braid-fundraiser/
LOCATION:TX
CATEGORIES:Bulletin Board
ATTACH;FMTTYPE=image/jpeg:https://kwhi.com/wp-content/uploads/2024/09/pilot-cl-of-brenham.jpg
END:VEVENT
BEGIN:VEVENT
DTSTART;VALUE=DATE:20240927
DTEND;VALUE=DATE:20241026
DTSTAMP:20260419T095010
CREATED:20240927T210409Z
LAST-MODIFIED:20240927T210409Z
UID:332887-1727395200-1729900799@kwhi.com
SUMMARY:Your Voice! Your Vote!
DESCRIPTION:
URL:https://kwhi.com/event/your-voice-your-vote/
LOCATION:TX
CATEGORIES:Bulletin Board
ATTACH;FMTTYPE=image/png:https://kwhi.com/wp-content/uploads/2024/09/your-voice-your-vote.png
END:VEVENT
BEGIN:VEVENT
DTSTART;VALUE=DATE:20241006
DTEND;VALUE=DATE:20241021
DTSTAMP:20260419T095010
CREATED:20240930T144209Z
LAST-MODIFIED:20240930T144209Z
UID:333001-1728172800-1729468799@kwhi.com
SUMMARY:Washington Co. 4-H HLSR Concession Stand
DESCRIPTION:
URL:https://kwhi.com/event/washington-co-4-h-hlsr-concession-stand/
LOCATION:TX
CATEGORIES:Bulletin Board
ATTACH;FMTTYPE=image/jpeg:https://kwhi.com/wp-content/uploads/2024/09/hlsr-con-stand.jpg
END:VEVENT
BEGIN:VEVENT
DTSTART;VALUE=DATE:20241010
DTEND;VALUE=DATE:20241111
DTSTAMP:20260419T095010
CREATED:20240927T143951Z
LAST-MODIFIED:20240927T144345Z
UID:332849-1728518400-1731283199@kwhi.com
SUMMARY:Mark Marburger CANCER BENEFIT (Brenham)
DESCRIPTION:TO PURCHASE TICKETS CALL JULIA\, AT 979 337-4535
URL:https://kwhi.com/event/mark-marburger-cancer-benefit/
LOCATION:TX
CATEGORIES:Bulletin Board
ATTACH;FMTTYPE=image/jpeg:https://kwhi.com/wp-content/uploads/2024/09/marburger-cancer-benefit.jpg
END:VEVENT
BEGIN:VEVENT
DTSTART;VALUE=DATE:20241012
DTEND;VALUE=DATE:20241027
DTSTAMP:20260419T095010
CREATED:20241002T192738Z
LAST-MODIFIED:20241002T192738Z
UID:333209-1728691200-1729987199@kwhi.com
SUMMARY:Scrap Tire Collection Event (Brenham & Burton)
DESCRIPTION:
URL:https://kwhi.com/event/scrap-tire-collection-event-brenham-burton/
LOCATION:BVR Collection & Transfer Station\, 2009 Old Chappell Hill Rd\, Brenham\, TX\, 77833\, United States
CATEGORIES:Bulletin Board
ATTACH;FMTTYPE=image/jpeg:https://kwhi.com/wp-content/uploads/2024/10/scrape-tie-collection-oct.jpg
END:VEVENT
BEGIN:VEVENT
DTSTART;TZID=America/Chicago:20241016T120000
DTEND;TZID=America/Chicago:20241023T130000
DTSTAMP:20260419T095010
CREATED:20241016T001033Z
LAST-MODIFIED:20241016T001035Z
UID:334440-1729080000-1729688400@kwhi.com
SUMMARY:Washington Co A&M Club Luncheon and Food Drive
DESCRIPTION:
URL:https://kwhi.com/event/washington-co-am-club-luncheon-and-food-drive-2/
LOCATION:Cannery Kitchen\, 314 East Alamo\, Brenham\, TX\, 77833\, United States
CATEGORIES:Bulletin Board
ATTACH;FMTTYPE=image/jpeg:https://kwhi.com/wp-content/uploads/2024/10/Quarterly-Luncheon-Flyer-Oct-23-2024-V2.jpg
END:VEVENT
BEGIN:VEVENT
DTSTART;VALUE=DATE:20241018
DTEND;VALUE=DATE:20241021
DTSTAMP:20260419T095010
CREATED:20240926T195640Z
LAST-MODIFIED:20240926T195640Z
UID:332808-1729209600-1729468799@kwhi.com
SUMMARY:Texas Arts & Music Festival (Brenham)
DESCRIPTION:Arts & Music Festival 2024 \nTexas Arts & Music Festival\, taking place in the heart of Historic Downtown Brenham from October 18th to 20th! This FREE event promises an unforgettable weekend packed with artistic inspiration and musical delight.\nFestival Highlights:\n• Juried Art Show: Kick off the festivities on October 18th at 5:30 PM with our prestigious juried art show\, showcasing exceptional talent from across the region.\n• Art Village: Wander through our Art Village\, open from 10:00 AM on the 19th and 20th\, where you can explore unique artworks and crafts from local artisans.\n• Mural Installations: Witness the creation of two stunning murals by Toni Ardizzone and Floyd Mendoza.\n• Live Art Demonstrations: Be captivated by live art demonstrations\, providing a behind-the-scenes look at artists in action.\n• Live Music: Groove to the sounds of four incredible bands on October 19th\, with performances starting at 1:00 PM by the Brenham Children’s Chorus.\nDon't miss out on this extraordinary event where art and music come alive! Visit texasartsandmusicfestival.com for more information and to plan your visit.\nLocation: Historic Downtown Brenham\nDates: October 18th - 20th\, 2024\nMark your calendars and bring your friends and family for a weekend full of art\, music\, and community spirit
URL:https://kwhi.com/event/texas-arts-music-festival-brenham/
LOCATION:Downtown Brenham\, Brenham\, TX\, 77833\, United States
CATEGORIES:Bulletin Board
ATTACH;FMTTYPE=image/jpeg:https://kwhi.com/wp-content/uploads/2024/09/tx-arts-music-fest-oct-18-19-20.jpg
END:VEVENT
BEGIN:VEVENT
DTSTART;VALUE=DATE:20241019
DTEND;VALUE=DATE:20241021
DTSTAMP:20260419T095010
CREATED:20241003T200544Z
LAST-MODIFIED:20241003T200544Z
UID:333294-1729296000-1729468799@kwhi.com
SUMMARY:Lickskillet Days Festival (Fayetteville)
DESCRIPTION:
URL:https://kwhi.com/event/lickskillet-days-festival-fayetteville/
LOCATION:Downtown Fayetteville\, Fayetteville\, TX\, 78940\, United States
CATEGORIES:Bulletin Board
ATTACH;FMTTYPE=image/jpeg:https://kwhi.com/wp-content/uploads/2024/10/lickskillet-days-festival-oct.jpg
END:VEVENT
BEGIN:VEVENT
DTSTART;VALUE=DATE:20240908
DTEND;VALUE=DATE:20240909
DTSTAMP:20260419T095010
CREATED:20240829T183044Z
LAST-MODIFIED:20240829T183044Z
UID:330638-1725753600-1725839999@kwhi.com
SUMMARY:Christianity\, the first 500 Years Weekly Bible Study (Brenham)
DESCRIPTION:The course\, "Christianity\, The First 500 Years: Roots of Yesterday that Stretch to Today\," will be taught by David Beckworth at First Baptist Church\, Brenham\, beginning at 6 pm Sundays\, September 8th through December 15th in room A109. All who are interested in early church history are invited to attend.
URL:https://kwhi.com/event/christianity-the-first-500-years-weekly-bible-study-brenham/
LOCATION:Brenham’s First Baptist Church\, 2715 South Market Street\, Brenham\, TX\, 77833\, United States
CATEGORIES:Bulletin Board
ATTACH;FMTTYPE=image/png:https://kwhi.com/wp-content/uploads/2024/08/christianity-sept-dec.png
END:VEVENT
BEGIN:VEVENT
DTSTART;VALUE=DATE:20240915
DTEND;VALUE=DATE:20240916
DTSTAMP:20260419T095010
CREATED:20240909T201914Z
LAST-MODIFIED:20240909T201914Z
UID:331402-1726358400-1726444799@kwhi.com
SUMMARY:St. Mary's Baptist Church seeking Senior Pastor (Ledbetter)
DESCRIPTION:The deadline for applications is October 31\, 2024. If additional information is needed you can reach the Pulpit Search Committee at pulpitcommittee@smbctx.com. \nSee application:  https://smbctx.com/
URL:https://kwhi.com/event/st-marys-baptist-church-seeking-senior-pastor-ledbetter/
LOCATION:TX
CATEGORIES:Bulletin Board
ATTACH;FMTTYPE=image/png:https://kwhi.com/wp-content/uploads/2024/09/st-marys-baptist-church-seek-pastor.png
END:VEVENT
BEGIN:VEVENT
DTSTART;VALUE=DATE:20241020
DTEND;VALUE=DATE:20241021
DTSTAMP:20260419T095010
CREATED:20241002T195514Z
LAST-MODIFIED:20241002T195514Z
UID:333217-1729382400-1729468799@kwhi.com
SUMMARY:West End Historical Society Meeting
DESCRIPTION:The West End Historical Society’s next meeting will be Sunday\, October 20th at the Historical Society Building located 1 mile north of Industry on FM 109 beginning at 2pm.  A program will be presented on the German Card Game Skat (pronounced Scot).  Skat is a three-player trick-taking card game.  Anyone interested in learning about Skat and the history of the community is invited to attend.
URL:https://kwhi.com/event/west-end-historical-society-meeting-3/
LOCATION:Historical Society Building\, Industry\, TX\, 78944\, United States
CATEGORIES:Bulletin Board
ATTACH;FMTTYPE=image/jpeg:https://kwhi.com/wp-content/uploads/2024/10/west-end-historical-society.jpg
END:VEVENT
BEGIN:VEVENT
DTSTART;TZID=America/Chicago:20241020T130000
DTEND;TZID=America/Chicago:20241020T160000
DTSTAMP:20260419T095010
CREATED:20241008T212043Z
LAST-MODIFIED:20241008T212043Z
UID:333709-1729429200-1729440000@kwhi.com
SUMMARY:VFW Post 6522 Variety Shoot (Bellville)
DESCRIPTION:
URL:https://kwhi.com/event/vfw-post-6522-variety-shoot-bellville/
LOCATION:Bellville VFW Hall\, 4041 Hwy. 36 North\, Bellville\, TX\, 77418\, United States
CATEGORIES:Bulletin Board
ATTACH;FMTTYPE=image/png:https://kwhi.com/wp-content/uploads/2024/10/vfw-variety-shoot-oct-20.png
END:VEVENT
BEGIN:VEVENT
DTSTART;TZID=America/Chicago:20241020T150000
DTEND;TZID=America/Chicago:20241020T163000
DTSTAMP:20260419T095010
CREATED:20240926T203555Z
LAST-MODIFIED:20240926T210642Z
UID:332824-1729436400-1729441800@kwhi.com
SUMMARY:Pastor & Wife Anniversary Celebration at Post Oak MBC (Brenham)
DESCRIPTION:
URL:https://kwhi.com/event/pastor-wife-anniversary-celebration-at-post-oak-mbc-brenham/
LOCATION:Post Oak Missionary Baptist Church (Brenham)\, 906 Booker St.\, Brenham\, TX\, 77833\, United States
CATEGORIES:Bulletin Board
ATTACH;FMTTYPE=image/jpeg:https://kwhi.com/wp-content/uploads/2024/09/post-oak-mbc-celebration-oct.jpg
END:VEVENT
BEGIN:VEVENT
DTSTART;TZID=America/Chicago:20241020T150000
DTEND;TZID=America/Chicago:20241020T163000
DTSTAMP:20260419T095011
CREATED:20241003T212044Z
LAST-MODIFIED:20241003T212044Z
UID:333298-1729436400-1729441800@kwhi.com
SUMMARY:Homecoming & Church Anniversary Celebration at Allwise MBC (Chappell Hill)
DESCRIPTION:Allwise Missionary Baptist Church Annual Homecoming and 156th Church Anniversary Celebration is Sunday\, October 20\, starting at 3PM.  The guest speaker will be Apostle Julius Glass of The Resilient Church in Spring.  Rev. Gary Jones\, Host Pastor.
URL:https://kwhi.com/event/homecoming-church-anniversary-celebration-at-allwise-mbc-chappell-hill/
LOCATION:Allwise Missionary Baptist Church (Chappell Hill)\, 885 All Wise Road\, Chappell Hill\, TX\, 77426\, United States
CATEGORIES:Bulletin Board
ATTACH;FMTTYPE=image/jpeg:https://kwhi.com/wp-content/uploads/2024/10/allwise-mbc-chappell-hill.jpg
END:VEVENT
END:VCALENDAR