BEGIN:VCALENDAR
VERSION:2.0
PRODID:-//KWHI.com - ECPv6.15.17.1//NONSGML v1.0//EN
CALSCALE:GREGORIAN
METHOD:PUBLISH
X-WR-CALNAME:KWHI.com
X-ORIGINAL-URL:https://kwhi.com
X-WR-CALDESC:Events for KWHI.com
REFRESH-INTERVAL;VALUE=DURATION:PT1H
X-Robots-Tag:noindex
X-PUBLISHED-TTL:PT1H
BEGIN:VTIMEZONE
TZID:America/Chicago
BEGIN:DAYLIGHT
TZOFFSETFROM:-0600
TZOFFSETTO:-0500
TZNAME:CDT
DTSTART:20230312T080000
END:DAYLIGHT
BEGIN:STANDARD
TZOFFSETFROM:-0500
TZOFFSETTO:-0600
TZNAME:CST
DTSTART:20231105T070000
END:STANDARD
BEGIN:DAYLIGHT
TZOFFSETFROM:-0600
TZOFFSETTO:-0500
TZNAME:CDT
DTSTART:20240310T080000
END:DAYLIGHT
BEGIN:STANDARD
TZOFFSETFROM:-0500
TZOFFSETTO:-0600
TZNAME:CST
DTSTART:20241103T070000
END:STANDARD
BEGIN:DAYLIGHT
TZOFFSETFROM:-0600
TZOFFSETTO:-0500
TZNAME:CDT
DTSTART:20250309T080000
END:DAYLIGHT
BEGIN:STANDARD
TZOFFSETFROM:-0500
TZOFFSETTO:-0600
TZNAME:CST
DTSTART:20251102T070000
END:STANDARD
BEGIN:DAYLIGHT
TZOFFSETFROM:-0600
TZOFFSETTO:-0500
TZNAME:CDT
DTSTART:20260308T080000
END:DAYLIGHT
BEGIN:STANDARD
TZOFFSETFROM:-0500
TZOFFSETTO:-0600
TZNAME:CST
DTSTART:20261101T070000
END:STANDARD
END:VTIMEZONE
BEGIN:VEVENT
DTSTART;VALUE=DATE:20241104
DTEND;VALUE=DATE:20241216
DTSTAMP:20260423T121653
CREATED:20241104T221727Z
LAST-MODIFIED:20241104T221727Z
UID:335849-1730678400-1734307199@kwhi.com
SUMMARY:City of Bellville Police Department Blue Santa Applications Accepted Now
DESCRIPTION:
URL:https://kwhi.com/event/city-of-bellville-police-department-blue-santa-applications-accepted-now/
LOCATION:TX
CATEGORIES:Bulletin Board
ATTACH;FMTTYPE=image/jpeg:https://kwhi.com/wp-content/uploads/2024/11/blue-santa-bellville.jpg
END:VEVENT
BEGIN:VEVENT
DTSTART;VALUE=DATE:20241203
DTEND;VALUE=DATE:20241216
DTSTAMP:20260423T121653
CREATED:20241203T160532Z
LAST-MODIFIED:20241203T160532Z
UID:337925-1733184000-1734307199@kwhi.com
SUMMARY:The Christmas Wish Project (Bellville)
DESCRIPTION:
URL:https://kwhi.com/event/the-christmas-wish-project-bellville/
LOCATION:First National Bank of Bellville\, 100 East Main \, Bellville\, TX\, 77418\, United States
CATEGORIES:Bulletin Board
ATTACH;FMTTYPE=image/jpeg:https://kwhi.com/wp-content/uploads/2024/12/christmas-wish-project.jpg
END:VEVENT
BEGIN:VEVENT
DTSTART;VALUE=DATE:20241203
DTEND;VALUE=DATE:20241217
DTSTAMP:20260423T121653
CREATED:20241203T160104Z
LAST-MODIFIED:20241203T160104Z
UID:337921-1733184000-1734393599@kwhi.com
SUMMARY:The Angel Tree Program at Industry State Bank (New Ulm)
DESCRIPTION:
URL:https://kwhi.com/event/the-angel-tree-program-at-industry-state-bank-new-ulm/
LOCATION:Industry State Bank (New Ulm Branch)\, 1210 FM 109\, New Ulm\, TX\, 78950\, United States
CATEGORIES:Bulletin Board
ATTACH;FMTTYPE=image/png:https://kwhi.com/wp-content/uploads/2024/12/joy-of-christmas.png
END:VEVENT
BEGIN:VEVENT
DTSTART;VALUE=DATE:20241203
DTEND;VALUE=DATE:20250106
DTSTAMP:20260423T121653
CREATED:20241203T161350Z
LAST-MODIFIED:20241203T161350Z
UID:337937-1733184000-1736121599@kwhi.com
SUMMARY:2024-2025 Holiday Hold'em (Austin & Fayette Counties)
DESCRIPTION:
URL:https://kwhi.com/event/2024-2025-holiday-holdem-austin-fayette-counties/
LOCATION:TX
CATEGORIES:Bulletin Board
ATTACH;FMTTYPE=image/jpeg:https://kwhi.com/wp-content/uploads/2024/12/holiday-holdem-2024-25.jpg
END:VEVENT
BEGIN:VEVENT
DTSTART;VALUE=DATE:20241204
DTEND;VALUE=DATE:20241225
DTSTAMP:20260423T121653
CREATED:20241204T151933Z
LAST-MODIFIED:20241204T151933Z
UID:338034-1733270400-1735084799@kwhi.com
SUMMARY:Faith Mission Red Kettle Campaign Sign-Up (Brenham)
DESCRIPTION:
URL:https://kwhi.com/event/faith-mission-red-kettle-campaign-sign-up-brenham/
LOCATION:TX
CATEGORIES:Bulletin Board
ATTACH;FMTTYPE=image/jpeg:https://kwhi.com/wp-content/uploads/2024/12/faith-mission-red-kettle-sign-up.jpg
END:VEVENT
BEGIN:VEVENT
DTSTART;VALUE=DATE:20241205
DTEND;VALUE=DATE:20241223
DTSTAMP:20260423T121653
CREATED:20241112T215317Z
LAST-MODIFIED:20241112T215317Z
UID:336546-1733356800-1734911999@kwhi.com
SUMMARY:Unity Theatre presents Fruitcakes by Julian Wiles
DESCRIPTION:
URL:https://kwhi.com/event/unity-theatre-presents-fruitcakes-by-julian-wiles/
LOCATION:Unity Theatre\, 300 Church Street\, Brenham\, TX\, 77833\, United States
CATEGORIES:Bulletin Board
ATTACH;FMTTYPE=image/jpeg:https://kwhi.com/wp-content/uploads/2024/11/fruitcakes.jpg
END:VEVENT
BEGIN:VEVENT
DTSTART;VALUE=DATE:20241205
DTEND;VALUE=DATE:20250101
DTSTAMP:20260423T121653
CREATED:20241205T142231Z
LAST-MODIFIED:20241205T142231Z
UID:338124-1733356800-1735689599@kwhi.com
SUMMARY:CUBS2READ Seeking Volunteer Tutors (Brenham)
DESCRIPTION:CUBS2READ is a volunteer tutoring program teaching our first\, second and third grade students reading and comprehension skills.  If you can spend 30-60 minutes one day a week effective January\, 2025\, please contact:  Billie Fowler\, 979 251-4568\, text accepted at this number as well.  All training and materials are provided by Brenham ISD.  \nAt the end of this school year\, donors will be send a dozen books home with each child who participated in the program.  To donate suitable books or make a monetary donation\, please contact Billie Fowler.
URL:https://kwhi.com/event/cubs2read-seeking-volunteer-tutors-brenham/
LOCATION:TX
CATEGORIES:Bulletin Board
ATTACH;FMTTYPE=image/png:https://kwhi.com/wp-content/uploads/2024/12/cubs2read-header.png
END:VEVENT
BEGIN:VEVENT
DTSTART;VALUE=DATE:20241207
DTEND;VALUE=DATE:20250120
DTSTAMP:20260423T121653
CREATED:20241203T205806Z
LAST-MODIFIED:20241203T205806Z
UID:337981-1733529600-1737331199@kwhi.com
SUMMARY:Smithsonian National Traveling Exhibit (Brenham)
DESCRIPTION:
URL:https://kwhi.com/event/smithsonian-national-traveling-exhibit-brenham/
LOCATION:The Barnhill Center at Historic Simon Theatre\, 111 W. Main\, Brenham\, TX\, 77833\, United States
CATEGORIES:Bulletin Board
ATTACH;FMTTYPE=image/jpeg:https://kwhi.com/wp-content/uploads/2024/12/smithsonian.jpg
END:VEVENT
BEGIN:VEVENT
DTSTART;VALUE=DATE:20241212
DTEND;VALUE=DATE:20241220
DTSTAMP:20260423T121653
CREATED:20241212T203649Z
LAST-MODIFIED:20241212T203649Z
UID:338639-1733961600-1734652799@kwhi.com
SUMMARY:CASA for Kids of South Central Texas Playhouse Drawing (Brenham)
DESCRIPTION:Virtual entries are sold online or at the Brenham office for cash or check-\nEmail is required for entry
URL:https://kwhi.com/event/casa-for-kids-of-south-central-texas-playhouse-drawing-brenham/
LOCATION:CASA for Kids of South Central Texas (Brenham)\, 1500 South Day Street\, Brenham\, TX\, 77833\, United States
CATEGORIES:Bulletin Board
ATTACH;FMTTYPE=image/jpeg:https://kwhi.com/wp-content/uploads/2024/12/CASA-drawing-dec-12.jpg
END:VEVENT
BEGIN:VEVENT
DTSTART;VALUE=DATE:20241212
DTEND;VALUE=DATE:20250201
DTSTAMP:20260423T121653
CREATED:20241205T154157Z
LAST-MODIFIED:20241205T154157Z
UID:338144-1733961600-1738367999@kwhi.com
SUMMARY:Brenham HS Art Students Photography Exhibition
DESCRIPTION:Join the Brenham High School Art Students in celebrating the creativity and talent of the BHS art students at their Photography Exhibition hosted at Blinn College!  \nExhibit Dates: December 12 - January 31\nOpening Reception: December 12\, 6:30 PM - 7:30 PM
URL:https://kwhi.com/event/brenham-hs-art-students-photography-exhibition/
LOCATION:Blinn College Brenham Campus Library\, 700 Blinn Blvd.\, Brenham\, TX\, 77833\, United States
CATEGORIES:Bulletin Board
ATTACH;FMTTYPE=image/jpeg:https://kwhi.com/wp-content/uploads/2024/12/469417081_1126982972765990_3987597644343219179_n.jpg
END:VEVENT
BEGIN:VEVENT
DTSTART;VALUE=DATE:20241213
DTEND;VALUE=DATE:20241215
DTSTAMP:20260423T121653
CREATED:20241022T193107Z
LAST-MODIFIED:20241022T193107Z
UID:334932-1734048000-1734220799@kwhi.com
SUMMARY:Ledbetter VFD Christmas Lane of Lights
DESCRIPTION:
URL:https://kwhi.com/event/ledbetter-vfd-christmas-lane-of-lights-3/
LOCATION:Downtown Ledbetter\, FM 1291 & Hwy. 290\, Ledbetter\, TX\, 78946\, United States
CATEGORIES:Bulletin Board
ATTACH;FMTTYPE=image/jpeg:https://kwhi.com/wp-content/uploads/2024/10/ledbetter-christmas-lane-of-lights.jpg
END:VEVENT
BEGIN:VEVENT
DTSTART;VALUE=DATE:20241213
DTEND;VALUE=DATE:20241216
DTSTAMP:20260423T121653
CREATED:20241107T213010Z
LAST-MODIFIED:20241107T213010Z
UID:336150-1734048000-1734307199@kwhi.com
SUMMARY:Winedale's annual Quilt Exhibit
DESCRIPTION:
URL:https://kwhi.com/event/winedales-annual-quilt-exhibit-2/
LOCATION:Meadow’s Building\, 3738 FM 2714\, Round Top\, TX\, 78954\, United States
CATEGORIES:Bulletin Board
ATTACH;FMTTYPE=image/jpeg:https://kwhi.com/wp-content/uploads/2024/11/an-intimate-bond.jpg
END:VEVENT
BEGIN:VEVENT
DTSTART;VALUE=DATE:20241214
DTEND;VALUE=DATE:20241215
DTSTAMP:20260423T121653
CREATED:20240826T211625Z
LAST-MODIFIED:20240826T211625Z
UID:330421-1734134400-1734220799@kwhi.com
SUMMARY:New Testament Outreach Church Banquet (College Station)
DESCRIPTION:
URL:https://kwhi.com/event/new-testament-outreach-church-banquet-college-station/
LOCATION:Lincoln Recreation Center\, 1000 Eleanor Street\, College Station\, TX\, 77840\, United States
CATEGORIES:Bulletin Board
ATTACH;FMTTYPE=image/jpeg:https://kwhi.com/wp-content/uploads/2024/08/new-testiment-church-dec.jpg
END:VEVENT
BEGIN:VEVENT
DTSTART;VALUE=DATE:20241214
DTEND;VALUE=DATE:20241215
DTSTAMP:20260423T121653
CREATED:20241104T164949Z
LAST-MODIFIED:20241104T164949Z
UID:335806-1734134400-1734220799@kwhi.com
SUMMARY:Anchor Club of Brenham sponsoring Wreaths across America
DESCRIPTION:The Anchor Club of Brenham is sponsoring Wreaths across America right here in Brenham at the Prairie Lea Cemetery.   Remember the fallen\, Honor those who serve\, Teach the next generation the value of freedom. This is the mission of Wreaths Across America.  You can join us by helping lay wreaths on Veterans graves at Prairie Lea Cemetery on December 14\, at 2pm.  Please text Carol Hutchens at 979-451-9579 for more information.
URL:https://kwhi.com/event/anchor-club-of-brenham-sponsoring-wreaths-across-america-2/
LOCATION:Prairie Lea Cemetery\, 1004 Prairie Lea Street\, Brenham\, TX\, 77833\, United States
CATEGORIES:Bulletin Board
ATTACH;FMTTYPE=image/png:https://kwhi.com/wp-content/uploads/2024/11/wreaths-across-america.png
END:VEVENT
BEGIN:VEVENT
DTSTART;VALUE=DATE:20241214
DTEND;VALUE=DATE:20241215
DTSTAMP:20260423T121653
CREATED:20241107T211531Z
LAST-MODIFIED:20241107T211531Z
UID:336135-1734134400-1734220799@kwhi.com
SUMMARY:Home for the Holidays A Navasota Christmas
DESCRIPTION:
URL:https://kwhi.com/event/home-for-the-holidays-a-navasota-christmas-2/
LOCATION:TX
CATEGORIES:Bulletin Board
ATTACH;FMTTYPE=image/jpeg:https://kwhi.com/wp-content/uploads/2024/11/home-for-the-holidays-nava.jpg
END:VEVENT
BEGIN:VEVENT
DTSTART;VALUE=DATE:20241214
DTEND;VALUE=DATE:20241215
DTSTAMP:20260423T121653
CREATED:20241203T205941Z
LAST-MODIFIED:20241203T205941Z
UID:337984-1734134400-1734220799@kwhi.com
SUMMARY:Brenham Children's Chorus presents Christmas Memories
DESCRIPTION:
URL:https://kwhi.com/event/brenham-childrens-chorus-presents-christmas-memories/
LOCATION:Dr. W.W. O’Donnell Performing Arts Center\, 600 Blinn Blvd.\, Brenham\, TX\, 77833\, United States
CATEGORIES:Bulletin Board
ATTACH;FMTTYPE=image/jpeg:https://kwhi.com/wp-content/uploads/2024/12/bcc-christmas-memories.jpg
END:VEVENT
BEGIN:VEVENT
DTSTART;VALUE=DATE:20241214
DTEND;VALUE=DATE:20241215
DTSTAMP:20260423T121653
CREATED:20241206T214040Z
LAST-MODIFIED:20241206T214040Z
UID:338259-1734134400-1734220799@kwhi.com
SUMMARY:WC Mass Choir Concert Rehearsal Schedule (Brenham)
DESCRIPTION:
URL:https://kwhi.com/event/wc-mass-choir-concert-rehearsal-schedule-brenham-2/
LOCATION:New Life Church of God (Brenham)\, 1990 Farm to Market 389\, Brenham\, TX\, 77833\, United States
CATEGORIES:Bulletin Board
ATTACH;FMTTYPE=image/jpeg:https://kwhi.com/wp-content/uploads/2024/12/wc-mass-choir-rehearsal.jpg
END:VEVENT
BEGIN:VEVENT
DTSTART;TZID=America/Chicago:20241214T090000
DTEND;TZID=America/Chicago:20241214T120000
DTSTAMP:20260423T121653
CREATED:20241022T150118Z
LAST-MODIFIED:20241030T190559Z
UID:334869-1734166800-1734177600@kwhi.com
SUMMARY:Breakfast with Santa (Giddings)
DESCRIPTION:
URL:https://kwhi.com/event/breakfast-with-santa-giddings/
LOCATION:Lee County Youth Center\, 451 N. Dallas St.\, Giddings\, TX\, 78942\, United States
CATEGORIES:Bulletin Board
ATTACH;FMTTYPE=image/jpeg:https://kwhi.com/wp-content/uploads/2024/10/breakfast-w-santa-giddings.jpg
END:VEVENT
BEGIN:VEVENT
DTSTART;TZID=America/Chicago:20241214T090000
DTEND;TZID=America/Chicago:20241214T130000
DTSTAMP:20260423T121653
CREATED:20241119T191643Z
LAST-MODIFIED:20241119T191643Z
UID:337136-1734166800-1734181200@kwhi.com
SUMMARY:Navasota Farmer's Market
DESCRIPTION:
URL:https://kwhi.com/event/navasota-farmers-market-21/
LOCATION:Navasota Public Library\, 1411 E. Washington Ave.\, Navasota\, TX\, 77868\, United States
CATEGORIES:Bulletin Board
ATTACH;FMTTYPE=image/jpeg:https://kwhi.com/wp-content/uploads/2024/11/nava-farmers-market-dec.jpg
END:VEVENT
BEGIN:VEVENT
DTSTART;TZID=America/Chicago:20241214T100000
DTEND;TZID=America/Chicago:20241214T140000
DTSTAMP:20260423T121653
CREATED:20240821T194041Z
LAST-MODIFIED:20240821T194041Z
UID:330119-1734170400-1734184800@kwhi.com
SUMMARY:Benefit Bake Sale-Help Students go to Italy (Brenham)
DESCRIPTION:
URL:https://kwhi.com/event/benefit-bake-sale-help-students-go-to-italy-brenham-2/
LOCATION:Tractor Supply Brenham\, 2718 S Market\, Brenham\, TX\, 77833\, United States
CATEGORIES:Bulletin Board
ATTACH;FMTTYPE=image/jpeg:https://kwhi.com/wp-content/uploads/2024/08/bake-sale-aug-sept-oct-nov-dec.jpg
END:VEVENT
BEGIN:VEVENT
DTSTART;TZID=America/Chicago:20241214T100000
DTEND;TZID=America/Chicago:20241214T170000
DTSTAMP:20260423T121653
CREATED:20241126T213150Z
LAST-MODIFIED:20241126T213150Z
UID:337598-1734170400-1734195600@kwhi.com
SUMMARY:Chappell Hill Garden Club Christmas Home Tour
DESCRIPTION:
URL:https://kwhi.com/event/chappell-hill-garden-club-christmas-home-tour-2/
LOCATION:TX
CATEGORIES:Bulletin Board
ATTACH;FMTTYPE=image/jpeg:https://kwhi.com/wp-content/uploads/2024/11/ch-christmas-home-tour-dec.jpg
END:VEVENT
BEGIN:VEVENT
DTSTART;TZID=America/Chicago:20241214T120000
DTEND;TZID=America/Chicago:20241214T160000
DTSTAMP:20260423T121653
CREATED:20241206T184944Z
LAST-MODIFIED:20241206T184944Z
UID:338242-1734177600-1734192000@kwhi.com
SUMMARY:Burton Christmas Market
DESCRIPTION:Explore the Burton Christmas Market & More with hand-crafted local items\, baked goods\, silent auction and more at the Oliver Whitener-Roy Winkler Pavilions. Enjoy delicious food and soak up the holiday spirit with fun crafts! From 1-3pm\, Santa will arrive for festive photos and Half Azz Wagon Company will give wagon rides. Enjoy community caroling from 3-4pm. Presented by the Burton Heritage Society and the Burton Chamber. All activities are free except for food/drink/shopping.  Starting around 5:30pm\, catch a ride with our friends with Half Azz Wagon Company to check out the festive lights around town. Head to Burton Short Stop Ice House for the Holiday Ho Ho Ho Down with pizza & wings\, prize drawings\, announcement of the Christmas light winners for Burton AND live music with Josh Buttles from 8-11pm.  Los Patrones and White Horse Tavern are other great stops for food and tasty beverages.
URL:https://kwhi.com/event/burton-christmas-market/
LOCATION:TX
CATEGORIES:Bulletin Board
ATTACH;FMTTYPE=image/png:https://kwhi.com/wp-content/uploads/2024/12/burton-christmas-market-dec-14.png
END:VEVENT
BEGIN:VEVENT
DTSTART;TZID=America/Chicago:20241214T153000
DTEND;TZID=America/Chicago:20241214T170000
DTSTAMP:20260423T121653
CREATED:20241203T195821Z
LAST-MODIFIED:20241203T195821Z
UID:337977-1734190200-1734195600@kwhi.com
SUMMARY:Texas Christmas Teddy Bear Parade (Chappell Hill)
DESCRIPTION:
URL:https://kwhi.com/event/texas-christmas-teddy-bear-parade-chappell-hill/
LOCATION:Downtown Chappell Hill\, Main Street\, Chappell Hill\, TX\, 77426\, United States
CATEGORIES:Bulletin Board
ATTACH;FMTTYPE=image/png:https://kwhi.com/wp-content/uploads/2024/12/tx-christmas-teddy-bear-parade.png
END:VEVENT
END:VCALENDAR