BEGIN:VCALENDAR
VERSION:2.0
PRODID:-//KWHI.com - ECPv6.15.17.1//NONSGML v1.0//EN
CALSCALE:GREGORIAN
METHOD:PUBLISH
X-ORIGINAL-URL:https://kwhi.com
X-WR-CALDESC:Events for KWHI.com
REFRESH-INTERVAL;VALUE=DURATION:PT1H
X-Robots-Tag:noindex
X-PUBLISHED-TTL:PT1H
BEGIN:VTIMEZONE
TZID:America/Chicago
BEGIN:DAYLIGHT
TZOFFSETFROM:-0600
TZOFFSETTO:-0500
TZNAME:CDT
DTSTART:20230312T080000
END:DAYLIGHT
BEGIN:STANDARD
TZOFFSETFROM:-0500
TZOFFSETTO:-0600
TZNAME:CST
DTSTART:20231105T070000
END:STANDARD
BEGIN:DAYLIGHT
TZOFFSETFROM:-0600
TZOFFSETTO:-0500
TZNAME:CDT
DTSTART:20240310T080000
END:DAYLIGHT
BEGIN:STANDARD
TZOFFSETFROM:-0500
TZOFFSETTO:-0600
TZNAME:CST
DTSTART:20241103T070000
END:STANDARD
BEGIN:DAYLIGHT
TZOFFSETFROM:-0600
TZOFFSETTO:-0500
TZNAME:CDT
DTSTART:20250309T080000
END:DAYLIGHT
BEGIN:STANDARD
TZOFFSETFROM:-0500
TZOFFSETTO:-0600
TZNAME:CST
DTSTART:20251102T070000
END:STANDARD
BEGIN:DAYLIGHT
TZOFFSETFROM:-0600
TZOFFSETTO:-0500
TZNAME:CDT
DTSTART:20260308T080000
END:DAYLIGHT
BEGIN:STANDARD
TZOFFSETFROM:-0500
TZOFFSETTO:-0600
TZNAME:CST
DTSTART:20261101T070000
END:STANDARD
END:VTIMEZONE
BEGIN:VEVENT
DTSTART;VALUE=DATE:20250819
DTEND;VALUE=DATE:20250917
DTSTAMP:20260425T110733
CREATED:20250819T191857Z
LAST-MODIFIED:20250819T191857Z
UID:355975-1755561600-1758067199@kwhi.com
SUMMARY:Texas A&M AgriLife Extension Fall Plant Sale (Brenham)
DESCRIPTION:
URL:https://kwhi.com/event/texas-am-agrilife-extension-fall-plant-sale-brenham/
LOCATION:Texas A&M AgriLife Extension (Washington County)\, 1305 East Blue Bell Road\, Brenham\, TX\, 77833\, United States
CATEGORIES:Bulletin Board
ATTACH;FMTTYPE=image/jpeg:https://kwhi.com/wp-content/uploads/2025/08/fall-plant-sale-end-sept-16.jpg
END:VEVENT
BEGIN:VEVENT
DTSTART;VALUE=DATE:20250825
DTEND;VALUE=DATE:20250913
DTSTAMP:20260425T110733
CREATED:20250825T214629Z
LAST-MODIFIED:20250825T214629Z
UID:356470-1756080000-1757721599@kwhi.com
SUMMARY:Main Street Brenham 22nd Annual Scarecrow Extravaganza
DESCRIPTION:The public can decorate downtown with colorful scarecrows and have the opportunity to win cash prizes. Online registration is open now at www.downtownbrenham.com/scarecrows and continues through September 12th.  All individuals\, schools\, clubs and organizations are welcome to participate.  \nScarecrows can be set up starting on September 25th and must be in downtown by September 29th at 6 p.m.  \nVoting will run from October 1-23\, and the winners will be announced on October 27th.  \nFor additional information or questions\, contact Main Street Manager Leigh Linden at llinden@cityofbrenham.org.
URL:https://kwhi.com/event/main-street-brenham-22nd-annual-scarecrow-extravaganza/
LOCATION:TX
CATEGORIES:Bulletin Board
ATTACH;FMTTYPE=image/jpeg:https://kwhi.com/wp-content/uploads/2025/08/Scarecrow-web-logo-Copy-1024x1024-1.jpg
END:VEVENT
BEGIN:VEVENT
DTSTART;VALUE=DATE:20250828
DTEND;VALUE=DATE:20250916
DTSTAMP:20260425T110733
CREATED:20250815T200558Z
LAST-MODIFIED:20250815T200558Z
UID:355778-1756339200-1757980799@kwhi.com
SUMMARY:Washington County Fair Country Creation News (Brenham)
DESCRIPTION:Country Creation Exhibits will be in the EXPO EVENT CENTER for the 2025 Washington County Fair.  All residents of the county are invited and encouraged to participate. \nArt\, Alternative Foods\, Canned Products\, Creative Arts and Crafts\, Designer Craftsman\, Machine Sewn\, Needlework\, Photography\, Quilts and Country Store exhibits are to be checked in Thursday\, September 11th from 3:00-7:00 pm  \nCheck-in time for Baked and Decorated Baked Products is Monday\, September 15th from 7:30-9:00 am. And check-in time for School Floral is from 4:00-5:00 pm \nThere will be no Department for Vegetables\, Adult Flowers or School Art for the 2025 Fair. \nAdult exhibitors can obtain an exhibitor number for $5 from 3-6:30 pm on August 28 or when they check-in. \nBoth Adult and Youth Division Catalogues can be found on-line at: washingtoncofair.com/p/the fair/country-creations  \nYouth exhibitors must be registered online in the ShoWorks system by 6 p.m. September 3rd
URL:https://kwhi.com/event/washington-county-fair-country-creation-news-brenham/
LOCATION:TX
CATEGORIES:Bulletin Board
ATTACH;FMTTYPE=image/png:https://kwhi.com/wp-content/uploads/2025/08/washington-co-fair-2025.png
END:VEVENT
BEGIN:VEVENT
DTSTART;VALUE=DATE:20241006
DTEND;VALUE=DATE:20241007
DTSTAMP:20260425T110733
CREATED:20240926T203348Z
LAST-MODIFIED:20240926T203348Z
UID:332819-1728172800-1728259199@kwhi.com
SUMMARY:Re-Purpose your old Glasses
DESCRIPTION:Contact your local Lions Club for details!
URL:https://kwhi.com/event/re-purpose-your-old-glasses/
LOCATION:TX
CATEGORIES:Bulletin Board
ATTACH;FMTTYPE=image/jpeg:https://kwhi.com/wp-content/uploads/2024/09/old-glasses.jpg
END:VEVENT
BEGIN:VEVENT
DTSTART;VALUE=DATE:20250907
DTEND;VALUE=DATE:20250908
DTSTAMP:20260425T110733
CREATED:20250818T194713Z
LAST-MODIFIED:20250818T194713Z
UID:355879-1757203200-1757289599@kwhi.com
SUMMARY:Allwise MBC-Chappell Hill Pastoral Appreciation Celebration
DESCRIPTION:Allwise MBC will be celebrating the 7th Pastoral Appreciation Celebration for their Pastor Garry W. Jones on Sunday\, September 7th \n11:15 AM\, the speaker will be Pastor Charles Allen of the Mt. Nebo MBC in Houston\n2:30 PM the speaker is Pastor John Batiste\, V with Ebenezer MBC in Chappell Hill
URL:https://kwhi.com/event/allwise-mbc-chappell-hill-pastoral-appreciation-celebration/
LOCATION:Allwise Missionary Baptist Church (Chappell Hill)\, 885 Allwise Road\, Chappell Hill\, TX\, 77426\, United States
CATEGORIES:Bulletin Board
ATTACH;FMTTYPE=image/jpeg:https://kwhi.com/wp-content/uploads/2025/08/allwise-mbc-chappell-hill-1.jpg
END:VEVENT
BEGIN:VEVENT
DTSTART;VALUE=DATE:20250907
DTEND;VALUE=DATE:20250908
DTSTAMP:20260425T110733
CREATED:20250822T204714Z
LAST-MODIFIED:20250822T204714Z
UID:356324-1757203200-1757289599@kwhi.com
SUMMARY:Industry Immaculate Conception Catholic Church Fall Festival
DESCRIPTION:
URL:https://kwhi.com/event/industry-immaculate-conception-catholic-church-fall-festival-4/
LOCATION:Industry Fireman’s Hall\, 16632 Fordtran Blvd. (Hwy. 159)\, Industry\, TX\, 78944\, United States
CATEGORIES:Bulletin Board
ATTACH;FMTTYPE=image/jpeg:https://kwhi.com/wp-content/uploads/2025/08/fall-festival-sept-7.jpg
END:VEVENT
BEGIN:VEVENT
DTSTART;VALUE=DATE:20250907
DTEND;VALUE=DATE:20250908
DTSTAMP:20260425T110733
CREATED:20250905T213755Z
LAST-MODIFIED:20250905T213755Z
UID:357277-1757203200-1757289599@kwhi.com
SUMMARY:Join Navasota 4-H
DESCRIPTION:
URL:https://kwhi.com/event/join-navasota-4-h-2/
LOCATION:Navasota Annex Building\, 205 Veterans Memorial Drive\, Navasota\, TX\, 77868\, United States
CATEGORIES:Bulletin Board
ATTACH;FMTTYPE=image/jpeg:https://kwhi.com/wp-content/uploads/2025/09/navasota-4-H-sept-7.jpg
END:VEVENT
BEGIN:VEVENT
DTSTART;TZID=America/Chicago:20250907T130000
DTEND;TZID=America/Chicago:20250907T160000
DTSTAMP:20260425T110733
CREATED:20250709T202622Z
LAST-MODIFIED:20250709T202622Z
UID:353629-1757250000-1757260800@kwhi.com
SUMMARY:2025 Fall Wedding Show (Brenham)
DESCRIPTION:
URL:https://kwhi.com/event/2025-fall-wedding-show-brenham/
LOCATION:The Barnhill Center at Historic Simon Theatre\, 111 W. Main\, Brenham\, TX\, 77833\, United States
CATEGORIES:Bulletin Board
ATTACH;FMTTYPE=image/jpeg:https://kwhi.com/wp-content/uploads/2025/07/wedding-show-sept-7.jpg
END:VEVENT
BEGIN:VEVENT
DTSTART;TZID=America/Chicago:20250907T140000
DTEND;TZID=America/Chicago:20250907T160000
DTSTAMP:20260425T110733
CREATED:20250825T185354Z
LAST-MODIFIED:20250825T185354Z
UID:356459-1757253600-1757260800@kwhi.com
SUMMARY:Brenham Belles Mini Belle Camp
DESCRIPTION:
URL:https://kwhi.com/event/brenham-belles-mini-belle-camp/
LOCATION:Brenham High School Gym\, 525 A H Ehrig Drive \, Brenham\, TX\, 77833\, United States
CATEGORIES:Bulletin Board
ATTACH;FMTTYPE=image/jpeg:https://kwhi.com/wp-content/uploads/2025/08/belle-camp-sept-7.jpg
END:VEVENT
END:VCALENDAR