BEGIN:VCALENDAR
VERSION:2.0
PRODID:-//KWHI.com - ECPv6.15.17.1//NONSGML v1.0//EN
CALSCALE:GREGORIAN
METHOD:PUBLISH
X-WR-CALNAME:KWHI.com
X-ORIGINAL-URL:https://kwhi.com
X-WR-CALDESC:Events for KWHI.com
REFRESH-INTERVAL;VALUE=DURATION:PT1H
X-Robots-Tag:noindex
X-PUBLISHED-TTL:PT1H
BEGIN:VTIMEZONE
TZID:America/Chicago
BEGIN:DAYLIGHT
TZOFFSETFROM:-0600
TZOFFSETTO:-0500
TZNAME:CDT
DTSTART:20250309T080000
END:DAYLIGHT
BEGIN:STANDARD
TZOFFSETFROM:-0500
TZOFFSETTO:-0600
TZNAME:CST
DTSTART:20251102T070000
END:STANDARD
BEGIN:DAYLIGHT
TZOFFSETFROM:-0600
TZOFFSETTO:-0500
TZNAME:CDT
DTSTART:20260308T080000
END:DAYLIGHT
BEGIN:STANDARD
TZOFFSETFROM:-0500
TZOFFSETTO:-0600
TZNAME:CST
DTSTART:20261101T070000
END:STANDARD
BEGIN:DAYLIGHT
TZOFFSETFROM:-0600
TZOFFSETTO:-0500
TZNAME:CDT
DTSTART:20270314T080000
END:DAYLIGHT
BEGIN:STANDARD
TZOFFSETFROM:-0500
TZOFFSETTO:-0600
TZNAME:CST
DTSTART:20271107T070000
END:STANDARD
END:VTIMEZONE
BEGIN:VEVENT
DTSTART;VALUE=DATE:20260225
DTEND;VALUE=DATE:20260401
DTSTAMP:20260423T003700
CREATED:20260225T202440Z
LAST-MODIFIED:20260225T202440Z
UID:370716-1771977600-1775001599@kwhi.com
SUMMARY:Austin County Cattle Women Scholarship 2026
DESCRIPTION:
URL:https://kwhi.com/event/austin-county-cattle-women-scholarship-2026/
LOCATION:TX
CATEGORIES:Bulletin Board
ATTACH;FMTTYPE=image/jpeg:https://kwhi.com/wp-content/uploads/2026/02/ac-cattlewomen-scholarship-end-mar-31.jpg
END:VEVENT
BEGIN:VEVENT
DTSTART;VALUE=DATE:20260309
DTEND;VALUE=DATE:20260401
DTSTAMP:20260423T003700
CREATED:20260309T192839Z
LAST-MODIFIED:20260309T192914Z
UID:371790-1773014400-1775001599@kwhi.com
SUMMARY:Austin County Feral Hog Bounty Program
DESCRIPTION:
URL:https://kwhi.com/event/austin-county-feral-hog-bounty-program-2/
LOCATION:TX
CATEGORIES:Bulletin Board
ATTACH;FMTTYPE=image/jpeg:https://kwhi.com/wp-content/uploads/2026/03/ac-feral-hog.jpg
END:VEVENT
BEGIN:VEVENT
DTSTART;VALUE=DATE:20260310
DTEND;VALUE=DATE:20260401
DTSTAMP:20260423T003700
CREATED:20260310T141102Z
LAST-MODIFIED:20260310T141102Z
UID:371928-1773100800-1775001599@kwhi.com
SUMMARY:Ruth Circle & Methodist Men Scholarships Due April 1st (Bellville)
DESCRIPTION:
URL:https://kwhi.com/event/ruth-circle-methodist-men-scholarships-due-april-1st-bellville/
LOCATION:Bellville Methodist Church\, 234 S. Masonic St.\, Bellville\, TX\, 77418\, United States
CATEGORIES:Bulletin Board
ATTACH;FMTTYPE=image/jpeg:https://kwhi.com/wp-content/uploads/2026/03/scholarships-due-apr-1.jpg
END:VEVENT
BEGIN:VEVENT
DTSTART;VALUE=DATE:20260316
DTEND;VALUE=DATE:20260317
DTSTAMP:20260423T003700
CREATED:20260212T151326Z
LAST-MODIFIED:20260212T151326Z
UID:369464-1773619200-1773705599@kwhi.com
SUMMARY:Austin County Fair Bucket Calf Project Informational Meeting (Bellville)
DESCRIPTION:
URL:https://kwhi.com/event/austin-county-fair-bucket-calf-project-informational-meeting-bellville-2/
LOCATION:Austin County Fair Entertainment Pavilion\, 1076 Hwy 159 E\, Bellville\, TX\, 77418\, United States
CATEGORIES:Bulletin Board
ATTACH;FMTTYPE=image/jpeg:https://kwhi.com/wp-content/uploads/2026/02/bucket-calf-march-16.jpg
END:VEVENT
BEGIN:VEVENT
DTSTART;VALUE=DATE:20260316
DTEND;VALUE=DATE:20260320
DTSTAMP:20260423T003700
CREATED:20260129T144045Z
LAST-MODIFIED:20260129T144045Z
UID:367991-1773619200-1773964799@kwhi.com
SUMMARY:ARTS for Rural Texas presents Art with Jo (Navasota)
DESCRIPTION:
URL:https://kwhi.com/event/arts-for-rural-texas-presents-art-with-jo-navasota-9/
LOCATION:Navasota Center\, 101 Stadium Drive\, Navasota\, TX\, 77868\, United States
CATEGORIES:Bulletin Board
ATTACH;FMTTYPE=image/png:https://kwhi.com/wp-content/uploads/2026/01/art-w-jo-end-mar-26.png
END:VEVENT
BEGIN:VEVENT
DTSTART;TZID=America/Chicago:20260316T100000
DTEND;TZID=America/Chicago:20260316T110000
DTSTAMP:20260423T003700
CREATED:20260225T222524Z
LAST-MODIFIED:20260225T222524Z
UID:370736-1773655200-1773658800@kwhi.com
SUMMARY:Arts for Rural Texas presents Art with Allison (Navasota)
DESCRIPTION:
URL:https://kwhi.com/event/arts-for-rural-texas-presents-art-with-allison-navasota-5/
LOCATION:Navasota Center\, 101 Stadium Drive\, Navasota\, TX\, 77868\, United States
CATEGORIES:Bulletin Board
ATTACH;FMTTYPE=image/png:https://kwhi.com/wp-content/uploads/2026/02/art-w-allison-end-mar-23.png
END:VEVENT
END:VCALENDAR