BEGIN:VCALENDAR
VERSION:2.0
PRODID:-//KWHI.com - ECPv6.15.17.1//NONSGML v1.0//EN
CALSCALE:GREGORIAN
METHOD:PUBLISH
X-WR-CALNAME:KWHI.com
X-ORIGINAL-URL:https://kwhi.com
X-WR-CALDESC:Events for KWHI.com
REFRESH-INTERVAL;VALUE=DURATION:PT1H
X-Robots-Tag:noindex
X-PUBLISHED-TTL:PT1H
BEGIN:VTIMEZONE
TZID:America/Chicago
BEGIN:DAYLIGHT
TZOFFSETFROM:-0600
TZOFFSETTO:-0500
TZNAME:CDT
DTSTART:20250309T080000
END:DAYLIGHT
BEGIN:STANDARD
TZOFFSETFROM:-0500
TZOFFSETTO:-0600
TZNAME:CST
DTSTART:20251102T070000
END:STANDARD
BEGIN:DAYLIGHT
TZOFFSETFROM:-0600
TZOFFSETTO:-0500
TZNAME:CDT
DTSTART:20260308T080000
END:DAYLIGHT
BEGIN:STANDARD
TZOFFSETFROM:-0500
TZOFFSETTO:-0600
TZNAME:CST
DTSTART:20261101T070000
END:STANDARD
BEGIN:DAYLIGHT
TZOFFSETFROM:-0600
TZOFFSETTO:-0500
TZNAME:CDT
DTSTART:20270314T080000
END:DAYLIGHT
BEGIN:STANDARD
TZOFFSETFROM:-0500
TZOFFSETTO:-0600
TZNAME:CST
DTSTART:20271107T070000
END:STANDARD
END:VTIMEZONE
BEGIN:VEVENT
DTSTART;VALUE=DATE:20260407
DTEND;VALUE=DATE:20260503
DTSTAMP:20260424T204123
CREATED:20260407T190833Z
LAST-MODIFIED:20260407T190833Z
UID:374175-1775520000-1777766399@kwhi.com
SUMMARY:Downtown Brenham's Peanut Butter & Jam Drive
DESCRIPTION:
URL:https://kwhi.com/event/downtown-brenhams-peanut-butter-jam-drive-3/
LOCATION:Downtown Brenham\, Brenham\, TX\, 77833\, United States
CATEGORIES:Bulletin Board
ATTACH;FMTTYPE=image/jpeg:https://kwhi.com/wp-content/uploads/2026/04/pbj-end-may-2.jpg
END:VEVENT
BEGIN:VEVENT
DTSTART;VALUE=DATE:20260421
DTEND;VALUE=DATE:20260429
DTSTAMP:20260424T204123
CREATED:20260421T185501Z
LAST-MODIFIED:20260421T185501Z
UID:375171-1776729600-1777420799@kwhi.com
SUMMARY:Washington County Photo Call
DESCRIPTION:Washington County is looking to residents for their help in sharing what makes the community special.  The county is working on a new website and invites citizens to submit photos to be featured on the website.  From scenic views and local events to historic landmarks and everyday life\, the county says it wants to showcase its unique beauty\, people and moments. \nPhotos can be sent by email to countyjudge@washingtoncountytx.gov\, or posted in the comments of the county’s social media post announcing the initiative.  Photos are due by Tuesday\, April 28th. \nGuidelines for capturing photos include: \n\nMinimum photo width: 2200 pixels\nFile size: approximately 1 MB or larger\nResolution: 72 dpi or higher\nFile types: JPEG\, JPG\, TIFF\, PSD\, or PNG\nColor mode: RGB or CMYK
URL:https://kwhi.com/event/washington-county-photo-call/
LOCATION:TX
CATEGORIES:Bulletin Board
ATTACH;FMTTYPE=image/jpeg:https://kwhi.com/wp-content/uploads/2026/04/photo-call-end-apr-28.jpg
END:VEVENT
BEGIN:VEVENT
DTSTART;VALUE=DATE:20260427
DTEND;VALUE=DATE:20260428
DTSTAMP:20260424T204123
CREATED:20260424T213137Z
LAST-MODIFIED:20260424T213137Z
UID:375446-1777248000-1777334399@kwhi.com
SUMMARY:Navasota ISD Percussion Ensemble Concert
DESCRIPTION:
URL:https://kwhi.com/event/navasota-isd-percussion-ensemble-concert/
LOCATION:Navasota High School Gym\, 1 Rattler Drive\, Navasota\, TX\, 77868\, United States
CATEGORIES:Bulletin Board
ATTACH;FMTTYPE=image/jpeg:https://kwhi.com/wp-content/uploads/2026/04/percussion-concert-apr-27.jpg
END:VEVENT
END:VCALENDAR