BEGIN:VCALENDAR
VERSION:2.0
PRODID:-//KWHI.com - ECPv6.15.17.1//NONSGML v1.0//EN
CALSCALE:GREGORIAN
METHOD:PUBLISH
X-WR-CALNAME:KWHI.com
X-ORIGINAL-URL:https://kwhi.com
X-WR-CALDESC:Events for KWHI.com
REFRESH-INTERVAL;VALUE=DURATION:PT1H
X-Robots-Tag:noindex
X-PUBLISHED-TTL:PT1H
BEGIN:VTIMEZONE
TZID:America/Chicago
BEGIN:DAYLIGHT
TZOFFSETFROM:-0600
TZOFFSETTO:-0500
TZNAME:CDT
DTSTART:20240310T080000
END:DAYLIGHT
BEGIN:STANDARD
TZOFFSETFROM:-0500
TZOFFSETTO:-0600
TZNAME:CST
DTSTART:20241103T070000
END:STANDARD
BEGIN:DAYLIGHT
TZOFFSETFROM:-0600
TZOFFSETTO:-0500
TZNAME:CDT
DTSTART:20250309T080000
END:DAYLIGHT
BEGIN:STANDARD
TZOFFSETFROM:-0500
TZOFFSETTO:-0600
TZNAME:CST
DTSTART:20251102T070000
END:STANDARD
BEGIN:DAYLIGHT
TZOFFSETFROM:-0600
TZOFFSETTO:-0500
TZNAME:CDT
DTSTART:20260308T080000
END:DAYLIGHT
BEGIN:STANDARD
TZOFFSETFROM:-0500
TZOFFSETTO:-0600
TZNAME:CST
DTSTART:20261101T070000
END:STANDARD
END:VTIMEZONE
BEGIN:VEVENT
DTSTART;TZID=America/Chicago:20251101T150000
DTEND;TZID=America/Chicago:20251101T180000
DTSTAMP:20260419T233403
CREATED:20250819T194935Z
LAST-MODIFIED:20250819T194935Z
UID:355997-1762009200-1762020000@kwhi.com
SUMMARY:Blinn Football vs Kilgore College
DESCRIPTION:The Blinn College Buccaneers host the Kilgore College Rangers at Cub Stadium in Brenham for a conference matchup
URL:https://kwhi.com/event/blinn-football-vs-kilgore-college/
LOCATION:Cub Stadium\, 1600 East Tom Green\, Brenham\, TX\, 77833\, United States
CATEGORIES:Sports Events
END:VEVENT
BEGIN:VEVENT
DTSTART;TZID=America/Chicago:20251105T173000
DTEND;TZID=America/Chicago:20251105T190000
DTSTAMP:20260419T233403
CREATED:20251105T170230Z
LAST-MODIFIED:20251105T170230Z
UID:361905-1762363800-1762369200@kwhi.com
SUMMARY:BLINN BUCCANEER WOMEN'S BASKETBALL
DESCRIPTION:The Blinn Buccaneer Women's Basketball Team will host McLennan Community College in the season opener on Wednesday\, November 5. The opening tipoff is scheduled for 5:30pm at the Kruse Center in Brenham.
URL:https://kwhi.com/event/blinn-buccaneer-womens-basketball-38/
LOCATION:Kruse Center – Blinn College\, 208 Blinn Boulevard\, Brenham\, TX\, 77833\, United States
CATEGORIES:Sports Events
END:VEVENT
BEGIN:VEVENT
DTSTART;TZID=America/Chicago:20251106T163000
DTEND;TZID=America/Chicago:20251106T183000
DTSTAMP:20260419T233403
CREATED:20251105T164626Z
LAST-MODIFIED:20251105T164626Z
UID:361897-1762446600-1762453800@kwhi.com
SUMMARY:BLINN BUCCANEER MEN'S BASKETBALL
DESCRIPTION:The Blinn Buccaneer Men's Basketball Team is traveling to Western Texas College in Snyder for a non-conference game on Thursday\, November 6. The opening tip-off is scheduled for 4:30pm.
URL:https://kwhi.com/event/blinn-buccaneer-mens-basketball-31/
LOCATION:Western Texas College
CATEGORIES:Sports Events
END:VEVENT
BEGIN:VEVENT
DTSTART;TZID=America/Chicago:20251107T163000
DTEND;TZID=America/Chicago:20251107T183000
DTSTAMP:20260419T233403
CREATED:20251105T215014Z
LAST-MODIFIED:20251105T215014Z
UID:361948-1762533000-1762540200@kwhi.com
SUMMARY:BURTON LADY PANTHER VOLLEYBALL
DESCRIPTION:The Burton Lady Panther Volleyball Team will face the Agua Dulce Lady Longhorns in the Area Round of the Playoffs. The match is scheduled for Friday\, November 7\, at 5pm at Yoakum High School. The game can be heard live on the KWHI.com Sports Alternate Feed beginning with the pregame at 4:35pm.
URL:https://kwhi.com/event/burton-lady-panther-volleyball-33/
LOCATION:Yoakum High School
CATEGORIES:Sports Events
END:VEVENT
BEGIN:VEVENT
DTSTART;TZID=America/Chicago:20251107T183000
DTEND;TZID=America/Chicago:20251107T200000
DTSTAMP:20260419T233403
CREATED:20251105T162241Z
LAST-MODIFIED:20251105T162241Z
UID:361887-1762540200-1762545600@kwhi.com
SUMMARY:BURTON LADY PANTHER BASKETBALL
DESCRIPTION:The Burton Lady Panther Basketball Team will play their season opener at home against the Navasota Lady Rattlers on Friday\, November 7. The game is scheduled for a 6:30pm tipoff at the Burton High School Gym.
URL:https://kwhi.com/event/burton-lady-panther-basketball-24/
LOCATION:Burton High School Gym\, 917 N. Main Street\, Burton\, TX\, 77835\, United States
CATEGORIES:Sports Events
END:VEVENT
BEGIN:VEVENT
DTSTART;TZID=America/Chicago:20251107T190000
DTEND;TZID=America/Chicago:20251107T220000
DTSTAMP:20260419T233403
CREATED:20250724T135649Z
LAST-MODIFIED:20250724T135649Z
UID:354510-1762542000-1762552800@kwhi.com
SUMMARY:Burton Senior Night Football Game vs. Granger
DESCRIPTION:The Burton Panthers host the Granger Lions for a district matchup on Senior Night at Panther stadium.
URL:https://kwhi.com/event/burton-senior-night-football-game-vs-granger/
LOCATION:Granger High School- Lion Stadium\, 300 N Colorado\, Granger\, 76530\, United States
CATEGORIES:Sports Events
END:VEVENT
BEGIN:VEVENT
DTSTART;TZID=America/Chicago:20251107T190000
DTEND;TZID=America/Chicago:20251107T220000
DTSTAMP:20260419T233403
CREATED:20250725T170035Z
LAST-MODIFIED:20250725T170035Z
UID:354657-1762542000-1762552800@kwhi.com
SUMMARY:Brenham District Football Game vs. Belton
DESCRIPTION:The Brenham Cubs wrap up the regular season with a home district game against the Belton Tigers for the Hall of Honor game on black out night.
URL:https://kwhi.com/event/brenham-district-football-game-vs-belton/
LOCATION:Cub Stadium\, 1600 E Tom Green\, Brenham\, TX\, 77833\, United States
CATEGORIES:Sports Events
END:VEVENT
BEGIN:VEVENT
DTSTART;VALUE=DATE:20251108
DTEND;VALUE=DATE:20251109
DTSTAMP:20260419T233403
CREATED:20250915T144126Z
LAST-MODIFIED:20250915T144126Z
UID:357942-1762560000-1762646399@kwhi.com
SUMMARY:BRENHAM HIGH SCHOOL SWIMMING
DESCRIPTION:The Brenham Cub and Cubette Swimming Teams will be taking part in the Bob Stallings Aggieland Invitiational. The meet is being held at the Texas A&M Natatorium.
URL:https://kwhi.com/event/brenham-high-school-swimming-4/
LOCATION:Texas A&M Student Recreation Center Natatorium\, Texas A&M University\, College Station\, TX\, 77801\, United States
CATEGORIES:Sports Events
END:VEVENT
BEGIN:VEVENT
DTSTART;TZID=America/Chicago:20251108T120000
DTEND;TZID=America/Chicago:20251108T133000
DTSTAMP:20260419T233403
CREATED:20251105T162546Z
LAST-MODIFIED:20251105T162610Z
UID:361889-1762603200-1762608600@kwhi.com
SUMMARY:BURTON LADY PANTHER BASKETBALL
DESCRIPTION:The Burton Lady Panthers will be traveling to Rockdale for a game against the Lady Tigers on Saturday\, November 8. The opening tipoff is scheduled for 12 noon at Rockdale High School.
URL:https://kwhi.com/event/burton-lady-panther-volleyball-32/
LOCATION:Rockdale High School\, 500 Childress Dr.\, Rockdale\, TX\, 76567\, United States
CATEGORIES:Sports Events
END:VEVENT
BEGIN:VEVENT
DTSTART;TZID=America/Chicago:20251108T150000
DTEND;TZID=America/Chicago:20251108T180000
DTSTAMP:20260419T233403
CREATED:20250819T200225Z
LAST-MODIFIED:20250819T200225Z
UID:356000-1762614000-1762624800@kwhi.com
SUMMARY:Blinn Football at Cisco College
DESCRIPTION:The Blinn College Buccaneers travel to Cisco\, Texas to take on the Cisco College Wranglers at Chesley Field for a conference matchup
URL:https://kwhi.com/event/blinn-football-at-cisco-college/
LOCATION:Chesley Field- Cisco\, TX\, 901 West 3rd Street\, Cisco\, 76437\, United States
CATEGORIES:Sports Events
END:VEVENT
BEGIN:VEVENT
DTSTART;TZID=America/Chicago:20251110T173000
DTEND;TZID=America/Chicago:20251110T190000
DTSTAMP:20260419T233403
CREATED:20251105T170907Z
LAST-MODIFIED:20251105T170907Z
UID:361907-1762795800-1762801200@kwhi.com
SUMMARY:BLINN WOMEN'S BASKETBALL
DESCRIPTION:The Blinn Buccaneer Women's Basketball Team has a non-conference game against Hill College scheduled for Monday\, November 10. The game has a 5:30pm start time at the Kruse Center in Brenham.
URL:https://kwhi.com/event/blinn-womens-basketball-3/
LOCATION:Kruse Center – Blinn College\, 208 Blinn Boulevard\, Brenham\, TX\, 77833\, United States
CATEGORIES:Sports Events
END:VEVENT
BEGIN:VEVENT
DTSTART;TZID=America/Chicago:20251110T193000
DTEND;TZID=America/Chicago:20251110T210000
DTSTAMP:20260419T233403
CREATED:20251105T164919Z
LAST-MODIFIED:20251105T164919Z
UID:361899-1762803000-1762808400@kwhi.com
SUMMARY:BLINN BUCCANEER MEN'S BASKETBALL
DESCRIPTION:The Blinn Buccaneer Men's Basketball Team hosts Southern Arkansas University Tech on Monday\, November 10. The game is scheduled for a 7:30pm start time at the Kruse Center in Brenham.
URL:https://kwhi.com/event/blinn-buccaneer-mens-basketball-32/
LOCATION:Kruse Center – Blinn College\, 208 Blinn Boulevard\, Brenham\, TX\, 77833\, United States
CATEGORIES:Sports Events
END:VEVENT
BEGIN:VEVENT
DTSTART;TZID=America/Chicago:20251111T173000
DTEND;TZID=America/Chicago:20251111T190000
DTSTAMP:20260419T233403
CREATED:20251105T161227Z
LAST-MODIFIED:20251105T161227Z
UID:361870-1762882200-1762887600@kwhi.com
SUMMARY:BRENHAM CUB BASKETBALL
DESCRIPTION:The Brenham Cub Basketball Team will open their season on the road against the Bastrop Bears. The game is scheduled for Tuesday\, November 11\, at 5:45pm at Bastrop High School.
URL:https://kwhi.com/event/brenham-cub-basketball-40/
LOCATION:Bastrop High School
CATEGORIES:Sports Events
END:VEVENT
BEGIN:VEVENT
DTSTART;TZID=America/Chicago:20251114T110000
DTEND;TZID=America/Chicago:20251114T123000
DTSTAMP:20260419T233403
CREATED:20251105T171157Z
LAST-MODIFIED:20251105T171157Z
UID:361909-1763118000-1763123400@kwhi.com
SUMMARY:BLINN BUCCANEER WOMEN'S BASKETBALL
DESCRIPTION:The Blinn Buccaneer Women's Basketball Team will be taking part in the Paris Classic\, which is being hosted by Paris Junior College. Their first game will be on Friday\, November 14\, against Connors State at 11am.
URL:https://kwhi.com/event/blinn-buccaneer-womens-basketball-39/
LOCATION:Paris Junior College\, 2400 Clarksville St.\, Paris\, TX\, 75460\, United States
CATEGORIES:Sports Events
END:VEVENT
BEGIN:VEVENT
DTSTART;TZID=America/Chicago:20251114T160000
DTEND;TZID=America/Chicago:20251114T173000
DTSTAMP:20260419T233403
CREATED:20251105T162009Z
LAST-MODIFIED:20251105T162009Z
UID:361885-1763136000-1763141400@kwhi.com
SUMMARY:BRENHAM CUBETTE BASKETBALL
DESCRIPTION:The Brenham Cubette Basketball Team is traveling to Navasota on Friday\, November 14\, for a non-district game against the Lady Rattlers. The opening tipoff is scheduled for 4pm at Navasota High School.
URL:https://kwhi.com/event/brenham-cubette-basketball-31/
LOCATION:Navasota High School Gym\, 1 Rattler Drive\, Navasota\, TX\, 77868\, United States
CATEGORIES:Sports Events
END:VEVENT
BEGIN:VEVENT
DTSTART;TZID=America/Chicago:20251114T190000
DTEND;TZID=America/Chicago:20251114T203000
DTSTAMP:20260419T233403
CREATED:20251105T165424Z
LAST-MODIFIED:20251105T165424Z
UID:361901-1763146800-1763152200@kwhi.com
SUMMARY:BLINN BUCCANEER MEN'S BASKETBALL
DESCRIPTION:The Blinn Buccaneer Men's Basketball Team will be hosting the annual Blue Bell Classic. Their first game is scheduled for Friday\, November 14\, against the University of Arkansas-Cossatot. The opening tipoff is scheduled for 7pm at the Kruse Center in Brenham.
URL:https://kwhi.com/event/blinn-buccaneer-mens-basketball-33/
LOCATION:Kruse Center – Blinn College\, 208 Blinn Boulevard\, Brenham\, TX\, 77833\, United States
CATEGORIES:Sports Events
END:VEVENT
BEGIN:VEVENT
DTSTART;TZID=America/Chicago:20251115T120000
DTEND;TZID=America/Chicago:20251115T133000
DTSTAMP:20260419T233403
CREATED:20251105T163206Z
LAST-MODIFIED:20251105T163207Z
UID:361894-1763208000-1763213400@kwhi.com
SUMMARY:BURTON LADY PANTHER BASKETBALL
DESCRIPTION:The Burton Lady Panther Basketball Team will be playing Stafford in a non-district game on Saturday\, November 15. The opening tipoff is scheduled for 12 noon at Stafford High School.
URL:https://kwhi.com/event/burton-lady-panther-basketball-26/
LOCATION:Stafford High School\, TX\, United States
CATEGORIES:Sports Events
END:VEVENT
BEGIN:VEVENT
DTSTART;TZID=America/Chicago:20251115T130000
DTEND;TZID=America/Chicago:20251115T143000
DTSTAMP:20260419T233403
CREATED:20251105T161721Z
LAST-MODIFIED:20251105T161721Z
UID:361883-1763211600-1763217000@kwhi.com
SUMMARY:BRENHAM CUB BASKETBALL
DESCRIPTION:The Brenham Cub Basketball Team will be taking on the Magnolia Bulldogs in a non-district game on Saturday\, November 15. The game is scheduled for a 1pm start time at Magnolia High School.
URL:https://kwhi.com/event/brenham-cub-basketball-41/
LOCATION:Magnolia High School\, 14350 Farm to Market Rd 1488\, Magnolia\, TX\, 77354\, United States
CATEGORIES:Sports Events
END:VEVENT
BEGIN:VEVENT
DTSTART;TZID=America/Chicago:20251115T130000
DTEND;TZID=America/Chicago:20251115T143000
DTSTAMP:20260419T233403
CREATED:20251105T171456Z
LAST-MODIFIED:20251105T171456Z
UID:361911-1763211600-1763217000@kwhi.com
SUMMARY:BLINN BUCCANEER WOMEN'S BASKETBALL
DESCRIPTION:The Blinn Buccaneer Women's Basketball Team is taking part in the Paris Classic\, which is being hosted by Paris Junior College. Their second game is against Northwest Mississippi Community College on Saturday\, November 15\, at 1pm.
URL:https://kwhi.com/event/blinn-buccaneer-womens-basketball-40/
LOCATION:Paris Junior College\, 2400 Clarksville St.\, Paris\, TX\, 75460\, United States
CATEGORIES:Sports Events
END:VEVENT
BEGIN:VEVENT
DTSTART;TZID=America/Chicago:20251115T150000
DTEND;TZID=America/Chicago:20251115T163000
DTSTAMP:20260419T233403
CREATED:20251105T165844Z
LAST-MODIFIED:20251105T165844Z
UID:361903-1763218800-1763224200@kwhi.com
SUMMARY:BLINN BUCCANEER MEN'S BASKETBALL
DESCRIPTION:The Blinn Buccaneer Men's Basketball Team will be hosting the annual Blue Bell Classic. Their second game is going to be on Saturday\, November 15\, against Dallas College-Cedar Valley. The opening tipoff is scheduled for 3pm at the Kruse Center in Brenham.
URL:https://kwhi.com/event/blinn-buccaneer-mens-basketball-34/
LOCATION:Kruse Center – Blinn College\, 208 Blinn Boulevard\, Brenham\, TX\, 77833\, United States
CATEGORIES:Sports Events
END:VEVENT
END:VCALENDAR