BEGIN:VCALENDAR
VERSION:2.0
PRODID:-//KWHI.com - ECPv6.15.17.1//NONSGML v1.0//EN
CALSCALE:GREGORIAN
METHOD:PUBLISH
X-ORIGINAL-URL:https://kwhi.com
X-WR-CALDESC:Events for KWHI.com
REFRESH-INTERVAL;VALUE=DURATION:PT1H
X-Robots-Tag:noindex
X-PUBLISHED-TTL:PT1H
BEGIN:VTIMEZONE
TZID:America/Chicago
BEGIN:DAYLIGHT
TZOFFSETFROM:-0600
TZOFFSETTO:-0500
TZNAME:CDT
DTSTART:20220313T080000
END:DAYLIGHT
BEGIN:STANDARD
TZOFFSETFROM:-0500
TZOFFSETTO:-0600
TZNAME:CST
DTSTART:20221106T070000
END:STANDARD
BEGIN:DAYLIGHT
TZOFFSETFROM:-0600
TZOFFSETTO:-0500
TZNAME:CDT
DTSTART:20230312T080000
END:DAYLIGHT
BEGIN:STANDARD
TZOFFSETFROM:-0500
TZOFFSETTO:-0600
TZNAME:CST
DTSTART:20231105T070000
END:STANDARD
BEGIN:DAYLIGHT
TZOFFSETFROM:-0600
TZOFFSETTO:-0500
TZNAME:CDT
DTSTART:20240310T080000
END:DAYLIGHT
BEGIN:STANDARD
TZOFFSETFROM:-0500
TZOFFSETTO:-0600
TZNAME:CST
DTSTART:20241103T070000
END:STANDARD
END:VTIMEZONE
BEGIN:VEVENT
DTSTART;VALUE=DATE:20230223
DTEND;VALUE=DATE:20230224
DTSTAMP:20260423T202847
CREATED:20230217T165328Z
LAST-MODIFIED:20230217T165328Z
UID:287592-1677110400-1677196799@kwhi.com
SUMMARY:BRENHAM CUB GOLF TEAM
DESCRIPTION:The Brenham Cub Golf Team is hosting the Brenham Tournament on Thursday\, February 23\, at the Brenham Country Club.
URL:https://kwhi.com/event/brenham-cub-golf-team/
LOCATION:Brenham Country Club\, 4107 Highway 105\, Brenham\, TX\, 77833\, United States
CATEGORIES:Sports Events
ATTACH;FMTTYPE=image/jpeg:https://kwhi.com/wp-content/uploads/2022/03/Brenham-Golf-Feature.jpg
END:VEVENT
BEGIN:VEVENT
DTSTART;VALUE=DATE:20230223
DTEND;VALUE=DATE:20230224
DTSTAMP:20260423T202847
CREATED:20230221T225339Z
LAST-MODIFIED:20230221T225339Z
UID:288017-1677110400-1677196799@kwhi.com
SUMMARY:BRENHAM HIGH SCHOOL TENNIS
DESCRIPTION:The Brenham Cub and Cubette Tennis Teams will be taking part in the Taylor Tournament on Thursday\, February 23.
URL:https://kwhi.com/event/brenham-high-school-tennis/
LOCATION:TX\, United States
CATEGORIES:Sports Events
ATTACH;FMTTYPE=image/jpeg:https://kwhi.com/wp-content/uploads/2023/02/Kellers-Feature.jpg
END:VEVENT
BEGIN:VEVENT
DTSTART;TZID=America/Chicago:20230223T090000
DTEND;TZID=America/Chicago:20230223T130000
DTSTAMP:20260423T202847
CREATED:20230217T160707Z
LAST-MODIFIED:20230217T160707Z
UID:287567-1677142800-1677157200@kwhi.com
SUMMARY:BRENHAM CUBETTE SOFTBALL
DESCRIPTION:The Brenham Cubette Softball Team is taking part in the Dripping Springs Tournament.  They will open the tournament on Thursday\, February 23\, by playing Pflugerville Hendrickson at 9am\, and Vista Ridge at 11am. Both games are going to be at Lake Travis High School in Austin.
URL:https://kwhi.com/event/brenham-cubette-softball-7/
LOCATION:Lake Travis High School in Austin\, TX\, TX\, United States
CATEGORIES:Sports Events
ATTACH;FMTTYPE=image/jpeg:https://kwhi.com/wp-content/uploads/2023/02/Cubette-Softball-feature-216235.jpg
END:VEVENT
BEGIN:VEVENT
DTSTART;TZID=America/Chicago:20230223T100000
DTEND;TZID=America/Chicago:20230223T163000
DTSTAMP:20260423T202847
CREATED:20230221T223224Z
LAST-MODIFIED:20230221T223224Z
UID:288004-1677146400-1677169800@kwhi.com
SUMMARY:BLINN BUCCANEER SOFTBALL
DESCRIPTION:The Blinn Buccaneer Softball Team will be taking part in the National Preview Tournament in Oxford\, Alabama.  On Thursday\, February 23\, they are scheduled to play Indian Hills Community College at 10am and Wallace Community College-Dothan at 2pm.
URL:https://kwhi.com/event/blinn-buccaneer-softball-4/
LOCATION:Oxford\, Alabama
CATEGORIES:Sports Events
ATTACH;FMTTYPE=image/jpeg:https://kwhi.com/wp-content/uploads/2023/01/Skylar-Shanahan.jpg
END:VEVENT
BEGIN:VEVENT
DTSTART;TZID=America/Chicago:20230223T130000
DTEND;TZID=America/Chicago:20230223T163000
DTSTAMP:20260423T202847
CREATED:20230221T154241Z
LAST-MODIFIED:20230221T154241Z
UID:287927-1677157200-1677169800@kwhi.com
SUMMARY:BLINN BUCCANEER BASEBALL
DESCRIPTION:The Blinn Buccaneer Baseball Team will travel to Alvin Community College for a Region XIV Conference game on Thursday\, February 23.  First pitch is scheduled for 1pm.
URL:https://kwhi.com/event/blinn-buccaneer-baseball-4/
LOCATION:Alvin Community College\, 3110 Mustang Rd.\, Alvin\, TX\, 77511\, United States
CATEGORIES:Sports Events
ATTACH;FMTTYPE=image/jpeg:https://kwhi.com/wp-content/uploads/2023/02/Blinn-Baseball-Jake-Kolkhorst.jpg
END:VEVENT
BEGIN:VEVENT
DTSTART;TZID=America/Chicago:20230223T140000
DTEND;TZID=America/Chicago:20230223T180000
DTSTAMP:20260423T202847
CREATED:20230217T152628Z
LAST-MODIFIED:20230217T152628Z
UID:287553-1677160800-1677175200@kwhi.com
SUMMARY:BRENHAM CUB BASEBALL
DESCRIPTION:The Brenham Cub Baseball Team is taking part in the Santa Fe Tournament on Thursday\, February 23\, at Santa Fe High School. \nThey will play Brazoswood at 2pm and Pearland Dawson at 4pm.
URL:https://kwhi.com/event/brenham-cub-baseball-3/
LOCATION:Santa Fe High School\, TX\, United States
CATEGORIES:Sports Events
ATTACH;FMTTYPE=image/jpeg:https://kwhi.com/wp-content/uploads/2022/05/Cub-Baseball-feature-525221.jpg
END:VEVENT
BEGIN:VEVENT
DTSTART;TZID=America/Chicago:20230223T190000
DTEND;TZID=America/Chicago:20230223T210000
DTSTAMP:20260423T202847
CREATED:20230217T171225Z
LAST-MODIFIED:20230217T171225Z
UID:287601-1677178800-1677186000@kwhi.com
SUMMARY:BLINN BUCCANEER MENS BASKETBALL
DESCRIPTION:The Blinn Buccaneer Men's Basketball Team travels to Jacksonville College for a Region XIV Conference game at 7pm.
URL:https://kwhi.com/event/blinn-buccaneer-mens-basketball-4/
LOCATION:Jacksonville College\, 105 B J Albritton Dr.\, Jacksonville\, TX\, 75766\, United States
CATEGORIES:Sports Events
ATTACH;FMTTYPE=image/jpeg:https://kwhi.com/wp-content/uploads/2023/01/Marco-Foster-2-Feature.jpg
END:VEVENT
END:VCALENDAR