BEGIN:VCALENDAR
VERSION:2.0
PRODID:-//KWHI.com - ECPv6.15.17.1//NONSGML v1.0//EN
CALSCALE:GREGORIAN
METHOD:PUBLISH
X-ORIGINAL-URL:https://kwhi.com
X-WR-CALDESC:Events for KWHI.com
REFRESH-INTERVAL;VALUE=DURATION:PT1H
X-Robots-Tag:noindex
X-PUBLISHED-TTL:PT1H
BEGIN:VTIMEZONE
TZID:America/Chicago
BEGIN:DAYLIGHT
TZOFFSETFROM:-0600
TZOFFSETTO:-0500
TZNAME:CDT
DTSTART:20220313T080000
END:DAYLIGHT
BEGIN:STANDARD
TZOFFSETFROM:-0500
TZOFFSETTO:-0600
TZNAME:CST
DTSTART:20221106T070000
END:STANDARD
BEGIN:DAYLIGHT
TZOFFSETFROM:-0600
TZOFFSETTO:-0500
TZNAME:CDT
DTSTART:20230312T080000
END:DAYLIGHT
BEGIN:STANDARD
TZOFFSETFROM:-0500
TZOFFSETTO:-0600
TZNAME:CST
DTSTART:20231105T070000
END:STANDARD
BEGIN:DAYLIGHT
TZOFFSETFROM:-0600
TZOFFSETTO:-0500
TZNAME:CDT
DTSTART:20240310T080000
END:DAYLIGHT
BEGIN:STANDARD
TZOFFSETFROM:-0500
TZOFFSETTO:-0600
TZNAME:CST
DTSTART:20241103T070000
END:STANDARD
END:VTIMEZONE
BEGIN:VEVENT
DTSTART;VALUE=DATE:20230224
DTEND;VALUE=DATE:20230225
DTSTAMP:20260421T162648
CREATED:20230221T225754Z
LAST-MODIFIED:20230221T225940Z
UID:288019-1677196800-1677283199@kwhi.com
SUMMARY:BRENHAM CUB AND CUBETTE TRACK
DESCRIPTION:The Brenham Cub and Cubette Track Teams will have their first track meet of the season on Friday\, February 24\, at Tomball High School.
URL:https://kwhi.com/event/brenham-cub-track/
LOCATION:Tomball High School\, 30330 Quinn Rd\, Tomball\, TX\, 77375\, United States
CATEGORIES:Sports Events
ATTACH;FMTTYPE=image/jpeg:https://kwhi.com/wp-content/uploads/2022/04/ICON-TRACK-FIELD.jpg
END:VEVENT
BEGIN:VEVENT
DTSTART;TZID=America/Chicago:20230224T090000
DTEND;TZID=America/Chicago:20230224T150000
DTSTAMP:20260421T162648
CREATED:20230217T161106Z
LAST-MODIFIED:20230217T161106Z
UID:287570-1677229200-1677250800@kwhi.com
SUMMARY:BRENHAM CUBETTE SOFTBALL
DESCRIPTION:The Brenham Cubette Softball Team is taking part in the Dripping Springs Tournament on Friday\, February 24.  They will play Leander at 9am and Drippings Springs at 1pm.  Both games are going to be at Dripping Springs High School.
URL:https://kwhi.com/event/brenham-cubette-softball-8/
LOCATION:Dripping Springs High School\, 940 US-290\, Dripping Springs\, TX\, 78620\, United States
CATEGORIES:Sports Events
ATTACH;FMTTYPE=image/jpeg:https://kwhi.com/wp-content/uploads/2023/02/Cubette-Softball-feature-216234.jpg
END:VEVENT
BEGIN:VEVENT
DTSTART;TZID=America/Chicago:20230224T120000
DTEND;TZID=America/Chicago:20230224T183000
DTSTAMP:20260421T162648
CREATED:20230221T224054Z
LAST-MODIFIED:20230221T224054Z
UID:288010-1677240000-1677263400@kwhi.com
SUMMARY:BLINN BUCCANEER SOFTBALL
DESCRIPTION:The Blinn Buccaneer Softball Team is taking part in the National Preview Tournament in Oxford\, Alabama. On Friday\, February 24\, they will take on Chattanooga State at noon\, and Wallace State-Hanceville at 4pm.
URL:https://kwhi.com/event/blinn-buccaneer-softball-5/
LOCATION:Oxford\, Alabama
CATEGORIES:Sports Events
ATTACH;FMTTYPE=image/jpeg:https://kwhi.com/wp-content/uploads/2022/05/Emily-Kristynik-2-Feature.jpg
END:VEVENT
BEGIN:VEVENT
DTSTART;TZID=America/Chicago:20230224T153000
DTEND;TZID=America/Chicago:20230224T203000
DTSTAMP:20260421T162648
CREATED:20230217T153256Z
LAST-MODIFIED:20230217T153256Z
UID:287556-1677252600-1677270600@kwhi.com
SUMMARY:BRENHAM CUB BASEBALL
DESCRIPTION:The Brenham Cub Baseball Team is taking part in the Santa Fe Tournament on Friday\, February 24.  They will play Episcopal at 4pm and Clear Falls at 6pm. KWHI is broadcasting the games live beginning with the pregame at 3:35pm.
URL:https://kwhi.com/event/brenham-cub-baseball-4/
LOCATION:Santa Fe High School\, TX\, United States
CATEGORIES:Sports Events
ATTACH;FMTTYPE=image/jpeg:https://kwhi.com/wp-content/uploads/2022/05/Cub-Baseball-feature-525223.jpg
END:VEVENT
BEGIN:VEVENT
DTSTART;TZID=America/Chicago:20230224T170000
DTEND;TZID=America/Chicago:20230224T190000
DTSTAMP:20260421T162648
CREATED:20230217T164355Z
LAST-MODIFIED:20230217T164355Z
UID:287586-1677258000-1677265200@kwhi.com
SUMMARY:BURTON LADY PANTHER SOFTBALL
DESCRIPTION:The Burton Lady Panther Softball Team has a road game against Rice Consolidated on Friday\, February 24\, at 5pm in Altair.
URL:https://kwhi.com/event/burton-lady-panther-softball-3/
LOCATION:Rice Consolidated\, TX\, United States
CATEGORIES:Sports Events
ATTACH;FMTTYPE=image/png:https://kwhi.com/wp-content/uploads/2021/08/Burton-Logo.png
END:VEVENT
BEGIN:VEVENT
DTSTART;TZID=America/Chicago:20230224T190000
DTEND;TZID=America/Chicago:20230224T210000
DTSTAMP:20260421T162648
CREATED:20230221T160722Z
LAST-MODIFIED:20230221T160722Z
UID:287937-1677265200-1677272400@kwhi.com
SUMMARY:BRENHAM CUB SOCCER
DESCRIPTION:The Brenham Cub Soccer Team will host Bryan Rudder in a District game on Friday\, February 24\, at 7pm at Cub Stadium
URL:https://kwhi.com/event/brenham-cub-soccer-6/
LOCATION:Cub Stadium\, 1600 East Tom Green\, Brenham\, TX\, 77833\, United States
CATEGORIES:Sports Events
ATTACH;FMTTYPE=image/jpeg:https://kwhi.com/wp-content/uploads/2023/02/Cub-soccer-feature-217235.jpg
END:VEVENT
BEGIN:VEVENT
DTSTART;TZID=America/Chicago:20230224T190000
DTEND;TZID=America/Chicago:20230224T210000
DTSTAMP:20260421T162648
CREATED:20230221T161051Z
LAST-MODIFIED:20230221T161051Z
UID:287939-1677265200-1677272400@kwhi.com
SUMMARY:BRENHAM CUBETTE SOCCER
DESCRIPTION:The Brenham Cubette Soccer Team will travel to Bryan Rudder for a District game on Friday\, February 24\, at 7pm.
URL:https://kwhi.com/event/brenham-cubette-soccer-6/
LOCATION:James Earl Rudder High School\, 3251 Austins Colony Pkwy.\, Bryan\, 77808
CATEGORIES:Sports Events
ATTACH;FMTTYPE=image/jpeg:https://kwhi.com/wp-content/uploads/2022/12/Cubette-Soccer-feature-12302213.jpg
END:VEVENT
END:VCALENDAR