BEGIN:VCALENDAR
VERSION:2.0
PRODID:-//KWHI.com - ECPv6.15.17.1//NONSGML v1.0//EN
CALSCALE:GREGORIAN
METHOD:PUBLISH
X-ORIGINAL-URL:https://kwhi.com
X-WR-CALDESC:Events for KWHI.com
REFRESH-INTERVAL;VALUE=DURATION:PT1H
X-Robots-Tag:noindex
X-PUBLISHED-TTL:PT1H
BEGIN:VTIMEZONE
TZID:America/Chicago
BEGIN:DAYLIGHT
TZOFFSETFROM:-0600
TZOFFSETTO:-0500
TZNAME:CDT
DTSTART:20220313T080000
END:DAYLIGHT
BEGIN:STANDARD
TZOFFSETFROM:-0500
TZOFFSETTO:-0600
TZNAME:CST
DTSTART:20221106T070000
END:STANDARD
BEGIN:DAYLIGHT
TZOFFSETFROM:-0600
TZOFFSETTO:-0500
TZNAME:CDT
DTSTART:20230312T080000
END:DAYLIGHT
BEGIN:STANDARD
TZOFFSETFROM:-0500
TZOFFSETTO:-0600
TZNAME:CST
DTSTART:20231105T070000
END:STANDARD
BEGIN:DAYLIGHT
TZOFFSETFROM:-0600
TZOFFSETTO:-0500
TZNAME:CDT
DTSTART:20240310T080000
END:DAYLIGHT
BEGIN:STANDARD
TZOFFSETFROM:-0500
TZOFFSETTO:-0600
TZNAME:CST
DTSTART:20241103T070000
END:STANDARD
END:VTIMEZONE
BEGIN:VEVENT
DTSTART;TZID=America/Chicago:20230225T100000
DTEND;TZID=America/Chicago:20230225T160000
DTSTAMP:20260421T210439
CREATED:20230221T224551Z
LAST-MODIFIED:20230221T224551Z
UID:288012-1677319200-1677340800@kwhi.com
SUMMARY:BLINN BUCCANEER SOFTBALL
DESCRIPTION:The Blinn Buccaneer Softball Team is taking part in the National Preview Tournament in Oxford\, Alabama.  On Saturday\, February 25\, they are scheduled to face Abraham Baldwin Agricultural College at 10am\, and Gordon State College at 2pm.
URL:https://kwhi.com/event/blinn-buccaneer-softball-6/
LOCATION:Oxford\, Alabama
CATEGORIES:Sports Events
ATTACH;FMTTYPE=image/jpeg:https://kwhi.com/wp-content/uploads/2021/05/Rick-Church-feature.jpg
END:VEVENT
BEGIN:VEVENT
DTSTART;TZID=America/Chicago:20230225T110000
DTEND;TZID=America/Chicago:20230225T150000
DTSTAMP:20260421T210439
CREATED:20230217T161618Z
LAST-MODIFIED:20230217T161618Z
UID:287572-1677322800-1677337200@kwhi.com
SUMMARY:BRENHAM CUBETTE SOFTBALL
DESCRIPTION:The Brenham Cubette Softball Team is playing in the Dripping Springs Tournament on Saturday\, February 25.  They will face Frenship at 11am and Georgetown Eastview at 1pm. Both games are going to be at Lake Travis High School in Austin.
URL:https://kwhi.com/event/brenham-cubette-softball-9/
LOCATION:Lake Travis High School in Austin\, TX\, TX\, United States
CATEGORIES:Sports Events
ATTACH;FMTTYPE=image/jpeg:https://kwhi.com/wp-content/uploads/2023/02/Cubette-Softball-feature-216233.jpg
END:VEVENT
BEGIN:VEVENT
DTSTART;TZID=America/Chicago:20230225T140000
DTEND;TZID=America/Chicago:20230225T160000
DTSTAMP:20260421T210439
CREATED:20230217T170644Z
LAST-MODIFIED:20230217T170644Z
UID:287599-1677333600-1677340800@kwhi.com
SUMMARY:BLINN BUCCANEER WOMEN'S BASKETBALL
DESCRIPTION:The Blinn Buccaneer Women's Basketball Team travels to Angelina College for a Region XIV Conference game.  Tipoff is scheduled for 4pm.
URL:https://kwhi.com/event/blinn-buccaneer-womens-basketball-6/
LOCATION:TX\, United States
CATEGORIES:Sports Events
ATTACH;FMTTYPE=image/jpeg:https://kwhi.com/wp-content/uploads/2023/02/Blinn-Womens-Basketball-Crystal-Smith.jpg
END:VEVENT
BEGIN:VEVENT
DTSTART;TZID=America/Chicago:20230225T140000
DTEND;TZID=America/Chicago:20230225T193000
DTSTAMP:20260421T210439
CREATED:20230221T154813Z
LAST-MODIFIED:20230221T154813Z
UID:287929-1677333600-1677353400@kwhi.com
SUMMARY:BLINN BUCCANEER BASEBALL
DESCRIPTION:The Blinn Buccaneer Baseball Team is taking on Alvin in a Region XIV Conference Double Header Saturday\, February 25\, starting at 2pm at Leroy Dreyer Field.
URL:https://kwhi.com/event/blinn-buccaneer-baseball-5/
LOCATION:Leroy Dreyer Field – Blinn College\, 1106 West 2nd Street\, Brenham\, TX\, 77833\, United States
CATEGORIES:Sports Events
ATTACH;FMTTYPE=image/jpeg:https://kwhi.com/wp-content/uploads/2023/01/Blinn-Baseball-Kaden-Dydalewicz.jpg
END:VEVENT
END:VCALENDAR