BEGIN:VCALENDAR
VERSION:2.0
PRODID:-//KWHI.com - ECPv6.15.17.1//NONSGML v1.0//EN
CALSCALE:GREGORIAN
METHOD:PUBLISH
X-WR-CALNAME:KWHI.com
X-ORIGINAL-URL:https://kwhi.com
X-WR-CALDESC:Events for KWHI.com
REFRESH-INTERVAL;VALUE=DURATION:PT1H
X-Robots-Tag:noindex
X-PUBLISHED-TTL:PT1H
BEGIN:VTIMEZONE
TZID:America/Chicago
BEGIN:DAYLIGHT
TZOFFSETFROM:-0600
TZOFFSETTO:-0500
TZNAME:CDT
DTSTART:20220313T080000
END:DAYLIGHT
BEGIN:STANDARD
TZOFFSETFROM:-0500
TZOFFSETTO:-0600
TZNAME:CST
DTSTART:20221106T070000
END:STANDARD
BEGIN:DAYLIGHT
TZOFFSETFROM:-0600
TZOFFSETTO:-0500
TZNAME:CDT
DTSTART:20230312T080000
END:DAYLIGHT
BEGIN:STANDARD
TZOFFSETFROM:-0500
TZOFFSETTO:-0600
TZNAME:CST
DTSTART:20231105T070000
END:STANDARD
BEGIN:DAYLIGHT
TZOFFSETFROM:-0600
TZOFFSETTO:-0500
TZNAME:CDT
DTSTART:20240310T080000
END:DAYLIGHT
BEGIN:STANDARD
TZOFFSETFROM:-0500
TZOFFSETTO:-0600
TZNAME:CST
DTSTART:20241103T070000
END:STANDARD
END:VTIMEZONE
BEGIN:VEVENT
DTSTART;VALUE=DATE:20230301
DTEND;VALUE=DATE:20230302
DTSTAMP:20260420T200341
CREATED:20230223T161817Z
LAST-MODIFIED:20230223T161817Z
UID:288165-1677628800-1677715199@kwhi.com
SUMMARY:BRENHAM CUBETTE GOLF
DESCRIPTION:The Brenham Cubette Golf Team is scheduled to host the Brenham Invitational on Wednesday\, March 1\, at the Brenham Country Club.
URL:https://kwhi.com/event/brenham-cubette-golf-3/
LOCATION:Brenham Country Club\, 4107 Highway 105\, Brenham\, TX\, 77833\, United States
CATEGORIES:Sports Events
ATTACH;FMTTYPE=image/jpeg:https://kwhi.com/wp-content/uploads/2023/02/Addison-Schramme-2-Feature.jpg
END:VEVENT
BEGIN:VEVENT
DTSTART;TZID=America/Chicago:20230301T173000
DTEND;TZID=America/Chicago:20230301T193000
DTSTAMP:20260420T200341
CREATED:20230223T153559Z
LAST-MODIFIED:20230223T153559Z
UID:288139-1677691800-1677699000@kwhi.com
SUMMARY:BLINN BUCCANEER WOMEN'S BASKETBALL
DESCRIPTION:The Blinn Buccaneer Women's Basketball Team will play their final home game of the season on Wednesday\, March 1\, against Trinity Valley. \nThe opening tipoff is scheduled for 5:30pm at the Kruse Center.
URL:https://kwhi.com/event/blinn-buccaneer-womens-basketball-7/
LOCATION:Kruse Center at Blinn College\, 208 Blinn Blvd.\, Brenham\, TX\, 77833\, United States
CATEGORIES:Sports Events
ATTACH;FMTTYPE=image/jpeg:https://kwhi.com/wp-content/uploads/2023/02/Allana-Thompson-2.jpg
END:VEVENT
BEGIN:VEVENT
DTSTART;TZID=America/Chicago:20230301T193000
DTEND;TZID=America/Chicago:20230301T213000
DTSTAMP:20260420T200341
CREATED:20230223T155038Z
LAST-MODIFIED:20230223T155038Z
UID:288146-1677699000-1677706200@kwhi.com
SUMMARY:BLINN BUCCANEER MEN'S BASKETBALL
DESCRIPTION:The Blinn Buccaneer Men's Basketball Team will play their final regular season home game against Angelina College.  It is going to be Sophomores Night at the Kruse Center. \nThe opening tipoff is scheduled for Wednesday\, March 1\, at 7:30pm.
URL:https://kwhi.com/event/blinn-buccaneer-mens-basketball-5/
LOCATION:Kruse Center at Blinn College\, 208 Blinn Blvd.\, Brenham\, TX\, 77833\, United States
CATEGORIES:Sports Events
ATTACH;FMTTYPE=image/jpeg:https://kwhi.com/wp-content/uploads/2022/12/Elijah-Elliott-4-Feature.jpg
END:VEVENT
END:VCALENDAR