BEGIN:VCALENDAR
VERSION:2.0
PRODID:-//KWHI.com - ECPv6.15.17.1//NONSGML v1.0//EN
CALSCALE:GREGORIAN
METHOD:PUBLISH
X-ORIGINAL-URL:https://kwhi.com
X-WR-CALDESC:Events for KWHI.com
REFRESH-INTERVAL;VALUE=DURATION:PT1H
X-Robots-Tag:noindex
X-PUBLISHED-TTL:PT1H
BEGIN:VTIMEZONE
TZID:America/Chicago
BEGIN:DAYLIGHT
TZOFFSETFROM:-0600
TZOFFSETTO:-0500
TZNAME:CDT
DTSTART:20220313T080000
END:DAYLIGHT
BEGIN:STANDARD
TZOFFSETFROM:-0500
TZOFFSETTO:-0600
TZNAME:CST
DTSTART:20221106T070000
END:STANDARD
BEGIN:DAYLIGHT
TZOFFSETFROM:-0600
TZOFFSETTO:-0500
TZNAME:CDT
DTSTART:20230312T080000
END:DAYLIGHT
BEGIN:STANDARD
TZOFFSETFROM:-0500
TZOFFSETTO:-0600
TZNAME:CST
DTSTART:20231105T070000
END:STANDARD
BEGIN:DAYLIGHT
TZOFFSETFROM:-0600
TZOFFSETTO:-0500
TZNAME:CDT
DTSTART:20240310T080000
END:DAYLIGHT
BEGIN:STANDARD
TZOFFSETFROM:-0500
TZOFFSETTO:-0600
TZNAME:CST
DTSTART:20241103T070000
END:STANDARD
END:VTIMEZONE
BEGIN:VEVENT
DTSTART;TZID=America/Chicago:20231003T140000
DTEND;TZID=America/Chicago:20231003T180000
DTSTAMP:20260425T100028
CREATED:20230926T210758Z
LAST-MODIFIED:20230926T210758Z
UID:305021-1696341600-1696356000@kwhi.com
SUMMARY:BLINN SOCCER
DESCRIPTION:The Blinn Buccaneer Soccer Teams are heading to Jacksonville College for a conference doubleheader on Tuesday\, October 3. The Women's Game begins at 2pm\, with the Men's Game to follow at 4pm.
URL:https://kwhi.com/event/blinn-soccer-2/
LOCATION:Jacksonville College\, 105 B J Albritton Dr.\, Jacksonville\, TX\, 75766\, United States
CATEGORIES:Sports Events
ATTACH;FMTTYPE=image/jpeg:https://kwhi.com/wp-content/uploads/2023/09/Blinn-Mens-Soccer-Feature-1-1.jpg
END:VEVENT
BEGIN:VEVENT
DTSTART;TZID=America/Chicago:20231003T160000
DTEND;TZID=America/Chicago:20231003T180000
DTSTAMP:20260425T100028
CREATED:20230829T115456Z
LAST-MODIFIED:20230829T115456Z
UID:302791-1696348800-1696356000@kwhi.com
SUMMARY:BRENHAM HIGH SCHOOL TENNIS
DESCRIPTION:The Brenham High School Tennis Team is going to host College Station in a district match on Tuesday\, October 3\, at 4pm at Brenham High School.
URL:https://kwhi.com/event/brenham-high-school-tennis-7/
LOCATION:Brenham High School\, 525 A H Ehrig Dr\, Brenham\, TX\, 77833\, United States
CATEGORIES:Sports Events
ATTACH;FMTTYPE=image/jpeg:https://kwhi.com/wp-content/uploads/2015/09/tennis-feature.jpg
END:VEVENT
BEGIN:VEVENT
DTSTART;TZID=America/Chicago:20231003T170000
DTEND;TZID=America/Chicago:20231003T190000
DTSTAMP:20260425T100028
CREATED:20230927T213352Z
LAST-MODIFIED:20230927T213352Z
UID:305183-1696352400-1696359600@kwhi.com
SUMMARY:BURTON LADY PANTHER VOLLEYBALL
DESCRIPTION:The Burton Lady Panther Volleyball Team will travel to Somerville for a district match on Tuesday\, October 3. \nThe JV will begin things at 5pm\, followed by the Varsity afterwards.
URL:https://kwhi.com/event/burton-lady-panther-volleyball-5/
LOCATION:Somerville High School\, 570 8th Street\, Somerville\, TX\, 77879\, United States
CATEGORIES:Sports Events
ATTACH;FMTTYPE=image/jpeg:https://kwhi.com/wp-content/uploads/2022/11/Burton-Volleyball-feature-111226.jpg
END:VEVENT
BEGIN:VEVENT
DTSTART;TZID=America/Chicago:20231003T180000
DTEND;TZID=America/Chicago:20231003T200000
DTSTAMP:20260425T100028
CREATED:20230828T215219Z
LAST-MODIFIED:20230828T215219Z
UID:302747-1696356000-1696363200@kwhi.com
SUMMARY:BRENHAM CUBETTE VOLLEYBALL
DESCRIPTION:The Brenham Cubette volleyball Team will play Magnolia at The Brenham Highschool on October 3rd @6pm.
URL:https://kwhi.com/event/brenham-cubette-volleyball-19/
LOCATION:Brenham Highschool
CATEGORIES:Sports Events
ATTACH;FMTTYPE=image/jpeg:https://kwhi.com/wp-content/uploads/2022/11/Cubette-Volleyball-feature-113227.jpg
END:VEVENT
END:VCALENDAR