BEGIN:VCALENDAR
VERSION:2.0
PRODID:-//KWHI.com - ECPv6.15.17.1//NONSGML v1.0//EN
CALSCALE:GREGORIAN
METHOD:PUBLISH
X-ORIGINAL-URL:https://kwhi.com
X-WR-CALDESC:Events for KWHI.com
REFRESH-INTERVAL;VALUE=DURATION:PT1H
X-Robots-Tag:noindex
X-PUBLISHED-TTL:PT1H
BEGIN:VTIMEZONE
TZID:America/Chicago
BEGIN:DAYLIGHT
TZOFFSETFROM:-0600
TZOFFSETTO:-0500
TZNAME:CDT
DTSTART:20220313T080000
END:DAYLIGHT
BEGIN:STANDARD
TZOFFSETFROM:-0500
TZOFFSETTO:-0600
TZNAME:CST
DTSTART:20221106T070000
END:STANDARD
BEGIN:DAYLIGHT
TZOFFSETFROM:-0600
TZOFFSETTO:-0500
TZNAME:CDT
DTSTART:20230312T080000
END:DAYLIGHT
BEGIN:STANDARD
TZOFFSETFROM:-0500
TZOFFSETTO:-0600
TZNAME:CST
DTSTART:20231105T070000
END:STANDARD
BEGIN:DAYLIGHT
TZOFFSETFROM:-0600
TZOFFSETTO:-0500
TZNAME:CDT
DTSTART:20240310T080000
END:DAYLIGHT
BEGIN:STANDARD
TZOFFSETFROM:-0500
TZOFFSETTO:-0600
TZNAME:CST
DTSTART:20241103T070000
END:STANDARD
END:VTIMEZONE
BEGIN:VEVENT
DTSTART;TZID=America/Chicago:20231006T160000
DTEND;TZID=America/Chicago:20231006T180000
DTSTAMP:20260425T064805
CREATED:20230927T213625Z
LAST-MODIFIED:20230927T213625Z
UID:305185-1696608000-1696615200@kwhi.com
SUMMARY:BURTON LADY PANTHER VOLLEYBALL
DESCRIPTION:The Burton Lady Panther Volleyball Team is traveling to Milano for a district game on Friday\, October 6. \nThe Varsity will begin things at 4pm\, followed by the JV afterwards.
URL:https://kwhi.com/event/burton-lady-panther-volleyball-6/
LOCATION:Milano High School\, 600 North 6th Street\, Milano\, TX\, 76556\, United States
CATEGORIES:Sports Events
ATTACH;FMTTYPE=image/jpeg:https://kwhi.com/wp-content/uploads/2022/11/Burton-Volleyball-feature-111223.jpg
END:VEVENT
BEGIN:VEVENT
DTSTART;TZID=America/Chicago:20231006T180000
DTEND;TZID=America/Chicago:20231006T200000
DTSTAMP:20260425T064805
CREATED:20230828T215610Z
LAST-MODIFIED:20230828T215610Z
UID:302750-1696615200-1696622400@kwhi.com
SUMMARY:BRENHAM CUBETTE VOLLEYBALL
DESCRIPTION:The Brenham Cubette volleyball Team will play A&M Consolidated at The Brenham Highschool on October 6th @6pm.
URL:https://kwhi.com/event/brenham-cubette-volleyball-20/
LOCATION:Brenham Highschool
CATEGORIES:Sports Events
ATTACH;FMTTYPE=image/jpeg:https://kwhi.com/wp-content/uploads/2022/11/Cubette-Volleyball-feature-118221.jpg
END:VEVENT
BEGIN:VEVENT
DTSTART;TZID=America/Chicago:20231006T183000
DTEND;TZID=America/Chicago:20231006T220000
DTSTAMP:20260425T064805
CREATED:20230927T212302Z
LAST-MODIFIED:20230927T212302Z
UID:305175-1696617000-1696629600@kwhi.com
SUMMARY:BURTON PANTHER FOOTBALL
DESCRIPTION:The Burton Panther Football Team will be traveling to Louise for a district game on Friday\, October 6\, at 7pm. \nThe game is being broadcast live on the KWHI.com Sports Alternate Feed beginning with the pregame at 6:30pm.
URL:https://kwhi.com/event/burton-panther-football-9/
LOCATION:LOUISE HIGH SCHOOL\, 408 2nd St.\, Louise\, Texas\, TX\, 77455\, United States
CATEGORIES:Sports Events
ATTACH;FMTTYPE=image/jpeg:https://kwhi.com/wp-content/uploads/2022/12/Burton-Football-feature-122222.jpg
END:VEVENT
BEGIN:VEVENT
DTSTART;TZID=America/Chicago:20231006T190000
DTEND;TZID=America/Chicago:20231006T223000
DTSTAMP:20260425T064805
CREATED:20230927T220109Z
LAST-MODIFIED:20230927T220109Z
UID:305199-1696618800-1696631400@kwhi.com
SUMMARY:BRENHAM CUB FOOTBALL
DESCRIPTION:The Brenham Cub Football Team will host Montgomery in a district game on Friday\, October 6\, at Cub Stadium. \nKickoff is scheduled for 7:30pm\, and the game can be heard live on KWHI beginning with the pregame at 7pm.
URL:https://kwhi.com/event/brenham-cub-football-6/
LOCATION:Cub Stadium\, 1600 East Tom Green\, Brenham\, TX\, 77833\, United States
CATEGORIES:Sports Events
ATTACH;FMTTYPE=image/jpeg:https://kwhi.com/wp-content/uploads/2023/09/Cub-Football-feature-921232.jpg
END:VEVENT
BEGIN:VEVENT
DTSTART;TZID=America/Chicago:20231006T193000
DTEND;TZID=America/Chicago:20231006T223000
DTSTAMP:20260425T064805
CREATED:20230828T230521Z
LAST-MODIFIED:20230828T230521Z
UID:302771-1696620600-1696631400@kwhi.com
SUMMARY:BRENHAM CUBS FOOTBALL
DESCRIPTION:The Brenham Cub Football Team will play Montgomery HS at Cub Stadium on October 6th @7:30pm.
URL:https://kwhi.com/event/brenham-cubs-football-3/
LOCATION:Cub Stadium\, 1600 E Tom Green\, Brenham\, TX\, 77833\, United States
CATEGORIES:Sports Events
ATTACH;FMTTYPE=image/jpeg:https://kwhi.com/wp-content/uploads/2022/11/Cub-Football-feature-1111222.jpg
END:VEVENT
END:VCALENDAR