BEGIN:VCALENDAR
VERSION:2.0
PRODID:-//KWHI.com - ECPv6.15.17.1//NONSGML v1.0//EN
CALSCALE:GREGORIAN
METHOD:PUBLISH
X-WR-CALNAME:KWHI.com
X-ORIGINAL-URL:https://kwhi.com
X-WR-CALDESC:Events for KWHI.com
REFRESH-INTERVAL;VALUE=DURATION:PT1H
X-Robots-Tag:noindex
X-PUBLISHED-TTL:PT1H
BEGIN:VTIMEZONE
TZID:America/Chicago
BEGIN:DAYLIGHT
TZOFFSETFROM:-0600
TZOFFSETTO:-0500
TZNAME:CDT
DTSTART:20220313T080000
END:DAYLIGHT
BEGIN:STANDARD
TZOFFSETFROM:-0500
TZOFFSETTO:-0600
TZNAME:CST
DTSTART:20221106T070000
END:STANDARD
BEGIN:DAYLIGHT
TZOFFSETFROM:-0600
TZOFFSETTO:-0500
TZNAME:CDT
DTSTART:20230312T080000
END:DAYLIGHT
BEGIN:STANDARD
TZOFFSETFROM:-0500
TZOFFSETTO:-0600
TZNAME:CST
DTSTART:20231105T070000
END:STANDARD
BEGIN:DAYLIGHT
TZOFFSETFROM:-0600
TZOFFSETTO:-0500
TZNAME:CDT
DTSTART:20240310T080000
END:DAYLIGHT
BEGIN:STANDARD
TZOFFSETFROM:-0500
TZOFFSETTO:-0600
TZNAME:CST
DTSTART:20241103T070000
END:STANDARD
END:VTIMEZONE
BEGIN:VEVENT
DTSTART;TZID=America/Chicago:20231103T190000
DTEND;TZID=America/Chicago:20231103T223000
DTSTAMP:20260422T054149
CREATED:20230927T223640Z
LAST-MODIFIED:20230927T223640Z
UID:305207-1699038000-1699050600@kwhi.com
SUMMARY:BRENHAM CUB FOOTBALL
DESCRIPTION:The Brenham Cub Football Team will host Lake Creek in the final game of the regular season on Friday\, November 3\, at 7:30pm at Cub Stadium. \nKWHI will broadcast the game live beginning with the pregame at 7pm.
URL:https://kwhi.com/event/brenham-cub-football-12/
LOCATION:Cub Stadium\, 1600 East Tom Green\, Brenham\, TX\, 77833\, United States
CATEGORIES:Sports Events
ATTACH;FMTTYPE=image/jpeg:https://kwhi.com/wp-content/uploads/2023/09/Cub-Football-feature-98231.jpg
END:VEVENT
BEGIN:VEVENT
DTSTART;TZID=America/Chicago:20231103T193000
DTEND;TZID=America/Chicago:20231103T223000
DTSTAMP:20260422T054149
CREATED:20230828T232218Z
LAST-MODIFIED:20230828T232218Z
UID:302779-1699039800-1699050600@kwhi.com
SUMMARY:BRENHAM CUBS FOOTBALL
DESCRIPTION:The Brenham Cubs Football Team will play Lake Creek HS at Cub Stadium on November 3rd @7:30pm.
URL:https://kwhi.com/event/brenham-cubs-football-7/
LOCATION:Cub Stadium\, 1600 E Tom Green\, Brenham\, TX\, 77833\, United States
CATEGORIES:Sports Events
ATTACH;FMTTYPE=image/jpeg:https://kwhi.com/wp-content/uploads/2022/11/Cub-Football-feature-1118223.jpg
END:VEVENT
END:VCALENDAR