BEGIN:VCALENDAR
VERSION:2.0
PRODID:-//KWHI.com - ECPv6.15.17.1//NONSGML v1.0//EN
CALSCALE:GREGORIAN
METHOD:PUBLISH
X-ORIGINAL-URL:https://kwhi.com
X-WR-CALDESC:Events for KWHI.com
REFRESH-INTERVAL;VALUE=DURATION:PT1H
X-Robots-Tag:noindex
X-PUBLISHED-TTL:PT1H
BEGIN:VTIMEZONE
TZID:America/Chicago
BEGIN:DAYLIGHT
TZOFFSETFROM:-0600
TZOFFSETTO:-0500
TZNAME:CDT
DTSTART:20220313T080000
END:DAYLIGHT
BEGIN:STANDARD
TZOFFSETFROM:-0500
TZOFFSETTO:-0600
TZNAME:CST
DTSTART:20221106T070000
END:STANDARD
BEGIN:DAYLIGHT
TZOFFSETFROM:-0600
TZOFFSETTO:-0500
TZNAME:CDT
DTSTART:20230312T080000
END:DAYLIGHT
BEGIN:STANDARD
TZOFFSETFROM:-0500
TZOFFSETTO:-0600
TZNAME:CST
DTSTART:20231105T070000
END:STANDARD
BEGIN:DAYLIGHT
TZOFFSETFROM:-0600
TZOFFSETTO:-0500
TZNAME:CDT
DTSTART:20240310T080000
END:DAYLIGHT
BEGIN:STANDARD
TZOFFSETFROM:-0500
TZOFFSETTO:-0600
TZNAME:CST
DTSTART:20241103T070000
END:STANDARD
END:VTIMEZONE
BEGIN:VEVENT
DTSTART;VALUE=DATE:20231208
DTEND;VALUE=DATE:20231209
DTSTAMP:20260425T140232
CREATED:20231204T162156Z
LAST-MODIFIED:20231204T162156Z
UID:310284-1701993600-1702079999@kwhi.com
SUMMARY:BRENHAM CUB BASKETBALL
DESCRIPTION:The Brenham Cub Basketball Team is taking part in the Mike Dacus Classic at Navasota High School.  The tournament runs Thursday\, December 7\, through Saturday\, December 9.
URL:https://kwhi.com/event/brenham-cub-basketball-10/
LOCATION:Navasota High School main gym\, 1 Rattler Dr.\, Navasota\, TX\, 77868\, United States
CATEGORIES:Sports Events
ATTACH;FMTTYPE=image/jpeg:https://kwhi.com/wp-content/uploads/2023/01/Cub-Basketball-feature-110234.jpg
END:VEVENT
BEGIN:VEVENT
DTSTART;VALUE=DATE:20231208
DTEND;VALUE=DATE:20231209
DTSTAMP:20260425T140232
CREATED:20231204T165835Z
LAST-MODIFIED:20231204T165835Z
UID:310309-1701993600-1702079999@kwhi.com
SUMMARY:BURTON PANTHER BASKETBALL
DESCRIPTION:The Burton Panther Basketball Team will be taking part in day two of the Brazos Wallis Tournament on Friday\, December 8.  The tournament is being held at Brazos High School in Wallis.
URL:https://kwhi.com/event/burton-panther-basketball-10/
LOCATION:Brazos High School\, TX\, United States
CATEGORIES:Sports Events
ATTACH;FMTTYPE=image/jpeg:https://kwhi.com/wp-content/uploads/2021/04/burton-sports-logo.jpg
END:VEVENT
BEGIN:VEVENT
DTSTART;TZID=America/Chicago:20231208T170000
DTEND;TZID=America/Chicago:20231208T190000
DTSTAMP:20260425T140232
CREATED:20231204T164058Z
LAST-MODIFIED:20231204T164058Z
UID:310288-1702054800-1702062000@kwhi.com
SUMMARY:BRENHAM CUBETTE SOCCER
DESCRIPTION:The Brenham Cubette Soccer Team will have a scrimmage against the Bellville Brahmanettes on Friday\, December 8\, at 5pm at Cub Stadium in Brenham.
URL:https://kwhi.com/event/brenham-cubette-soccer-11/
LOCATION:Cub Stadium\, 1600 East Tom Green\, Brenham\, TX\, 77833\, United States
CATEGORIES:Sports Events
ATTACH;FMTTYPE=image/jpeg:https://kwhi.com/wp-content/uploads/2022/12/Cubette-Soccer-feature-1230229.jpg
END:VEVENT
BEGIN:VEVENT
DTSTART;TZID=America/Chicago:20231208T183000
DTEND;TZID=America/Chicago:20231208T203000
DTSTAMP:20260425T140232
CREATED:20231204T162849Z
LAST-MODIFIED:20231204T162849Z
UID:310286-1702060200-1702067400@kwhi.com
SUMMARY:BRENHAM CUBETTE BASKETBALL
DESCRIPTION:The Brenham Cubette Basketball Team will go on the road for their district opener against the Magnolia Lady Bulldogs on Friday\, December 8. \nThe opening tipoff is scheduled for 6:30pm at Magnolia High School.
URL:https://kwhi.com/event/brenham-cubette-basketball-5/
LOCATION:Magnolia High School\, 14350 Farm to Market Rd 1488\, Magnolia\, TX\, 77354\, United States
CATEGORIES:Sports Events
ATTACH;FMTTYPE=image/jpeg:https://kwhi.com/wp-content/uploads/2023/11/Cubette-basketball-feature-1128234.jpg
END:VEVENT
END:VCALENDAR