BEGIN:VCALENDAR
VERSION:2.0
PRODID:-//KWHI.com - ECPv6.15.17.1//NONSGML v1.0//EN
CALSCALE:GREGORIAN
METHOD:PUBLISH
X-WR-CALNAME:KWHI.com
X-ORIGINAL-URL:https://kwhi.com
X-WR-CALDESC:Events for KWHI.com
REFRESH-INTERVAL;VALUE=DURATION:PT1H
X-Robots-Tag:noindex
X-PUBLISHED-TTL:PT1H
BEGIN:VTIMEZONE
TZID:America/Chicago
BEGIN:DAYLIGHT
TZOFFSETFROM:-0600
TZOFFSETTO:-0500
TZNAME:CDT
DTSTART:20230312T080000
END:DAYLIGHT
BEGIN:STANDARD
TZOFFSETFROM:-0500
TZOFFSETTO:-0600
TZNAME:CST
DTSTART:20231105T070000
END:STANDARD
BEGIN:DAYLIGHT
TZOFFSETFROM:-0600
TZOFFSETTO:-0500
TZNAME:CDT
DTSTART:20240310T080000
END:DAYLIGHT
BEGIN:STANDARD
TZOFFSETFROM:-0500
TZOFFSETTO:-0600
TZNAME:CST
DTSTART:20241103T070000
END:STANDARD
BEGIN:DAYLIGHT
TZOFFSETFROM:-0600
TZOFFSETTO:-0500
TZNAME:CDT
DTSTART:20250309T080000
END:DAYLIGHT
BEGIN:STANDARD
TZOFFSETFROM:-0500
TZOFFSETTO:-0600
TZNAME:CST
DTSTART:20251102T070000
END:STANDARD
END:VTIMEZONE
BEGIN:VEVENT
DTSTART;TZID=America/Chicago:20240206T183000
DTEND;TZID=America/Chicago:20240206T200000
DTSTAMP:20260421T070225
CREATED:20240201T140113Z
LAST-MODIFIED:20240201T140113Z
UID:314774-1707244200-1707249600@kwhi.com
SUMMARY:BRENHAM CUBETTE BASKETBALL
DESCRIPTION:The Brenham Cubette Basketball Team will host College Station for their Seniors Night game on Tuesday\, February 6\, at the Brenham High School Gym. \nKWHI will have live coverage beginning with the pregame at 6:15pm\, followed by the opening tipoff at 6:30pm.
URL:https://kwhi.com/event/brenham-cubette-basketball-17/
LOCATION:Brenham High School Gym\, 525 A H Ehrig Drive \, Brenham\, TX\, 77833\, United States
CATEGORIES:Sports Events
ATTACH;FMTTYPE=image/jpeg:https://kwhi.com/wp-content/uploads/2024/01/cubette-basketball-feature130244.jpg
END:VEVENT
BEGIN:VEVENT
DTSTART;TZID=America/Chicago:20240206T130000
DTEND;TZID=America/Chicago:20240206T173000
DTSTAMP:20260421T070225
CREATED:20240202T152634Z
LAST-MODIFIED:20240202T152634Z
UID:314925-1707224400-1707240600@kwhi.com
SUMMARY:BLINN BUCCANEER SOFTBALL
DESCRIPTION:The Blinn Buccaneer Softball Team is traveling to Temple College for a doubleheader on Tuesday\, February 6. \nFirst pitch is scheduled for 1pm.
URL:https://kwhi.com/event/blinn-buccaneer-softball-32/
LOCATION:Temple College\, 2600 S 1st St.\, Temple\, TX\, 76504\, United States
CATEGORIES:Sports Events
ATTACH;FMTTYPE=image/jpeg:https://kwhi.com/wp-content/uploads/2023/04/Blinn-Softball-Alayna-Calvillo-Feature.jpg
END:VEVENT
BEGIN:VEVENT
DTSTART;TZID=America/Chicago:20240206T163000
DTEND;TZID=America/Chicago:20240206T190000
DTSTAMP:20260421T070225
CREATED:20240201T144929Z
LAST-MODIFIED:20240201T144929Z
UID:314799-1707237000-1707246000@kwhi.com
SUMMARY:BURTON PANTHER BASEBALL
DESCRIPTION:The Burton Panther Baseball Team is going to be traveling to Sealy for a scrimmage on Tuesday\, February 6\, at 4:30pm.
URL:https://kwhi.com/event/burton-panther-baseball-20/
LOCATION:Sealy High School\, 2372 Championship Drive\, Sealy\, TX\, 77474\, United States
CATEGORIES:Sports Events
ATTACH;FMTTYPE=image/jpeg:https://kwhi.com/wp-content/uploads/2023/05/Burton-Baseball-feature-Ryder-Biggs.jpg
END:VEVENT
BEGIN:VEVENT
DTSTART;TZID=America/Chicago:20240206T173000
DTEND;TZID=America/Chicago:20240206T193000
DTSTAMP:20260421T070225
CREATED:20240202T154958Z
LAST-MODIFIED:20240202T154958Z
UID:314939-1707240600-1707247800@kwhi.com
SUMMARY:BLINN WOMEN'S BASKETBALL
DESCRIPTION:The Blinn Women's Basketball Team is going on the road for a Region XIV Conference game against Jacksonville on Tuesday\, February 6. \nThe opening tipoff is scheduled for 5:30pm.
URL:https://kwhi.com/event/blinn-womens-basketball/
LOCATION:Jacksonville College\, 105 B J Albritton Dr.\, Jacksonville\, TX\, 75766\, United States
CATEGORIES:Sports Events
ATTACH;FMTTYPE=image/jpeg:https://kwhi.com/wp-content/uploads/2024/01/Blinn-Womens-Basketball-Feature-11.jpg
END:VEVENT
BEGIN:VEVENT
DTSTART;TZID=America/Chicago:20240206T180000
DTEND;TZID=America/Chicago:20240206T200000
DTSTAMP:20260421T070225
CREATED:20240201T133711Z
LAST-MODIFIED:20240201T133711Z
UID:314762-1707242400-1707249600@kwhi.com
SUMMARY:BRENHAM CUBETTE SOFTBALL
DESCRIPTION:The Brenham Cubette Softball Team is traveling to Paetow High School in Katy for a scrimmage on Tuesday\, February 6. \nFirst pitch is scheduled for 6pm.
URL:https://kwhi.com/event/brenham-cubette-softball-30/
LOCATION:Paetow High School\, Katy\, TX\, United States
CATEGORIES:Sports Events
ATTACH;FMTTYPE=image/jpeg:https://kwhi.com/wp-content/uploads/2024/01/cubette-softball-feature-130244.jpg
END:VEVENT
BEGIN:VEVENT
DTSTART;TZID=America/Chicago:20240206T180000
DTEND;TZID=America/Chicago:20240206T210000
DTSTAMP:20260421T070225
CREATED:20240201T144128Z
LAST-MODIFIED:20240201T144647Z
UID:314789-1707242400-1707253200@kwhi.com
SUMMARY:BURTON BASKETBALL DOUBLEHEADER
DESCRIPTION:The Burton High School Basketball Teams will host Mumford High School for a District 26-2A Doubleheader on Tuesday\, February 6\, at the Burton High School Gym. \nThe Lady Panthers will play at 6:15pm\, followed by the Panthers at 7:30pm.
URL:https://kwhi.com/event/burton-basketball-doubleheader-6/
LOCATION:Burton High School Gym\, 917 N. Main Street\, Burton\, TX\, 77835\, United States
CATEGORIES:Sports Events
ATTACH;FMTTYPE=image/jpeg:https://kwhi.com/wp-content/uploads/2021/04/burton-sports-logo.jpg
END:VEVENT
BEGIN:VEVENT
DTSTART;TZID=America/Chicago:20240206T183000
DTEND;TZID=America/Chicago:20240206T200000
DTSTAMP:20260421T070225
CREATED:20240201T134758Z
LAST-MODIFIED:20240201T134758Z
UID:314770-1707244200-1707249600@kwhi.com
SUMMARY:BRENHAM CUB BASKETBALL
DESCRIPTION:The Brenham Cub Basketball Team is traveling to College Station for a District 21-5A Game on Tuesday\, February 6. \nThe opening tipoff is scheduled for 6:30pm.
URL:https://kwhi.com/event/brenham-cub-basketball-23/
LOCATION:College Station High School\, 4002 Victoria Ave\, College Station\, TX\, 77845\, United States
CATEGORIES:Sports Events
ATTACH;FMTTYPE=image/jpeg:https://kwhi.com/wp-content/uploads/2024/01/Cub-Basketball-feature119241.jpg
END:VEVENT
BEGIN:VEVENT
DTSTART;TZID=America/Chicago:20240206T183000
DTEND;TZID=America/Chicago:20240206T200000
DTSTAMP:20260421T070225
CREATED:20240201T140113Z
LAST-MODIFIED:20240201T140113Z
UID:314774-1707244200-1707249600@kwhi.com
SUMMARY:BRENHAM CUBETTE BASKETBALL
DESCRIPTION:The Brenham Cubette Basketball Team will host College Station for their Seniors Night game on Tuesday\, February 6\, at the Brenham High School Gym. \nKWHI will have live coverage beginning with the pregame at 6:15pm\, followed by the opening tipoff at 6:30pm.
URL:https://kwhi.com/event/brenham-cubette-basketball-17/
LOCATION:Brenham High School Gym\, 525 A H Ehrig Drive \, Brenham\, TX\, 77833\, United States
CATEGORIES:Sports Events
ATTACH;FMTTYPE=image/jpeg:https://kwhi.com/wp-content/uploads/2024/01/cubette-basketball-feature130244.jpg
END:VEVENT
BEGIN:VEVENT
DTSTART;TZID=America/Chicago:20240206T190000
DTEND;TZID=America/Chicago:20240206T210000
DTSTAMP:20260421T070225
CREATED:20240201T140407Z
LAST-MODIFIED:20240201T140407Z
UID:314777-1707246000-1707253200@kwhi.com
SUMMARY:BRENHAM CUB SOCCER
DESCRIPTION:The Brenham Cub Soccer Team will host Montgomery in a District 21-5A match on Tuesday\, February 6\, at 7pm at Cub Stadium.
URL:https://kwhi.com/event/brenham-cub-soccer-23/
LOCATION:Cub Stadium\, 1600 East Tom Green\, Brenham\, TX\, 77833\, United States
CATEGORIES:Sports Events
ATTACH;FMTTYPE=image/jpeg:https://kwhi.com/wp-content/uploads/2024/01/Cub-Soccer-feature-125246.jpg
END:VEVENT
BEGIN:VEVENT
DTSTART;TZID=America/Chicago:20240206T190000
DTEND;TZID=America/Chicago:20240206T210000
DTSTAMP:20260421T070225
CREATED:20240201T142300Z
LAST-MODIFIED:20240201T143129Z
UID:314781-1707246000-1707253200@kwhi.com
SUMMARY:BRENHAM CUBETTE SOCCER
DESCRIPTION:The Brenham Cubette Soccer Team will be traveling to Montgomery for a District 21-5A match on Tuesday\, February 6\, for a 7pm start time. \n 
URL:https://kwhi.com/event/brenham-cubette-soccer-23/
LOCATION:Montgomery High School\, 22825 TX-105\, Montgomery\, TX\, 77356\, United States
CATEGORIES:Sports Events
ATTACH;FMTTYPE=image/jpeg:https://kwhi.com/wp-content/uploads/2023/12/Cubette-Soccer-Team-Photo-Feature.jpg
END:VEVENT
END:VCALENDAR