BEGIN:VCALENDAR
VERSION:2.0
PRODID:-//KWHI.com - ECPv6.15.17.1//NONSGML v1.0//EN
CALSCALE:GREGORIAN
METHOD:PUBLISH
X-WR-CALNAME:KWHI.com
X-ORIGINAL-URL:https://kwhi.com
X-WR-CALDESC:Events for KWHI.com
REFRESH-INTERVAL;VALUE=DURATION:PT1H
X-Robots-Tag:noindex
X-PUBLISHED-TTL:PT1H
BEGIN:VTIMEZONE
TZID:America/Chicago
BEGIN:DAYLIGHT
TZOFFSETFROM:-0600
TZOFFSETTO:-0500
TZNAME:CDT
DTSTART:20230312T080000
END:DAYLIGHT
BEGIN:STANDARD
TZOFFSETFROM:-0500
TZOFFSETTO:-0600
TZNAME:CST
DTSTART:20231105T070000
END:STANDARD
BEGIN:DAYLIGHT
TZOFFSETFROM:-0600
TZOFFSETTO:-0500
TZNAME:CDT
DTSTART:20240310T080000
END:DAYLIGHT
BEGIN:STANDARD
TZOFFSETFROM:-0500
TZOFFSETTO:-0600
TZNAME:CST
DTSTART:20241103T070000
END:STANDARD
BEGIN:DAYLIGHT
TZOFFSETFROM:-0600
TZOFFSETTO:-0500
TZNAME:CDT
DTSTART:20250309T080000
END:DAYLIGHT
BEGIN:STANDARD
TZOFFSETFROM:-0500
TZOFFSETTO:-0600
TZNAME:CST
DTSTART:20251102T070000
END:STANDARD
END:VTIMEZONE
BEGIN:VEVENT
DTSTART;VALUE=DATE:20240307
DTEND;VALUE=DATE:20240308
DTSTAMP:20260420T103900
CREATED:20240304T164001Z
LAST-MODIFIED:20240304T164001Z
UID:317965-1709769600-1709855999@kwhi.com
SUMMARY:BRENHAM CUB GOLF
DESCRIPTION:The Brenham Cub Golf Team will be taking part in the Waller Tournament on Thursday\, March 7.  The tournament will be held at the Sandy Hill Farm (Mustang Cat) Golf Course in Waller.
URL:https://kwhi.com/event/brenham-cub-golf-5/
LOCATION:Mustang Cat Golf Course\, TX\, United States
CATEGORIES:Sports Events
ATTACH;FMTTYPE=image/jpeg:https://kwhi.com/wp-content/uploads/2015/04/Golf-feature2.jpg
END:VEVENT
BEGIN:VEVENT
DTSTART;VALUE=DATE:20240307
DTEND;VALUE=DATE:20240308
DTSTAMP:20260420T103900
CREATED:20240304T173304Z
LAST-MODIFIED:20240304T173304Z
UID:317993-1709769600-1709855999@kwhi.com
SUMMARY:BURTON HIGH SCHOOL TRACK
DESCRIPTION:The Burton High School Track Team will be taking part in the Somerville Meet on Thursday\, March 7.
URL:https://kwhi.com/event/burton-high-school-track-4/
LOCATION:Somerville High School Football Stadium\, 725 8th Street\, Somerville\, TX\, 77879\, United States
CATEGORIES:Sports Events
ATTACH;FMTTYPE=image/jpeg:https://kwhi.com/wp-content/uploads/2022/04/Burton-Track-2-Feature.jpg
END:VEVENT
BEGIN:VEVENT
DTSTART;TZID=America/Chicago:20240307T130000
DTEND;TZID=America/Chicago:20240307T170000
DTSTAMP:20260420T103900
CREATED:20240304T170036Z
LAST-MODIFIED:20240304T170036Z
UID:317980-1709816400-1709830800@kwhi.com
SUMMARY:BURTON PANTHER BASEBALL
DESCRIPTION:The Burton Panther Baseball Team opens up the Weimar Tournament on Thursday\, March 7.  They will play Onalaska at 1pm\, followed by Weimar at 3pm.
URL:https://kwhi.com/event/burton-panther-baseball-31/
LOCATION:Weimar High School
CATEGORIES:Sports Events
ATTACH;FMTTYPE=image/jpeg:https://kwhi.com/wp-content/uploads/2023/05/Burton-Baseball-feature-Ryder-Biggs.jpg
END:VEVENT
BEGIN:VEVENT
DTSTART;TZID=America/Chicago:20240307T180000
DTEND;TZID=America/Chicago:20240307T210000
DTSTAMP:20260420T103900
CREATED:20240304T215241Z
LAST-MODIFIED:20240304T215241Z
UID:318012-1709834400-1709845200@kwhi.com
SUMMARY:BLINN BUCCANEER BASEBALL
DESCRIPTION:The Blinn Buccaneer Baseball Team is going to host San Jacinto in a Region XIV Conference game on Thursday\, March 7\, at 6pm at Leroy Dreyer Field.
URL:https://kwhi.com/event/blinn-buccaneer-baseball-41/
LOCATION:Leroy Dreyer Field – Blinn College\, 1106 West 2nd Street\, Brenham\, TX\, 77833\, United States
CATEGORIES:Sports Events
ATTACH;FMTTYPE=image/jpeg:https://kwhi.com/wp-content/uploads/2024/02/Blinn-Baseball-Feature-4.jpg
END:VEVENT
BEGIN:VEVENT
DTSTART;TZID=America/Chicago:20240307T190000
DTEND;TZID=America/Chicago:20240307T220000
DTSTAMP:20260420T103900
CREATED:20240304T160808Z
LAST-MODIFIED:20240304T160808Z
UID:317935-1709838000-1709848800@kwhi.com
SUMMARY:BRENHAM CUB BASEBALL
DESCRIPTION:The Brenham Cub Baseball Team is hosting the Brenham Alumni Tournament. They will play Stratford on Thursday\, March 7\, at 7:30pm at Fireman's Park. \nKWHI will broadcast the game live beginning with the pregame at 7:05pm.
URL:https://kwhi.com/event/brenham-cub-baseball-38/
LOCATION:City of Brenham Fireman’s Park\, 901 N. Park Street\, Brenham\, TX\, 77833\, United States
CATEGORIES:Sports Events
ATTACH;FMTTYPE=image/jpeg:https://kwhi.com/wp-content/uploads/2024/02/cub-baseball-feature-227249.jpg
END:VEVENT
END:VCALENDAR