BEGIN:VCALENDAR
VERSION:2.0
PRODID:-//KWHI.com - ECPv6.15.17.1//NONSGML v1.0//EN
CALSCALE:GREGORIAN
METHOD:PUBLISH
X-WR-CALNAME:KWHI.com
X-ORIGINAL-URL:https://kwhi.com
X-WR-CALDESC:Events for KWHI.com
REFRESH-INTERVAL;VALUE=DURATION:PT1H
X-Robots-Tag:noindex
X-PUBLISHED-TTL:PT1H
BEGIN:VTIMEZONE
TZID:America/Chicago
BEGIN:DAYLIGHT
TZOFFSETFROM:-0600
TZOFFSETTO:-0500
TZNAME:CDT
DTSTART:20230312T080000
END:DAYLIGHT
BEGIN:STANDARD
TZOFFSETFROM:-0500
TZOFFSETTO:-0600
TZNAME:CST
DTSTART:20231105T070000
END:STANDARD
BEGIN:DAYLIGHT
TZOFFSETFROM:-0600
TZOFFSETTO:-0500
TZNAME:CDT
DTSTART:20240310T080000
END:DAYLIGHT
BEGIN:STANDARD
TZOFFSETFROM:-0500
TZOFFSETTO:-0600
TZNAME:CST
DTSTART:20241103T070000
END:STANDARD
BEGIN:DAYLIGHT
TZOFFSETFROM:-0600
TZOFFSETTO:-0500
TZNAME:CDT
DTSTART:20250309T080000
END:DAYLIGHT
BEGIN:STANDARD
TZOFFSETFROM:-0500
TZOFFSETTO:-0600
TZNAME:CST
DTSTART:20251102T070000
END:STANDARD
END:VTIMEZONE
BEGIN:VEVENT
DTSTART;TZID=America/Chicago:20240329T130000
DTEND;TZID=America/Chicago:20240329T180000
DTSTAMP:20260421T000959
CREATED:20240326T153044Z
LAST-MODIFIED:20240326T153044Z
UID:319885-1711717200-1711735200@kwhi.com
SUMMARY:BLINN BUCCANEER SOFTBALL
DESCRIPTION:The Blinn Buccaneer Softball Team is hosting Alvin in a Region XIV Conference Doubleheader on Friday\, March 29\, at 1pm at Hohlt Park.
URL:https://kwhi.com/event/blinn-buccaneer-softball-48/
LOCATION:City of Brenham Hohlt Park\, 2425 North Park Street\, Brenham\, TX\, 77833\, United States
CATEGORIES:Sports Events
ATTACH;FMTTYPE=image/jpeg:https://kwhi.com/wp-content/uploads/2024/03/Blinn-Softball-Feature-6.jpg
END:VEVENT
BEGIN:VEVENT
DTSTART;TZID=America/Chicago:20240329T140000
DTEND;TZID=America/Chicago:20240329T190000
DTSTAMP:20260421T000959
CREATED:20240326T152651Z
LAST-MODIFIED:20240326T152651Z
UID:319879-1711720800-1711738800@kwhi.com
SUMMARY:BLINN BUCCANEER BASEBALL
DESCRIPTION:The Blinn Buccaneer Baseball Team is hosting Alvin in a Region XIV Conference Doubleheader on Friday\, March 29.  First pitch is scheduled for 2pm at Leroy Dreyer Field.
URL:https://kwhi.com/event/blinn-buccaneer-baseball-50/
LOCATION:Leroy Dreyer Field – Blinn College\, 1106 West 2nd Street\, Brenham\, TX\, 77833\, United States
CATEGORIES:Sports Events
ATTACH;FMTTYPE=image/jpeg:https://kwhi.com/wp-content/uploads/2024/03/Blinn-Baseball-Feature-7.jpg
END:VEVENT
END:VCALENDAR