BEGIN:VCALENDAR
VERSION:2.0
PRODID:-//KWHI.com - ECPv6.15.17.1//NONSGML v1.0//EN
CALSCALE:GREGORIAN
METHOD:PUBLISH
X-ORIGINAL-URL:https://kwhi.com
X-WR-CALDESC:Events for KWHI.com
REFRESH-INTERVAL;VALUE=DURATION:PT1H
X-Robots-Tag:noindex
X-PUBLISHED-TTL:PT1H
BEGIN:VTIMEZONE
TZID:America/Chicago
BEGIN:DAYLIGHT
TZOFFSETFROM:-0600
TZOFFSETTO:-0500
TZNAME:CDT
DTSTART:20230312T080000
END:DAYLIGHT
BEGIN:STANDARD
TZOFFSETFROM:-0500
TZOFFSETTO:-0600
TZNAME:CST
DTSTART:20231105T070000
END:STANDARD
BEGIN:DAYLIGHT
TZOFFSETFROM:-0600
TZOFFSETTO:-0500
TZNAME:CDT
DTSTART:20240310T080000
END:DAYLIGHT
BEGIN:STANDARD
TZOFFSETFROM:-0500
TZOFFSETTO:-0600
TZNAME:CST
DTSTART:20241103T070000
END:STANDARD
BEGIN:DAYLIGHT
TZOFFSETFROM:-0600
TZOFFSETTO:-0500
TZNAME:CDT
DTSTART:20250309T080000
END:DAYLIGHT
BEGIN:STANDARD
TZOFFSETFROM:-0500
TZOFFSETTO:-0600
TZNAME:CST
DTSTART:20251102T070000
END:STANDARD
END:VTIMEZONE
BEGIN:VEVENT
DTSTART;VALUE=DATE:20240815
DTEND;VALUE=DATE:20240818
DTSTAMP:20260423T152309
CREATED:20240812T144410Z
LAST-MODIFIED:20240812T144410Z
UID:329377-1723680000-1723939199@kwhi.com
SUMMARY:BRENHAM CUBETTE VOLLEYBALL
DESCRIPTION:The Brenham Cubette Volleyball Team will be taking part in the Round Rock Westwood Tournament August 15-17. The matches are being held at multiple locations in the Austin area.
URL:https://kwhi.com/event/brenham-cubette-volleyball-26/
LOCATION:Round Rock West Wood High School
CATEGORIES:Sports Events
ATTACH;FMTTYPE=image/jpeg:https://kwhi.com/wp-content/uploads/2023/10/Cubette-Volleyball-feature-1030238.jpg
END:VEVENT
BEGIN:VEVENT
DTSTART;VALUE=DATE:20240815
DTEND;VALUE=DATE:20240818
DTSTAMP:20260423T152309
CREATED:20240813T134028Z
LAST-MODIFIED:20240813T134028Z
UID:329486-1723680000-1723939199@kwhi.com
SUMMARY:BURTON LADY PANTHER VOLLEYBALL
DESCRIPTION:The Burton Lady Panther Volleyball Team will be taking part in the Columbus Tournament. The tournament runs from Thursday\, August 15\, thru Saturday\, August 17.
URL:https://kwhi.com/event/burton-lady-panther-volleyball-12/
LOCATION:Columbus High School
CATEGORIES:Sports Events
ATTACH;FMTTYPE=image/jpeg:https://kwhi.com/wp-content/uploads/2023/10/Burton-Volleyball-feature-1031235.jpg
END:VEVENT
BEGIN:VEVENT
DTSTART;TZID=America/Chicago:20240815T180000
DTEND;TZID=America/Chicago:20240815T203000
DTSTAMP:20260423T152309
CREATED:20240813T133022Z
LAST-MODIFIED:20240813T133022Z
UID:329478-1723744800-1723753800@kwhi.com
SUMMARY:BURTON PANTHER FOOTBALL
DESCRIPTION:The Burton Panther Football Team is traveling to Hempstead for a scrimmage on Thursday\, August 15.  Kickoff is scheduled for 6pm.
URL:https://kwhi.com/event/burton-panther-football-12/
LOCATION:Hempstead High School\, TX\, United States
CATEGORIES:Sports Events
ATTACH;FMTTYPE=image/jpeg:https://kwhi.com/wp-content/uploads/2021/04/burton-sports-logo.jpg
END:VEVENT
END:VCALENDAR