BEGIN:VCALENDAR
VERSION:2.0
PRODID:-//KWHI.com - ECPv6.15.17.1//NONSGML v1.0//EN
CALSCALE:GREGORIAN
METHOD:PUBLISH
X-ORIGINAL-URL:https://kwhi.com
X-WR-CALDESC:Events for KWHI.com
REFRESH-INTERVAL;VALUE=DURATION:PT1H
X-Robots-Tag:noindex
X-PUBLISHED-TTL:PT1H
BEGIN:VTIMEZONE
TZID:America/Chicago
BEGIN:DAYLIGHT
TZOFFSETFROM:-0600
TZOFFSETTO:-0500
TZNAME:CDT
DTSTART:20230312T080000
END:DAYLIGHT
BEGIN:STANDARD
TZOFFSETFROM:-0500
TZOFFSETTO:-0600
TZNAME:CST
DTSTART:20231105T070000
END:STANDARD
BEGIN:DAYLIGHT
TZOFFSETFROM:-0600
TZOFFSETTO:-0500
TZNAME:CDT
DTSTART:20240310T080000
END:DAYLIGHT
BEGIN:STANDARD
TZOFFSETFROM:-0500
TZOFFSETTO:-0600
TZNAME:CST
DTSTART:20241103T070000
END:STANDARD
BEGIN:DAYLIGHT
TZOFFSETFROM:-0600
TZOFFSETTO:-0500
TZNAME:CDT
DTSTART:20250309T080000
END:DAYLIGHT
BEGIN:STANDARD
TZOFFSETFROM:-0500
TZOFFSETTO:-0600
TZNAME:CST
DTSTART:20251102T070000
END:STANDARD
END:VTIMEZONE
BEGIN:VEVENT
DTSTART;TZID=America/Chicago:20240927T110000
DTEND;TZID=America/Chicago:20240927T150000
DTSTAMP:20260421T010845
CREATED:20240917T142431Z
LAST-MODIFIED:20240917T142431Z
UID:332010-1727434800-1727449200@kwhi.com
SUMMARY:BLINN BUCCANEER SOCCER
DESCRIPTION:The Blinn Buccaneer Men's and Women's Soccer Teams will be traveling to Brownsville on Friday\, September 27\, for a doubleheader at Texas Southmost College. The Women are going to play at 11am\, followed by the Men at 1pm.
URL:https://kwhi.com/event/blinn-buccaneer-soccer-7/
LOCATION:Texas Southmost College in Brownsville
CATEGORIES:Sports Events
ATTACH;FMTTYPE=image/jpeg:https://kwhi.com/wp-content/uploads/2024/09/Blinn-Mens-Soccer-Feature-10.jpg
END:VEVENT
BEGIN:VEVENT
DTSTART;TZID=America/Chicago:20240927T160000
DTEND;TZID=America/Chicago:20240927T173000
DTSTAMP:20260421T010845
CREATED:20240917T134416Z
LAST-MODIFIED:20240917T134416Z
UID:331989-1727452800-1727458200@kwhi.com
SUMMARY:BURTON LADY PANTHER VOLLEYBALL
DESCRIPTION:The Burton Lady Panther Volleyball Team is going to host Weimar in a non-district match on Friday\, September 27\, at 4pm in the Burton High School Gym.
URL:https://kwhi.com/event/burton-lady-panther-volleyball-22/
LOCATION:Burton High School Gym\, 917 N. Main Street\, Burton\, TX\, 77835\, United States
CATEGORIES:Sports Events
ATTACH;FMTTYPE=image/jpeg:https://kwhi.com/wp-content/uploads/2023/10/Burton-Volleyball-feature-1024232.jpg
END:VEVENT
BEGIN:VEVENT
DTSTART;TZID=America/Chicago:20240927T180000
DTEND;TZID=America/Chicago:20240927T193000
DTSTAMP:20260421T010845
CREATED:20240917T125806Z
LAST-MODIFIED:20240917T125806Z
UID:331976-1727460000-1727465400@kwhi.com
SUMMARY:BRENHAM CUBETTE VOLLEYBALL
DESCRIPTION:The Brenham Cubette Volleyball Team will host A&M Consolidated in a district match. First serve is scheduled for 6pm at the Brenham High School Gym.
URL:https://kwhi.com/event/brenham-cubette-volleyball-38/
LOCATION:Brenham High School Gym\, 525 A H Ehrig Drive \, Brenham\, TX\, 77833\, United States
CATEGORIES:Sports Events
ATTACH;FMTTYPE=image/jpeg:https://kwhi.com/wp-content/uploads/2023/10/Cubette-Volleyball-feature-1030236.jpg
END:VEVENT
BEGIN:VEVENT
DTSTART;TZID=America/Chicago:20240927T190000
DTEND;TZID=America/Chicago:20240927T213000
DTSTAMP:20260421T010845
CREATED:20240822T143328Z
LAST-MODIFIED:20240822T143356Z
UID:330173-1727463600-1727472600@kwhi.com
SUMMARY:BURTON PANTHER FOOTBALL
DESCRIPTION:The Burton Panther Football Team is going to face McDade in their district opener on Friday\, September 27\, at 7pm. \nThe location is to be determined based on whether or not Panther Stadium's construction is completed. \n 
URL:https://kwhi.com/event/burton-panther-football-17/
LOCATION:Panther Stadium\, 917 Main St\, Burton\, TX\, 77835\, United States
CATEGORIES:Sports Events
ATTACH;FMTTYPE=image/jpeg:https://kwhi.com/wp-content/uploads/2022/12/Burton-Football-feature-122222.jpg
END:VEVENT
BEGIN:VEVENT
DTSTART;TZID=America/Chicago:20240927T190000
DTEND;TZID=America/Chicago:20240927T220000
DTSTAMP:20260421T010845
CREATED:20240822T124055Z
LAST-MODIFIED:20240822T124055Z
UID:330147-1727463600-1727474400@kwhi.com
SUMMARY:BRENHAM CUB FOOTBALL
DESCRIPTION:The Brenham Cub Football Team will face Gilmer in a neutral site game.  The game will be played on Friday\, September 27\, at 7pm at Huntsville ISD Stadium. \nKWHI will have live coverage beginning with the pregame at 6:30pm.
URL:https://kwhi.com/event/brenham-cub-football-18/
LOCATION:Huntsville High School\, 515 Farm to Market Rd 2821\, Huntsville\, TX\, 77320\, United States
CATEGORIES:Sports Events
ATTACH;FMTTYPE=image/jpeg:https://kwhi.com/wp-content/uploads/2023/11/Cub-Football-feature-113236.jpg
END:VEVENT
END:VCALENDAR