BEGIN:VCALENDAR
VERSION:2.0
PRODID:-//KWHI.com - ECPv6.15.17.1//NONSGML v1.0//EN
CALSCALE:GREGORIAN
METHOD:PUBLISH
X-WR-CALNAME:KWHI.com
X-ORIGINAL-URL:https://kwhi.com
X-WR-CALDESC:Events for KWHI.com
REFRESH-INTERVAL;VALUE=DURATION:PT1H
X-Robots-Tag:noindex
X-PUBLISHED-TTL:PT1H
BEGIN:VTIMEZONE
TZID:America/Chicago
BEGIN:DAYLIGHT
TZOFFSETFROM:-0600
TZOFFSETTO:-0500
TZNAME:CDT
DTSTART:20230312T080000
END:DAYLIGHT
BEGIN:STANDARD
TZOFFSETFROM:-0500
TZOFFSETTO:-0600
TZNAME:CST
DTSTART:20231105T070000
END:STANDARD
BEGIN:DAYLIGHT
TZOFFSETFROM:-0600
TZOFFSETTO:-0500
TZNAME:CDT
DTSTART:20240310T080000
END:DAYLIGHT
BEGIN:STANDARD
TZOFFSETFROM:-0500
TZOFFSETTO:-0600
TZNAME:CST
DTSTART:20241103T070000
END:STANDARD
BEGIN:DAYLIGHT
TZOFFSETFROM:-0600
TZOFFSETTO:-0500
TZNAME:CDT
DTSTART:20250309T080000
END:DAYLIGHT
BEGIN:STANDARD
TZOFFSETFROM:-0500
TZOFFSETTO:-0600
TZNAME:CST
DTSTART:20251102T070000
END:STANDARD
END:VTIMEZONE
BEGIN:VEVENT
DTSTART;TZID=America/Chicago:20241126T100000
DTEND;TZID=America/Chicago:20241126T120000
DTSTAMP:20260423T053634
CREATED:20241125T155101Z
LAST-MODIFIED:20241125T155101Z
UID:337500-1732615200-1732622400@kwhi.com
SUMMARY:BURTON LADY PANTHER BASKETBALL
DESCRIPTION:The Burton Lady Panther Basketball Team will be hosting Dime Box on Tuesday\, November 26\, at 10am at the Burton High School Gym.
URL:https://kwhi.com/event/burton-lady-panther-basketball-19/
CATEGORIES:Sports Events
ATTACH;FMTTYPE=image/png:https://kwhi.com/wp-content/uploads/2021/08/Burton-Logo.png
END:VEVENT
BEGIN:VEVENT
DTSTART;TZID=America/Chicago:20241126T120000
DTEND;TZID=America/Chicago:20241126T140000
DTSTAMP:20260423T053634
CREATED:20241125T152935Z
LAST-MODIFIED:20241125T152935Z
UID:337490-1732622400-1732629600@kwhi.com
SUMMARY:BRENHAM CUB BASKETBALL
DESCRIPTION:The Brenham Cub Basketball Team will play Tomball Memorial in a non-district game on Tuesday\, November 26. The opening tip-off is scheduled for 12 noon at the Brenham High School Gym.
URL:https://kwhi.com/event/brenham-cub-basketball-30/
LOCATION:Brenham High School Gym\, 525 A H Ehrig Drive \, Brenham\, TX\, 77833\, United States
CATEGORIES:Sports Events
ATTACH;FMTTYPE=image/jpeg:https://kwhi.com/wp-content/uploads/2024/02/Cub-Basketball-feature-22241.jpg
END:VEVENT
BEGIN:VEVENT
DTSTART;TZID=America/Chicago:20241126T170000
DTEND;TZID=America/Chicago:20241126T190000
DTSTAMP:20260423T053634
CREATED:20241125T160356Z
LAST-MODIFIED:20241125T160502Z
UID:337502-1732640400-1732647600@kwhi.com
SUMMARY:BLINN BUCCANEER WOMEN'S BASKETBALL
DESCRIPTION:The Blinn Buccaneer Women's Basketball Team will be going on the road for a non-conference game against Temple College on Tuesday\, November 26.  The opening tip-off is scheduled for 5pm.
URL:https://kwhi.com/event/blinn-buccaneer-womens-basketball-32/
LOCATION:Temple College\, 2600 S 1st St.\, Temple\, TX\, 76504\, United States
CATEGORIES:Sports Events
ATTACH;FMTTYPE=image/jpeg:https://kwhi.com/wp-content/uploads/2024/11/Blinn-Womens-Basketball-Feature-23.jpg
END:VEVENT
END:VCALENDAR