BEGIN:VCALENDAR
VERSION:2.0
PRODID:-//KWHI.com - ECPv6.15.17.1//NONSGML v1.0//EN
CALSCALE:GREGORIAN
METHOD:PUBLISH
X-ORIGINAL-URL:https://kwhi.com
X-WR-CALDESC:Events for KWHI.com
REFRESH-INTERVAL;VALUE=DURATION:PT1H
X-Robots-Tag:noindex
X-PUBLISHED-TTL:PT1H
BEGIN:VTIMEZONE
TZID:America/Chicago
BEGIN:DAYLIGHT
TZOFFSETFROM:-0600
TZOFFSETTO:-0500
TZNAME:CDT
DTSTART:20230312T080000
END:DAYLIGHT
BEGIN:STANDARD
TZOFFSETFROM:-0500
TZOFFSETTO:-0600
TZNAME:CST
DTSTART:20231105T070000
END:STANDARD
BEGIN:DAYLIGHT
TZOFFSETFROM:-0600
TZOFFSETTO:-0500
TZNAME:CDT
DTSTART:20240310T080000
END:DAYLIGHT
BEGIN:STANDARD
TZOFFSETFROM:-0500
TZOFFSETTO:-0600
TZNAME:CST
DTSTART:20241103T070000
END:STANDARD
BEGIN:DAYLIGHT
TZOFFSETFROM:-0600
TZOFFSETTO:-0500
TZNAME:CDT
DTSTART:20250309T080000
END:DAYLIGHT
BEGIN:STANDARD
TZOFFSETFROM:-0500
TZOFFSETTO:-0600
TZNAME:CST
DTSTART:20251102T070000
END:STANDARD
END:VTIMEZONE
BEGIN:VEVENT
DTSTART;VALUE=DATE:20241227
DTEND;VALUE=DATE:20241228
DTSTAMP:20260419T125948
CREATED:20241209T154942Z
LAST-MODIFIED:20241209T154942Z
UID:338404-1735257600-1735343999@kwhi.com
SUMMARY:BRENHAM CUBETTE BASKETBALL
DESCRIPTION:The Brenham Cubette Basketball Team will be taking part in day one of the MT Rice Tournament hosted by Waco Midway. On Friday\, December 27\, the Cubettes will play Burleson at 11am\, followed by Lewisville at 8pm.
URL:https://kwhi.com/event/brenham-cubette-basketball-28/
LOCATION:Midway High School in Waco\, TX
CATEGORIES:Sports Events
ATTACH;FMTTYPE=image/jpeg:https://kwhi.com/wp-content/uploads/2024/01/Cubette-basketball-feature-19241.jpg
END:VEVENT
BEGIN:VEVENT
DTSTART;TZID=America/Chicago:20241227T140000
DTEND;TZID=America/Chicago:20241227T190000
DTSTAMP:20260419T125948
CREATED:20241209T143127Z
LAST-MODIFIED:20241209T171856Z
UID:338368-1735308000-1735326000@kwhi.com
SUMMARY:BRENHAM CUB BASKETBALL
DESCRIPTION:The Brenham Cub Basketball Team will be taking part in day one of the Mike Smith Classic hosted by Victoria West High School in Victoria on Friday\, December 27. \nThey will play Kingsville at 2pm\, followed by Victoria East at 5:45pm. \n 
URL:https://kwhi.com/event/brenham-cub-basketball-37/
LOCATION:Victoria West High School
CATEGORIES:Sports Events
ATTACH;FMTTYPE=image/jpeg:https://kwhi.com/wp-content/uploads/2024/01/Cubette-basketball-feature-117245.jpg
END:VEVENT
END:VCALENDAR