BEGIN:VCALENDAR
VERSION:2.0
PRODID:-//KWHI.com - ECPv6.15.17.1//NONSGML v1.0//EN
CALSCALE:GREGORIAN
METHOD:PUBLISH
X-ORIGINAL-URL:https://kwhi.com
X-WR-CALDESC:Events for KWHI.com
REFRESH-INTERVAL;VALUE=DURATION:PT1H
X-Robots-Tag:noindex
X-PUBLISHED-TTL:PT1H
BEGIN:VTIMEZONE
TZID:America/Chicago
BEGIN:DAYLIGHT
TZOFFSETFROM:-0600
TZOFFSETTO:-0500
TZNAME:CDT
DTSTART:20240310T080000
END:DAYLIGHT
BEGIN:STANDARD
TZOFFSETFROM:-0500
TZOFFSETTO:-0600
TZNAME:CST
DTSTART:20241103T070000
END:STANDARD
BEGIN:DAYLIGHT
TZOFFSETFROM:-0600
TZOFFSETTO:-0500
TZNAME:CDT
DTSTART:20250309T080000
END:DAYLIGHT
BEGIN:STANDARD
TZOFFSETFROM:-0500
TZOFFSETTO:-0600
TZNAME:CST
DTSTART:20251102T070000
END:STANDARD
BEGIN:DAYLIGHT
TZOFFSETFROM:-0600
TZOFFSETTO:-0500
TZNAME:CDT
DTSTART:20260308T080000
END:DAYLIGHT
BEGIN:STANDARD
TZOFFSETFROM:-0500
TZOFFSETTO:-0600
TZNAME:CST
DTSTART:20261101T070000
END:STANDARD
END:VTIMEZONE
BEGIN:VEVENT
DTSTART;TZID=America/Chicago:20250115T173000
DTEND;TZID=America/Chicago:20250115T193000
DTSTAMP:20260421T204105
CREATED:20250114T155119Z
LAST-MODIFIED:20250114T155119Z
UID:340295-1736962200-1736969400@kwhi.com
SUMMARY:BLINN BUCCANEER MEN'S AND WOMEN'S BASKETBALL
DESCRIPTION:The Blinn Buccaneer Basketball Teams will be traveling Angelina College in Lufkin for a doubleheader on Wednesday\, January 15. The Women play at 5:30pm\, followed by the Men at 7:30pm.
URL:https://kwhi.com/event/blinn-buccaneer-mens-and-womens-basketball/
LOCATION:Angelina College\, 3500 S 1st St\, Angelina\, TX\, 75904\, United States
CATEGORIES:Sports Events
ATTACH;FMTTYPE=image/webp:https://kwhi.com/wp-content/uploads/2025/01/Blinn-Mens-Basketball-Feature-30.webp
END:VEVENT
END:VCALENDAR