BEGIN:VCALENDAR
VERSION:2.0
PRODID:-//KWHI.com - ECPv6.15.17.1//NONSGML v1.0//EN
CALSCALE:GREGORIAN
METHOD:PUBLISH
X-WR-CALNAME:KWHI.com
X-ORIGINAL-URL:https://kwhi.com
X-WR-CALDESC:Events for KWHI.com
REFRESH-INTERVAL;VALUE=DURATION:PT1H
X-Robots-Tag:noindex
X-PUBLISHED-TTL:PT1H
BEGIN:VTIMEZONE
TZID:America/Chicago
BEGIN:DAYLIGHT
TZOFFSETFROM:-0600
TZOFFSETTO:-0500
TZNAME:CDT
DTSTART:20250309T080000
END:DAYLIGHT
BEGIN:STANDARD
TZOFFSETFROM:-0500
TZOFFSETTO:-0600
TZNAME:CST
DTSTART:20251102T070000
END:STANDARD
BEGIN:DAYLIGHT
TZOFFSETFROM:-0600
TZOFFSETTO:-0500
TZNAME:CDT
DTSTART:20260308T080000
END:DAYLIGHT
BEGIN:STANDARD
TZOFFSETFROM:-0500
TZOFFSETTO:-0600
TZNAME:CST
DTSTART:20261101T070000
END:STANDARD
BEGIN:DAYLIGHT
TZOFFSETFROM:-0600
TZOFFSETTO:-0500
TZNAME:CDT
DTSTART:20270314T080000
END:DAYLIGHT
BEGIN:STANDARD
TZOFFSETFROM:-0500
TZOFFSETTO:-0600
TZNAME:CST
DTSTART:20271107T070000
END:STANDARD
END:VTIMEZONE
BEGIN:VEVENT
DTSTART;TZID=America/Chicago:20260218T173000
DTEND;TZID=America/Chicago:20260218T193000
DTSTAMP:20260421T100635
CREATED:20260129T230647Z
LAST-MODIFIED:20260129T230647Z
UID:368146-1771435800-1771443000@kwhi.com
SUMMARY:BLINN BUCCANEER WOMEN'S BASKETBALL
DESCRIPTION:The Blinn Buccaneer Women's Basketball Team is hosting the Kilgore Rangers on Wednesday\, February 18\, at 5:30pm at the Kruse Center in Brenham. KWHI will have live coverage beginning with the pregame at 5:25pm on 1280AM\, 101.7FM\, and KWHI.com.
URL:https://kwhi.com/event/blinn-buccaneer-womens-basketball-44/
LOCATION:Kruse Center at Blinn College\, 208 Blinn Blvd.\, Brenham\, TX\, 77833\, United States
CATEGORIES:Sports Events
END:VEVENT
BEGIN:VEVENT
DTSTART;TZID=America/Chicago:20260218T193000
DTEND;TZID=America/Chicago:20260218T213000
DTSTAMP:20260421T100635
CREATED:20260129T231000Z
LAST-MODIFIED:20260129T231000Z
UID:368148-1771443000-1771450200@kwhi.com
SUMMARY:BLINN BUCCANEER MEN'S BASKETBALL
DESCRIPTION:The Blinn Buccaneer Men's Basketball Team is scheduled to host the Lamar State-Port Arthur Seahawks in a Region XIV Conference game on Wednesday\, February 18\, at 7:30pm at the Kruse Center in Brenham. KWHI will have live coverage beginning with the pregame at 7:15pm on 1280AM\, 101.7FM\, and KWHI.com.
URL:https://kwhi.com/event/blinn-buccaneer-mens-basketball-40/
LOCATION:Kruse Center at Blinn College\, 208 Blinn Blvd.\, Brenham\, TX\, 77833\, United States
CATEGORIES:Sports Events
END:VEVENT
END:VCALENDAR