BEGIN:VCALENDAR
VERSION:2.0
PRODID:-//KWHI.com - ECPv6.15.17.1//NONSGML v1.0//EN
CALSCALE:GREGORIAN
METHOD:PUBLISH
X-WR-CALNAME:KWHI.com
X-ORIGINAL-URL:https://kwhi.com
X-WR-CALDESC:Events for KWHI.com
REFRESH-INTERVAL;VALUE=DURATION:PT1H
X-Robots-Tag:noindex
X-PUBLISHED-TTL:PT1H
BEGIN:VTIMEZONE
TZID:America/Chicago
BEGIN:DAYLIGHT
TZOFFSETFROM:-0600
TZOFFSETTO:-0500
TZNAME:CDT
DTSTART:20250309T080000
END:DAYLIGHT
BEGIN:STANDARD
TZOFFSETFROM:-0500
TZOFFSETTO:-0600
TZNAME:CST
DTSTART:20251102T070000
END:STANDARD
BEGIN:DAYLIGHT
TZOFFSETFROM:-0600
TZOFFSETTO:-0500
TZNAME:CDT
DTSTART:20260308T080000
END:DAYLIGHT
BEGIN:STANDARD
TZOFFSETFROM:-0500
TZOFFSETTO:-0600
TZNAME:CST
DTSTART:20261101T070000
END:STANDARD
BEGIN:DAYLIGHT
TZOFFSETFROM:-0600
TZOFFSETTO:-0500
TZNAME:CDT
DTSTART:20270314T080000
END:DAYLIGHT
BEGIN:STANDARD
TZOFFSETFROM:-0500
TZOFFSETTO:-0600
TZNAME:CST
DTSTART:20271107T070000
END:STANDARD
END:VTIMEZONE
BEGIN:VEVENT
DTSTART;TZID=America/Chicago:20260227T190000
DTEND;TZID=America/Chicago:20260227T210000
DTSTAMP:20260424T105743
CREATED:20260202T145635Z
LAST-MODIFIED:20260202T145635Z
UID:368482-1772218800-1772226000@kwhi.com
SUMMARY:BRENHAM CUB SOCCER
DESCRIPTION:The Brenham Cub Soccer Team will be on the on the road for a District 17-5A matchup against A&M Consolidated on Friday\, February 27\, at Cub Stadium. The JV begin things at 5pm\, followed by the Varsity at 7pm.
URL:https://kwhi.com/event/brenham-cub-soccer-50/
LOCATION:A&M Consolidated High School\, 1801 Harvey Mitchell Pkwy S.\, College Station\, 77840\, United States
CATEGORIES:Sports Events
END:VEVENT
BEGIN:VEVENT
DTSTART;TZID=America/Chicago:20260227T190000
DTEND;TZID=America/Chicago:20260227T210000
DTSTAMP:20260424T105743
CREATED:20260204T220743Z
LAST-MODIFIED:20260204T220743Z
UID:368794-1772218800-1772226000@kwhi.com
SUMMARY:BRENHAM CUBETTE SOCCER
DESCRIPTION:The Brenham Cubette Soccer Team hosts the A&M Consolidated Lady Tigers in a District 17-5A matchup on Friday\, February 27\, at Cub Stadium. The JV plays at 5pm followed by the Varsity at 7pm.
URL:https://kwhi.com/event/brenham-cubette-soccer-47/
LOCATION:Cub Stadium\, 1600 E Tom Green\, Brenham\, TX\, 77833\, United States
CATEGORIES:Sports Events
END:VEVENT
END:VCALENDAR