BEGIN:VCALENDAR
VERSION:2.0
PRODID:-//KWHI.com - ECPv6.15.17.1//NONSGML v1.0//EN
CALSCALE:GREGORIAN
METHOD:PUBLISH
X-ORIGINAL-URL:https://kwhi.com
X-WR-CALDESC:Events for KWHI.com
REFRESH-INTERVAL;VALUE=DURATION:PT1H
X-Robots-Tag:noindex
X-PUBLISHED-TTL:PT1H
BEGIN:VTIMEZONE
TZID:America/Chicago
BEGIN:DAYLIGHT
TZOFFSETFROM:-0600
TZOFFSETTO:-0500
TZNAME:CDT
DTSTART:20250309T080000
END:DAYLIGHT
BEGIN:STANDARD
TZOFFSETFROM:-0500
TZOFFSETTO:-0600
TZNAME:CST
DTSTART:20251102T070000
END:STANDARD
BEGIN:DAYLIGHT
TZOFFSETFROM:-0600
TZOFFSETTO:-0500
TZNAME:CDT
DTSTART:20260308T080000
END:DAYLIGHT
BEGIN:STANDARD
TZOFFSETFROM:-0500
TZOFFSETTO:-0600
TZNAME:CST
DTSTART:20261101T070000
END:STANDARD
BEGIN:DAYLIGHT
TZOFFSETFROM:-0600
TZOFFSETTO:-0500
TZNAME:CDT
DTSTART:20270314T080000
END:DAYLIGHT
BEGIN:STANDARD
TZOFFSETFROM:-0500
TZOFFSETTO:-0600
TZNAME:CST
DTSTART:20271107T070000
END:STANDARD
END:VTIMEZONE
BEGIN:VEVENT
DTSTART;VALUE=DATE:20260320
DTEND;VALUE=DATE:20260321
DTSTAMP:20260424T223239
CREATED:20260309T160319Z
LAST-MODIFIED:20260309T160319Z
UID:371758-1773964800-1774051199@kwhi.com
SUMMARY:BRENHAM HIGH SCHOOL TRACK
DESCRIPTION:The Brenham Cub and Cubette Track Teams will be hosting the Bluebonnet Relays on Friday\, March 20\, at Cub Stadium.
URL:https://kwhi.com/event/brenham-high-school-track-11/
LOCATION:Cub Stadium\, 1600 E Tom Green\, Brenham\, TX\, 77833\, United States
CATEGORIES:Sports Events
END:VEVENT
BEGIN:VEVENT
DTSTART;TZID=America/Chicago:20260320T173000
DTEND;TZID=America/Chicago:20260320T193000
DTSTAMP:20260424T223239
CREATED:20260309T141630Z
LAST-MODIFIED:20260309T141630Z
UID:371696-1774027800-1774035000@kwhi.com
SUMMARY:BRENHAM CUBETTE SOFTBALL
DESCRIPTION:The Brenham Cubette Softball Team will be traveling to A&M Consolidated High School for a District 17-5A game on Friday\, March 20. First pitch is scheduled for 5:30pm.
URL:https://kwhi.com/event/brenham-cubette-softball-67/
LOCATION:A&M Consolidated High School\, 1801 Harvey Mitchell Pkwy S.\, College Station\, 77840\, United States
CATEGORIES:Sports Events
END:VEVENT
BEGIN:VEVENT
DTSTART;TZID=America/Chicago:20260320T180000
DTEND;TZID=America/Chicago:20260320T200000
DTSTAMP:20260424T223239
CREATED:20260318T214530Z
LAST-MODIFIED:20260318T214530Z
UID:372558-1774029600-1774036800@kwhi.com
SUMMARY:BURTON LADY PANTHER SOFTBALL
DESCRIPTION:The Burton Lady Panther Softball Team will host the Milano Lady Eagles in a District 26-2A game on Friday\, May 20. The first pitch is scheduled for 6pm in Burton.
URL:https://kwhi.com/event/burton-lady-panther-softball-41/
LOCATION:BURTON HIGH SCHOOL\, Cedar St\, Burton\, Texas\, TX\, 77835\, United States
CATEGORIES:Sports Events
END:VEVENT
BEGIN:VEVENT
DTSTART;TZID=America/Chicago:20260320T190000
DTEND;TZID=America/Chicago:20260320T213000
DTSTAMP:20260424T223239
CREATED:20260309T151429Z
LAST-MODIFIED:20260309T151429Z
UID:371722-1774033200-1774042200@kwhi.com
SUMMARY:BRENHAM CUB BASEBALL
DESCRIPTION:The Brenham Cub Baseball Team is playing host to the Lake Creek Lions in a District 17-5A game on Friday\, March 20\, at Fireman's Park. KWHI will have live coverage beginning with the pregame at 6:35pm\, followed by the first pitch at 7pm.
URL:https://kwhi.com/event/brenham-cub-baseball-68/
LOCATION:City of Brenham Fireman’s Park\, 901 N. Park Street\, Brenham\, TX\, 77833\, United States
CATEGORIES:Sports Events
END:VEVENT
END:VCALENDAR