BEGIN:VCALENDAR
VERSION:2.0
PRODID:-//KWHI.com - ECPv6.15.17.1//NONSGML v1.0//EN
CALSCALE:GREGORIAN
METHOD:PUBLISH
X-ORIGINAL-URL:https://kwhi.com
X-WR-CALDESC:Events for KWHI.com
REFRESH-INTERVAL;VALUE=DURATION:PT1H
X-Robots-Tag:noindex
X-PUBLISHED-TTL:PT1H
BEGIN:VTIMEZONE
TZID:America/Chicago
BEGIN:DAYLIGHT
TZOFFSETFROM:-0600
TZOFFSETTO:-0500
TZNAME:CDT
DTSTART:20250309T080000
END:DAYLIGHT
BEGIN:STANDARD
TZOFFSETFROM:-0500
TZOFFSETTO:-0600
TZNAME:CST
DTSTART:20251102T070000
END:STANDARD
BEGIN:DAYLIGHT
TZOFFSETFROM:-0600
TZOFFSETTO:-0500
TZNAME:CDT
DTSTART:20260308T080000
END:DAYLIGHT
BEGIN:STANDARD
TZOFFSETFROM:-0500
TZOFFSETTO:-0600
TZNAME:CST
DTSTART:20261101T070000
END:STANDARD
BEGIN:DAYLIGHT
TZOFFSETFROM:-0600
TZOFFSETTO:-0500
TZNAME:CDT
DTSTART:20270314T080000
END:DAYLIGHT
BEGIN:STANDARD
TZOFFSETFROM:-0500
TZOFFSETTO:-0600
TZNAME:CST
DTSTART:20271107T070000
END:STANDARD
END:VTIMEZONE
BEGIN:VEVENT
DTSTART;TZID=America/Chicago:20260423T180000
DTEND;TZID=America/Chicago:20260423T203000
DTSTAMP:20260424T204933
CREATED:20260406T115421Z
LAST-MODIFIED:20260406T115421Z
UID:373917-1776967200-1776976200@kwhi.com
SUMMARY:BLINN BUCCANEER BASEBALL
DESCRIPTION:The Blinn Buccaneer Baseball Team will host the Galveston Whitecaps in a Region XIV Conference game on Thursday\, April 23. The first pitch is scheduled for 6pm at Leroy Dreyer Field.
URL:https://kwhi.com/event/blinn-buccaneer-baseball-97/
LOCATION:Leroy Dreyer Field – Blinn College\, 1106 West 2nd Street\, Brenham\, TX\, 77833\, United States
CATEGORIES:Sports Events
END:VEVENT
BEGIN:VEVENT
DTSTART;TZID=America/Chicago:20260422T140000
DTEND;TZID=America/Chicago:20260422T190000
DTSTAMP:20260424T204933
CREATED:20260406T125702Z
LAST-MODIFIED:20260406T125702Z
UID:373937-1776866400-1776884400@kwhi.com
SUMMARY:BLINN BUCCANEER SOFTBALL
DESCRIPTION:The Blinn Buccaneer Softball Team will host the San Jacinto Ravens in a Region XIV Conference doubleheader on Wednesday\, April 22. First pitch is scheduled for 2pm at Hohlt Park in Brenham
URL:https://kwhi.com/event/blinn-buccaneer-softball-82/
LOCATION:City of Brenham Hohlt Park\, 2425 North Park Street\, Brenham\, TX\, 77833\, United States
CATEGORIES:Sports Events
END:VEVENT
BEGIN:VEVENT
DTSTART;TZID=America/Chicago:20260421T190000
DTEND;TZID=America/Chicago:20260421T213000
DTSTAMP:20260424T204933
CREATED:20260309T155346Z
LAST-MODIFIED:20260309T155346Z
UID:371748-1776798000-1776807000@kwhi.com
SUMMARY:BRENHAM CUB BASEBALL
DESCRIPTION:The Brenham Cub Baseball Team will be hosting Rudder in a District 17-5A game on Tuesday\, April 21\, at Fireman's Park. KWHI will have live coverage beginning with the pregame at 6:35pm\, followed by the first pitch at 7pm.
URL:https://kwhi.com/event/brenham-cub-baseball-77/
LOCATION:City of Brenham Fireman’s Park\, 901 N. Park Street\, Brenham\, TX\, 77833\, United States
CATEGORIES:Sports Events
END:VEVENT
BEGIN:VEVENT
DTSTART;TZID=America/Chicago:20260421T173000
DTEND;TZID=America/Chicago:20260421T200000
DTSTAMP:20260424T204933
CREATED:20260310T134614Z
LAST-MODIFIED:20260310T134614Z
UID:371900-1776792600-1776801600@kwhi.com
SUMMARY:BURTON PANTHER BASEBALL
DESCRIPTION:The Burton Panther Baseball Team will be traveling to Round Top-Carmine High School for a District 26-2A game against the Cubs on Tuesday\, April 21.  First pitch is scheduled for 5:30pm.
URL:https://kwhi.com/event/burton-panther-baseball-65/
LOCATION:Round Top-Carmine  High School\, 378 Centennial St.\, Carmine\, TX\, 78932\, United States
CATEGORIES:Sports Events
END:VEVENT
BEGIN:VEVENT
DTSTART;TZID=America/Chicago:20260418T140000
DTEND;TZID=America/Chicago:20260418T190000
DTSTAMP:20260424T204933
CREATED:20260406T115139Z
LAST-MODIFIED:20260406T115139Z
UID:373912-1776520800-1776538800@kwhi.com
SUMMARY:BLINN BUCCANEER BASEBALL
DESCRIPTION:The Blinn Buccaneer Baseball Team will face the Alvin Dolphins in a Region XIV Conference doubleheader on Saturday\, April 18. First pitch is scheduled for 2pm at Leroy Dreyer Field in Brenham.
URL:https://kwhi.com/event/blinn-buccaneer-baseball-96/
LOCATION:Leroy Dreyer Field – Blinn College\, 1106 West 2nd Street\, Brenham\, TX\, 77833\, United States
CATEGORIES:Sports Events
END:VEVENT
BEGIN:VEVENT
DTSTART;TZID=America/Chicago:20260418T130000
DTEND;TZID=America/Chicago:20260418T180000
DTSTAMP:20260424T204933
CREATED:20260406T122436Z
LAST-MODIFIED:20260406T122436Z
UID:373935-1776517200-1776535200@kwhi.com
SUMMARY:BLINN BUCCANEER SOFTBALL
DESCRIPTION:The Blinn Buccaneer Softball Team will travel to Lufkin for a Regional XIV Conference doubleheader against the Angelina Roadrunners on Saturday\, April 18. First pitch is scheduled for 1pm.
URL:https://kwhi.com/event/blinn-buccaneer-softball-81/
LOCATION:Angelina College\, 3500 S 1st St\, Angelina\, TX\, 75904\, United States
CATEGORIES:Sports Events
END:VEVENT
BEGIN:VEVENT
DTSTART;TZID=America/Chicago:20260418T130000
DTEND;TZID=America/Chicago:20260418T153000
DTSTAMP:20260424T204933
CREATED:20260309T155023Z
LAST-MODIFIED:20260309T155023Z
UID:371743-1776517200-1776526200@kwhi.com
SUMMARY:BRENHAM CUB BASEBALL
DESCRIPTION:The Brenham Cub Baseball Team will be hosting Cy Woods in a non-district game on Saturday\, April 18\, at Fireman's Park. KWHI will have live coverage beginning with the pregame at 12:35pm\, followed by the first pitch at 1pm.
URL:https://kwhi.com/event/brenham-cub-baseball-76/
LOCATION:City of Brenham Fireman’s Park\, 901 N. Park Street\, Brenham\, TX\, 77833\, United States
CATEGORIES:Sports Events
END:VEVENT
BEGIN:VEVENT
DTSTART;TZID=America/Chicago:20260417T183000
DTEND;TZID=America/Chicago:20260417T220000
DTSTAMP:20260424T204933
CREATED:20260310T133519Z
LAST-MODIFIED:20260310T133519Z
UID:371888-1776450600-1776463200@kwhi.com
SUMMARY:BURTON PANTHER BASEBALL
DESCRIPTION:The Burton Panthers are traveling to Milano to take on the Eagles in a District 26-2A game on Friday\, April 17. The first pitch is scheduled for a 6:30pm.
URL:https://kwhi.com/event/burton-panther-baseball-64/
LOCATION:Milano High School\, 600 North 6th Street\, Milano\, TX\, 76556\, United States
CATEGORIES:Sports Events
END:VEVENT
BEGIN:VEVENT
DTSTART;TZID=America/Chicago:20260417T180000
DTEND;TZID=America/Chicago:20260417T203000
DTSTAMP:20260424T204933
CREATED:20260309T154509Z
LAST-MODIFIED:20260309T154509Z
UID:371741-1776448800-1776457800@kwhi.com
SUMMARY:BRENHAM CUB BASEBALL
DESCRIPTION:The Brenham Cub Baseball Team will host Iowa Colony in a non-district game on Friday\, April 17\, at Fireman's Park. It is also Seniors Night. The first pitch is scheduled for 6pm.
URL:https://kwhi.com/event/brenham-cub-baseball-75/
LOCATION:City of Brenham Fireman’s Park\, 901 N. Park Street\, Brenham\, TX\, 77833\, United States
CATEGORIES:Sports Events
END:VEVENT
BEGIN:VEVENT
DTSTART;TZID=America/Chicago:20260417T180000
DTEND;TZID=America/Chicago:20260417T200000
DTSTAMP:20260424T204933
CREATED:20260326T132505Z
LAST-MODIFIED:20260326T132505Z
UID:373124-1776448800-1776456000@kwhi.com
SUMMARY:BURTON LADY PANTHER SOFTBALL
DESCRIPTION:The Burton Lady Panther Softball Team is hosting the Mumford Lady Mustangs on Friday\, April 17\, at 6pm at the Burton City Field. It is a District 26-2A game and Senior Night at the ballpark.
URL:https://kwhi.com/event/burton-lady-panther-softball-48/
LOCATION:Burton City Park\, 13025 West Washington Street\, Burton\, TX\, 77835\, United States
CATEGORIES:Sports Events
END:VEVENT
BEGIN:VEVENT
DTSTART;TZID=America/Chicago:20260417T173000
DTEND;TZID=America/Chicago:20260417T193000
DTSTAMP:20260424T204933
CREATED:20260309T150054Z
LAST-MODIFIED:20260309T150054Z
UID:371713-1776447000-1776454200@kwhi.com
SUMMARY:BRENHAM CUBETTE SOFTBALL
DESCRIPTION:The Brenham Cubette Softball Team will host Lake Creek in the final regular season home game on Friday\, April 17\, at Alumni Field in Brenham. It is a District 17-5A Game\, and it is also Seniors Night. First pitch is scheduled for 5:30pm. KWHI will have live coverage beginning with the pregame at 5:05pm.
URL:https://kwhi.com/event/brenham-cubette-softball-74/
LOCATION:Brenham High School Alumni Field\, 525 A H Ehrig Drive \, Brenham\, TX\, 77833\, United States
CATEGORIES:Sports Events
END:VEVENT
BEGIN:VEVENT
DTSTART;TZID=America/Chicago:20260416T130000
DTEND;TZID=America/Chicago:20260416T160000
DTSTAMP:20260424T204933
CREATED:20260406T113858Z
LAST-MODIFIED:20260406T113858Z
UID:373910-1776344400-1776355200@kwhi.com
SUMMARY:BLINN BUCCANEER BASEBALL
DESCRIPTION:The Blinn Buccaneer Baseball Team will be traveling to Alvin to take on the Dolphins in a Region XIV Conference Game on Thursday\, April 16. The pitch is scheduled for 1pm.
URL:https://kwhi.com/event/blinn-buccaneer-baseball-95/
LOCATION:Alvin Community College\, 3110 Mustang Rd.\, Alvin\, TX\, 77511\, United States
CATEGORIES:Sports Events
END:VEVENT
BEGIN:VEVENT
DTSTART;TZID=America/Chicago:20260415T130000
DTEND;TZID=America/Chicago:20260415T173000
DTSTAMP:20260424T204933
CREATED:20260406T121339Z
LAST-MODIFIED:20260406T121339Z
UID:373932-1776258000-1776274200@kwhi.com
SUMMARY:BLINN BUCCANEER SOFTBALL
DESCRIPTION:The Blinn Buccaneer Softball Team will be hosting the Coastal Bend Cougars in a Region XIV Conference doubleheader on Wednesday\, April 15. First pitch is scheduled for 1pm at Hohlt Park in Brenham.
URL:https://kwhi.com/event/blinn-buccaneer-softball-80/
LOCATION:City of Brenham Hohlt Park\, 2425 North Park Street\, Brenham\, TX\, 77833\, United States
CATEGORIES:Sports Events
END:VEVENT
BEGIN:VEVENT
DTSTART;TZID=America/Chicago:20260414T183000
DTEND;TZID=America/Chicago:20260414T210000
DTSTAMP:20260424T204933
CREATED:20260310T131935Z
LAST-MODIFIED:20260310T132007Z
UID:371886-1776191400-1776200400@kwhi.com
SUMMARY:BURTON PANTHER BASEBALL
DESCRIPTION:The Burton Panther Baseball Team is hosting the Milano Eagles on Tuesday\, April 14\, at Panther Field in Burton.  It is also Seniors Night. First pitch is scheduled for 6:30pm.
URL:https://kwhi.com/event/burton-panther-baseball-63/
LOCATION:Panther Field in Burton\, TX\, TX\, United States
CATEGORIES:Sports Events
END:VEVENT
BEGIN:VEVENT
DTSTART;TZID=America/Chicago:20260414T180000
DTEND;TZID=America/Chicago:20260414T203000
DTSTAMP:20260424T204933
CREATED:20260406T113620Z
LAST-MODIFIED:20260406T113620Z
UID:373908-1776189600-1776198600@kwhi.com
SUMMARY:BLINN BUCCANEER BASEBALL
DESCRIPTION:The Blinn Buccaneer Baseball Team will host the Alvin Dolphins in a Region XIV Conference game on Tuesday\, April 14. First pitch is scheduled for 6pm at Leroy Dreyer Field in Brenham.
URL:https://kwhi.com/event/blinn-buccaneer-baseball-94/
LOCATION:Leroy Dreyer Field – Blinn College\, 1106 West 2nd Street\, Brenham\, TX\, 77833\, United States
CATEGORIES:Sports Events
END:VEVENT
BEGIN:VEVENT
DTSTART;TZID=America/Chicago:20260414T180000
DTEND;TZID=America/Chicago:20260414T200000
DTSTAMP:20260424T204933
CREATED:20260326T131405Z
LAST-MODIFIED:20260326T131405Z
UID:373122-1776189600-1776196800@kwhi.com
SUMMARY:BURTON LADY PANTHER SOFTBALL
DESCRIPTION:The Burton Lady Panther Softball Team is going on the road for a District 26-2A game against the Mumford Lady Mustangs on Tuesday\, April 14.  First pitch is scheduled for 6:30pm.
URL:https://kwhi.com/event/burton-lady-panther-softball-47/
LOCATION:Mumford High School\, 9755 FM 50\, Mumford\, TX\, 77807\, United States
CATEGORIES:Sports Events
END:VEVENT
BEGIN:VEVENT
DTSTART;TZID=America/Chicago:20260414T173000
DTEND;TZID=America/Chicago:20260414T193000
DTSTAMP:20260424T204933
CREATED:20260309T145610Z
LAST-MODIFIED:20260309T145610Z
UID:371711-1776187800-1776195000@kwhi.com
SUMMARY:BRENHAM CUBETTE SOFTBALL
DESCRIPTION:The Brenham Cubette Softball Team will host A&M Consolidated in a District 17-5A Game on Tuesday\, April 14. It is also Youth Night at Alumni Field in Brenham. First pitch is scheduled for 5:30pm. KWHI will have live coverage beginning with the pregame at 5:05pm.
URL:https://kwhi.com/event/brenham-cubette-softball-73/
LOCATION:Brenham High School Alumni Field\, 525 A H Ehrig Drive \, Brenham\, TX\, 77833\, United States
CATEGORIES:Sports Events
END:VEVENT
BEGIN:VEVENT
DTSTART;VALUE=DATE:20260413
DTEND;VALUE=DATE:20260415
DTSTAMP:20260424T204933
CREATED:20260406T135739Z
LAST-MODIFIED:20260406T135739Z
UID:373957-1776038400-1776211199@kwhi.com
SUMMARY:BRENHAM CUB GOLF
DESCRIPTION:The Brenham Cub Golf Team will be taking part in the Regional Golf Tournament on Monday\, April 13\, thru Tuesday\, April 14\, at the Margarita Resort in Conroe.
URL:https://kwhi.com/event/brenham-cub-golf-9/
LOCATION:Margaritaville Golf Resort\, 600 Margaritaville Park Way\, Montgomery\, TX\, United States
CATEGORIES:Sports Events
END:VEVENT
BEGIN:VEVENT
DTSTART;TZID=America/Chicago:20260411T130000
DTEND;TZID=America/Chicago:20260411T180000
DTSTAMP:20260424T204933
CREATED:20260331T144527Z
LAST-MODIFIED:20260331T144527Z
UID:373563-1775912400-1775930400@kwhi.com
SUMMARY:BLINN BUCCANEER SOFTBALL
DESCRIPTION:The Blinn Buccaneer Softball Team will be travelling to the Alvin Dolphins on Saturday\, April 11\, for a doubleheader. First pitch is scheduled for 1pm.
URL:https://kwhi.com/event/blinn-buccaneer-softball-79/
LOCATION:Alvin Community College\, 3110 Mustang Rd.\, Alvin\, TX\, 77511\, United States
CATEGORIES:Sports Events
END:VEVENT
BEGIN:VEVENT
DTSTART;TZID=America/Chicago:20260410T190000
DTEND;TZID=America/Chicago:20260410T213000
DTSTAMP:20260424T204933
CREATED:20260309T153911Z
LAST-MODIFIED:20260309T153911Z
UID:371739-1775847600-1775856600@kwhi.com
SUMMARY:BRENHAM CUB BASEBALL
DESCRIPTION:The Brenham Cub Baseball Team is playing host to the Montgomery Bears in a District 17-5A game on Friday\, April 10\, at Fireman's Park.  KWHI will have live coverage beginning with the pregame at 6:35pm\, followed by the first pitch at 7pm.
URL:https://kwhi.com/event/brenham-cub-baseball-74/
LOCATION:City of Brenham Fireman’s Park\, 901 N. Park Street\, Brenham\, TX\, 77833\, United States
CATEGORIES:Sports Events
END:VEVENT
BEGIN:VEVENT
DTSTART;TZID=America/Chicago:20260410T180000
DTEND;TZID=America/Chicago:20260410T200000
DTSTAMP:20260424T204933
CREATED:20260309T145144Z
LAST-MODIFIED:20260309T145144Z
UID:371709-1775844000-1775851200@kwhi.com
SUMMARY:BRENHAM CUBETTE SOFTBALL
DESCRIPTION:The Brenham Cubette Softball Team will be traveling to Huntsville for a District 17-5A game on Friday\, April 10. First pitch is scheduled for 6pm.
URL:https://kwhi.com/event/brenham-cubette-softball-72/
LOCATION:Huntsville High School\, 515 Farm to Market Rd 2821\, Huntsville\, TX\, 77320\, United States
CATEGORIES:Sports Events
END:VEVENT
BEGIN:VEVENT
DTSTART;VALUE=DATE:20260410
DTEND;VALUE=DATE:20260411
DTSTAMP:20260424T204933
CREATED:20260406T153402Z
LAST-MODIFIED:20260406T153402Z
UID:374019-1775779200-1775865599@kwhi.com
SUMMARY:BLINN BUCCANEER WOMEN'S GOLF
DESCRIPTION:The Blinn Buccaneer Women's Golf Team will be taking part in the Texas Wesalayan Spring Invitational in Willow Park\, Texas. The exhibition is scheduled for April 10.
URL:https://kwhi.com/event/blinn-buccaneer-womens-golf-2/
LOCATION:Texas Wesalayan College
CATEGORIES:Sports Events
END:VEVENT
BEGIN:VEVENT
DTSTART;VALUE=DATE:20260410
DTEND;VALUE=DATE:20260411
DTSTAMP:20260424T204933
CREATED:20260406T151219Z
LAST-MODIFIED:20260406T151219Z
UID:374002-1775779200-1775865599@kwhi.com
SUMMARY:BLINN BUCCANEER WOMEN'S CROSS COUNTRY
DESCRIPTION:The Blinn Buccaneer Women's Cross Country Team is taking part in the John Jacobs Invitational being held on Friday\, April 10\, in Norman\, Oklahoma.
URL:https://kwhi.com/event/blinn-buccaneer-womens-cross-country/
LOCATION:University of Oklahoma
CATEGORIES:Sports Events
END:VEVENT
BEGIN:VEVENT
DTSTART;VALUE=DATE:20260409
DTEND;VALUE=DATE:20260410
DTSTAMP:20260424T204933
CREATED:20260406T144452Z
LAST-MODIFIED:20260406T144452Z
UID:373990-1775692800-1775779199@kwhi.com
SUMMARY:BRENHAM HIGH SCHOOL TRACK
DESCRIPTION:The Brenham High School Track Team will be taking part in the finals of the District 17-5A Meet on Thursday\, April 9\, at Montgomery High School.
URL:https://kwhi.com/event/brenham-high-school-track-15/
LOCATION:Montgomery High School\, 22825 TX-105\, Montgomery\, TX\, 77356\, United States
CATEGORIES:Sports Events
END:VEVENT
BEGIN:VEVENT
DTSTART;TZID=America/Chicago:20260408T140000
DTEND;TZID=America/Chicago:20260408T170000
DTSTAMP:20260424T204933
CREATED:20260331T144141Z
LAST-MODIFIED:20260331T144141Z
UID:373561-1775656800-1775667600@kwhi.com
SUMMARY:BLINN BUCCANEER SOFTBALL
DESCRIPTION:The Blinn Buccaneer Softball Team is hosting the Lamar State-Port Arthur Seahawks in a Region XIV doubleheader on Wednesday\, April 8\, beginning a 2pm at Hohlt Park in Brenham.
URL:https://kwhi.com/event/blinn-buccaneer-softball-78/
LOCATION:City of Brenham Hohlt Park\, 2425 North Park Street\, Brenham\, TX\, 77833\, United States
CATEGORIES:Sports Events
END:VEVENT
BEGIN:VEVENT
DTSTART;VALUE=DATE:20260408
DTEND;VALUE=DATE:20260410
DTSTAMP:20260424T204933
CREATED:20260406T144657Z
LAST-MODIFIED:20260406T144657Z
UID:373992-1775606400-1775779199@kwhi.com
SUMMARY:BURTON HIGH SCHOOL TRACK
DESCRIPTION:The Burton High School Track Teams will be taking part in the District 26-2A Track Meet Wednesday\, April 8\, thru Thursday\, April 9\, at Iola High School.
URL:https://kwhi.com/event/burton-high-school-track-14/
LOCATION:Iola High School\, 7282 Fort Worth St.\, Iola\, TX\, 77861\, United States
CATEGORIES:Sports Events
END:VEVENT
BEGIN:VEVENT
DTSTART;VALUE=DATE:20260408
DTEND;VALUE=DATE:20260410
DTSTAMP:20260424T204933
CREATED:20260310T142243Z
LAST-MODIFIED:20260310T142243Z
UID:371940-1775606400-1775779199@kwhi.com
SUMMARY:BURTON HIGH SCHOOL TRACK
DESCRIPTION:The Burton High School Track Team will be taking part in the District Meet\, which runs April 8-9. The meet is being host by Snook High School.
URL:https://kwhi.com/event/burton-high-school-track-13/
LOCATION:Snook High School\, 10110 FM 2155\, Snook\, TX\, 77878\, United States
CATEGORIES:Sports Events
END:VEVENT
BEGIN:VEVENT
DTSTART;TZID=America/Chicago:20260407T190000
DTEND;TZID=America/Chicago:20260407T213000
DTSTAMP:20260424T204933
CREATED:20260309T153604Z
LAST-MODIFIED:20260309T153604Z
UID:371737-1775588400-1775597400@kwhi.com
SUMMARY:BRENHAM CUB BASEBALL
DESCRIPTION:The Brenham Cub Baseball Team will be visiting the Montgomery Bears for a District 17-5A Game on Tuesday\, April 7. First pitch is scheduled for 7pm.
URL:https://kwhi.com/event/brenham-cub-baseball-73/
LOCATION:Montgomery High School\, 22825 TX-105\, Montgomery\, TX\, 77356\, United States
CATEGORIES:Sports Events
END:VEVENT
BEGIN:VEVENT
DTSTART;TZID=America/Chicago:20260407T170000
DTEND;TZID=America/Chicago:20260407T213000
DTSTAMP:20260424T204933
CREATED:20260326T124747Z
LAST-MODIFIED:20260407T140650Z
UID:373118-1775581200-1775597400@kwhi.com
SUMMARY:BURTON LADY PANTHER SOFTBALL
DESCRIPTION:The Burton Lady Panther Softball Team is hosting the Snook Lady Blue Jays in a District 26-2A doubleheader on Tuesday\, April 7\, at the Burton City Field. First pitch for Game One is scheduled for 5pm. Game two will follow 30 minutes after Game One.
URL:https://kwhi.com/event/burton-lady-panther-softball-45/
LOCATION:Burton City Park\, 13025 West Washington Street\, Burton\, TX\, 77835\, United States
CATEGORIES:Sports Events
END:VEVENT
BEGIN:VEVENT
DTSTART;TZID=America/Chicago:20260407T170000
DTEND;TZID=America/Chicago:20260407T190000
DTSTAMP:20260424T204933
CREATED:20260309T144848Z
LAST-MODIFIED:20260309T144848Z
UID:371707-1775581200-1775588400@kwhi.com
SUMMARY:BRENHAM CUBETTE SOFTBALL
DESCRIPTION:The Brenham Cubette Softball Team is travel to Bryan for a District 17-5A game against the Rudder Lady Rangers on Tuesday\, April 7. The first pitch is scheduled for 5pm. KWHI will have live coverage beginning with the pregame at 4:35pm.
URL:https://kwhi.com/event/brenham-cubette-softball-71/
LOCATION:James Earl Rudder High School\, 3251 Austins Colony Pkwy.\, Bryan\, 77808
CATEGORIES:Sports Events
END:VEVENT
END:VCALENDAR