BEGIN:VCALENDAR
VERSION:2.0
PRODID:-//KWHI.com - ECPv6.15.17.1//NONSGML v1.0//EN
CALSCALE:GREGORIAN
METHOD:PUBLISH
X-WR-CALNAME:KWHI.com
X-ORIGINAL-URL:https://kwhi.com
X-WR-CALDESC:Events for KWHI.com
REFRESH-INTERVAL;VALUE=DURATION:PT1H
X-Robots-Tag:noindex
X-PUBLISHED-TTL:PT1H
BEGIN:VTIMEZONE
TZID:America/Chicago
BEGIN:DAYLIGHT
TZOFFSETFROM:-0600
TZOFFSETTO:-0500
TZNAME:CDT
DTSTART:20230312T080000
END:DAYLIGHT
BEGIN:STANDARD
TZOFFSETFROM:-0500
TZOFFSETTO:-0600
TZNAME:CST
DTSTART:20231105T070000
END:STANDARD
BEGIN:DAYLIGHT
TZOFFSETFROM:-0600
TZOFFSETTO:-0500
TZNAME:CDT
DTSTART:20240310T080000
END:DAYLIGHT
BEGIN:STANDARD
TZOFFSETFROM:-0500
TZOFFSETTO:-0600
TZNAME:CST
DTSTART:20241103T070000
END:STANDARD
BEGIN:DAYLIGHT
TZOFFSETFROM:-0600
TZOFFSETTO:-0500
TZNAME:CDT
DTSTART:20250309T080000
END:DAYLIGHT
BEGIN:STANDARD
TZOFFSETFROM:-0500
TZOFFSETTO:-0600
TZNAME:CST
DTSTART:20251102T070000
END:STANDARD
END:VTIMEZONE
BEGIN:VEVENT
DTSTART;TZID=America/Chicago:20241012T173000
DTEND;TZID=America/Chicago:20241012T213000
DTSTAMP:20260419T231434
CREATED:20240909T202519Z
LAST-MODIFIED:20240909T202519Z
UID:331409-1728754200-1728768600@kwhi.com
SUMMARY:Fall Forest Fest (San Felipe)
DESCRIPTION:
URL:https://kwhi.com/event/fall-forest-fest-san-felipe/
LOCATION:Stephen F. Austin State Park\, Park Road 38\, San Felipe\, TX\, 77433\, United States
CATEGORIES:Bulletin Board
ATTACH;FMTTYPE=image/png:https://kwhi.com/wp-content/uploads/2024/09/fall-forest-fest-oct.png
END:VEVENT
BEGIN:VEVENT
DTSTART;TZID=America/Chicago:20241012T150000
DTEND;TZID=America/Chicago:20241012T180000
DTSTAMP:20260419T231434
CREATED:20240822T153355Z
LAST-MODIFIED:20241014T152244Z
UID:330208-1728745200-1728756000@kwhi.com
SUMMARY:BLINN BUCCANEER FOOTBALL
DESCRIPTION:The Blinn Buccaneer Football Team is going to host the Tyler Apaches on Saturday\, October 12\, at 3pm at Cub Stadium. \nKWHI will broadcast the game live beginning with the pregame at 2:30pm.
URL:https://kwhi.com/event/blinn-buccaneer-football-16/
LOCATION:Cub Stadium\, 1600 East Tom Green\, Brenham\, TX\, 77833\, United States
CATEGORIES:Sports Events
ATTACH;FMTTYPE=image/jpeg:https://kwhi.com/wp-content/uploads/2023/10/Blinn-Football-Khalib-Johnson-Feature-2.jpg
END:VEVENT
BEGIN:VEVENT
DTSTART;TZID=America/Chicago:20241012T130000
DTEND;TZID=America/Chicago:20241012T150000
DTSTAMP:20260419T231434
CREATED:20241007T152411Z
LAST-MODIFIED:20241007T152411Z
UID:333534-1728738000-1728745200@kwhi.com
SUMMARY:BLINN BUCCANEER SOFTBALL
DESCRIPTION:The Blinn Buccaneer Softball Team is playing a Fall Exhibition game at Texas A&M on Saturday\, October 12. First pitch is at 1pm at Davis Diamond in College Station\, Texas.
URL:https://kwhi.com/event/blinn-buccaneer-softball-63/
LOCATION:Davis Diamond in College Station
CATEGORIES:Sports Events
ATTACH;FMTTYPE=image/jpeg:https://kwhi.com/wp-content/uploads/2024/04/Blinn-Softball-Feature-13.jpg
END:VEVENT
BEGIN:VEVENT
DTSTART;TZID=America/Chicago:20241012T113000
DTEND;TZID=America/Chicago:20241012T133000
DTSTAMP:20260419T231434
CREATED:20240805T143030Z
LAST-MODIFIED:20240805T143030Z
UID:329048-1728732600-1728739800@kwhi.com
SUMMARY:First UMC College Station Grocery Giveaway (College Station)
DESCRIPTION:
URL:https://kwhi.com/event/first-umc-college-station-grocery-giveaway-college-station-2/
LOCATION:First UMC College Station\, 1125 Wellborn Road\, College Station\, TX\, 77840\, United States
CATEGORIES:Bulletin Board
ATTACH;FMTTYPE=image/jpeg:https://kwhi.com/wp-content/uploads/2024/08/fumc-grocery.jpg
END:VEVENT
BEGIN:VEVENT
DTSTART;TZID=America/Chicago:20240608T110000
DTEND;TZID=America/Chicago:20240608T160000
DTSTAMP:20260419T231434
CREATED:20240311T195907Z
LAST-MODIFIED:20240311T195907Z
UID:318633-1717844400-1717862400@kwhi.com
SUMMARY:Flying Horses Carousel in Fireman's Park
DESCRIPTION:Carousel Hours: \nMarch - May\nSaturday 11am - 4pm\nSunday 1-4pm \nJune - October\nSaturday 11am - 4pm \nAvailable for rentals outside of public hours. #ParksandRecreation #CityofBrenham
URL:https://kwhi.com/event/flying-horses-carousel-in-firemans-park-2/
LOCATION:TX
CATEGORIES:Bulletin Board
ATTACH;FMTTYPE=image/jpeg:https://kwhi.com/wp-content/uploads/2024/03/flying-horses-carousel.jpg
END:VEVENT
BEGIN:VEVENT
DTSTART;TZID=America/Chicago:20241012T110000
DTEND;TZID=America/Chicago:20241012T140000
DTSTAMP:20260419T231434
CREATED:20241009T194745Z
LAST-MODIFIED:20241009T194745Z
UID:333847-1728730800-1728741600@kwhi.com
SUMMARY:Fish Fry at New Hope Church-Brenham
DESCRIPTION:New Hope Missionary Baptist Church in Brenham is hosting a Fish Fry on Saturday\, October 12\, drive thru from 11 AM -2PM
URL:https://kwhi.com/event/fish-fry-at-new-hope-church-brenham/
LOCATION:New Hope Missionary Baptist Church (Brenham)\, 704 West Jefferson\, Brenham\, TX\, 77833\, United States
CATEGORIES:Bulletin Board
ATTACH;FMTTYPE=image/jpeg:https://kwhi.com/wp-content/uploads/2024/10/fish-fry-two.jpg
END:VEVENT
BEGIN:VEVENT
DTSTART;VALUE=DATE:20241012
DTEND;VALUE=DATE:20241013
DTSTAMP:20260419T231434
CREATED:20241007T153028Z
LAST-MODIFIED:20241007T153028Z
UID:333542-1728691200-1728777599@kwhi.com
SUMMARY:BLINN BUCCANEER WOMEN'S BASKETBALL
DESCRIPTION:The Blinn Buccaneer Women's Basketball Team is taking part in the Southwest Showcase at Field House USA in Mansfield\, Texas on Saturday\, October 12. All games are scrimmages.
URL:https://kwhi.com/event/blinn-buccaneer-womens-basketball-27/
LOCATION:Fieldhouse USA in Mansfield\, TX
CATEGORIES:Sports Events
ATTACH;FMTTYPE=image/jpeg:https://kwhi.com/wp-content/uploads/2024/03/Blinn-Womens-Basketball-Feature-20-1.jpg
END:VEVENT
BEGIN:VEVENT
DTSTART;VALUE=DATE:20241012
DTEND;VALUE=DATE:20241013
DTSTAMP:20260419T231434
CREATED:20241003T214401Z
LAST-MODIFIED:20241003T214401Z
UID:333308-1728691200-1728777599@kwhi.com
SUMMARY:Goodwill MBC hosting a Benefit Concert (Brenham)
DESCRIPTION:
URL:https://kwhi.com/event/goodwill-mbc-hosting-a-benefit-concert-brenham-2/
LOCATION:Goodwill Missionary Baptist Church (Brenham)\, 9180 Highway 105\, Brenham\, TX\, 77833\, United States
CATEGORIES:Bulletin Board
ATTACH;FMTTYPE=image/jpeg:https://kwhi.com/wp-content/uploads/2024/10/gmbc-benefit-concert-oct-1.jpg
END:VEVENT
BEGIN:VEVENT
DTSTART;VALUE=DATE:20241012
DTEND;VALUE=DATE:20241013
DTSTAMP:20260419T231434
CREATED:20241003T212236Z
LAST-MODIFIED:20241003T212236Z
UID:333301-1728691200-1728777599@kwhi.com
SUMMARY:2024 Conference-Revive\, Restore & Regain (Bellville)
DESCRIPTION:
URL:https://kwhi.com/event/2024-conference-revive-restore-regain-bellville/
LOCATION:Back to God Revival Holiness Church (Bellville)\, 957 West Austin Street\, Bellville\, TX\, 77418\, United States
CATEGORIES:Bulletin Board
ATTACH;FMTTYPE=image/jpeg:https://kwhi.com/wp-content/uploads/2024/10/back-to-God-holiness-ch-october.jpg
END:VEVENT
BEGIN:VEVENT
DTSTART;VALUE=DATE:20241012
DTEND;VALUE=DATE:20241013
DTSTAMP:20260419T231434
CREATED:20240920T211036Z
LAST-MODIFIED:20240920T211036Z
UID:332417-1728691200-1728777599@kwhi.com
SUMMARY:Lloyd Saunders Memorial Cookoff (Brenham)
DESCRIPTION:
URL:https://kwhi.com/event/lloyd-saunders-memorial-cookoff-brenham/
LOCATION:Washington County Expo\, 1305 E. Blue Bell Rd.\, Brenham\, TX\, 77833\, United States
CATEGORIES:Bulletin Board
ATTACH;FMTTYPE=image/jpeg:https://kwhi.com/wp-content/uploads/2024/09/lloyd-saunders-oct.jpg
END:VEVENT
BEGIN:VEVENT
DTSTART;TZID=America/Chicago:20241011T193000
DTEND;TZID=America/Chicago:20241011T213000
DTSTAMP:20260419T231434
CREATED:20241007T151422Z
LAST-MODIFIED:20241007T151422Z
UID:333527-1728675000-1728682200@kwhi.com
SUMMARY:BLINN BUCCANEER MEN'S SOCCER
DESCRIPTION:The Blinn Buccaneer Men's Soccer Team is scheduled to host Coastal Bend College on Friday\, October 11. The match is scheduled to begin at 7:30pm at Rankin Field at Hohlt Park.
URL:https://kwhi.com/event/blinn-buccaneer-mens-soccer-7/
LOCATION:City of Brenham Hohlt Park\, 2425 North Park Street\, Brenham\, TX\, 77833\, United States
CATEGORIES:Sports Events
ATTACH;FMTTYPE=image/jpeg:https://kwhi.com/wp-content/uploads/2024/10/Blinn-Mens-Soccer-Feature-14.jpg
END:VEVENT
BEGIN:VEVENT
DTSTART;TZID=America/Chicago:20241011T190000
DTEND;TZID=America/Chicago:20241011T220000
DTSTAMP:20260419T231434
CREATED:20240822T124831Z
LAST-MODIFIED:20240822T124831Z
UID:330149-1728673200-1728684000@kwhi.com
SUMMARY:BRENHAM CUB FOOTBALL
DESCRIPTION:The Brenham Cub Football Team will open district play on Friday\, October 11\, against Waco High School. Kickoff is scheduled for 7pm at Cub Stadium. \nKWHI will have live coverage beginning with the pregame at 6:30pm.
URL:https://kwhi.com/event/brenham-cub-football-19/
LOCATION:Cub Stadium\, 1600 East Tom Green\, Brenham\, TX\, 77833\, United States
CATEGORIES:Sports Events
ATTACH;FMTTYPE=image/jpeg:https://kwhi.com/wp-content/uploads/2023/11/Cub-Football-feature-113232.jpg
END:VEVENT
BEGIN:VEVENT
DTSTART;TZID=America/Chicago:20241011T190000
DTEND;TZID=America/Chicago:20241011T213000
DTSTAMP:20260419T231434
CREATED:20240822T150212Z
LAST-MODIFIED:20241007T145734Z
UID:330183-1728673200-1728682200@kwhi.com
SUMMARY:BURTON PANTHER FOOTBALL
DESCRIPTION:The Burton Football Team is scheduled to play the Somerville Yeguas in a district game on Friday\, October 11\, at 7pm. The game will be played at Brazos Christian High School in Bryan.
URL:https://kwhi.com/event/burton-panther-football-19/
LOCATION:Brazos Christian High School\, 3000 W. Villa Maria Dr\, Bryan\, TX\, 77807\, United States
CATEGORIES:Sports Events
ATTACH;FMTTYPE=image/jpeg:https://kwhi.com/wp-content/uploads/2022/09/Burton-Football-feature-923222.jpg
END:VEVENT
BEGIN:VEVENT
DTSTART;TZID=America/Chicago:20240112T173000
DTEND;TZID=America/Chicago:20240112T193000
DTSTAMP:20260419T231434
CREATED:20240109T144545Z
LAST-MODIFIED:20240109T144545Z
UID:312532-1705080600-1705087800@kwhi.com
SUMMARY:(Child) Pizza BINGO
DESCRIPTION:
URL:https://kwhi.com/event/child-pizza-bingo/
LOCATION:Blue Bell Aquatic Center\, 1800 East Tom Green\, Brenham\, TX\, 77833\, United States
CATEGORIES:Bulletin Board
ATTACH;FMTTYPE=image/jpeg:https://kwhi.com/wp-content/uploads/2024/01/pizza-bingo.jpg
END:VEVENT
BEGIN:VEVENT
DTSTART;TZID=America/Chicago:20241011T160000
DTEND;TZID=America/Chicago:20241011T173000
DTSTAMP:20260419T231434
CREATED:20241007T145521Z
LAST-MODIFIED:20241007T145521Z
UID:333509-1728662400-1728667800@kwhi.com
SUMMARY:BURTON LADY PANTHER VOLLEYBALL
DESCRIPTION:The Burton Lady Panther Volleyball Team travels to Snook for district match on Friday\, October 11\, at 4pm.
URL:https://kwhi.com/event/burton-lady-panther-volleyball-26/
LOCATION:Snook High School\, 10110 FM 2155\, Snook\, TX\, 77878\, United States
CATEGORIES:Sports Events
ATTACH;FMTTYPE=image/jpeg:https://kwhi.com/wp-content/uploads/2023/10/Burton-Volleyball-feature-1031234.jpg
END:VEVENT
BEGIN:VEVENT
DTSTART;TZID=America/Chicago:20241011T160000
DTEND;TZID=America/Chicago:20241011T173000
DTSTAMP:20260419T231434
CREATED:20241007T144453Z
LAST-MODIFIED:20241007T144453Z
UID:333502-1728662400-1728667800@kwhi.com
SUMMARY:BRENHAM CUBETTE VOLLEYBALL
DESCRIPTION:The Brenham Cubette Volleyball Team will host Iola in a non-district matchup on Friday at 4pm at the Brenham High School Gym.
URL:https://kwhi.com/event/brenham-cubette-volleyball-42/
LOCATION:Brenham High School Gym\, 525 A H Ehrig Drive \, Brenham\, TX\, 77833\, United States
CATEGORIES:Sports Events
ATTACH;FMTTYPE=image/jpeg:https://kwhi.com/wp-content/uploads/2023/10/Cubette-Volleyball-feature-1030238.jpg
END:VEVENT
BEGIN:VEVENT
DTSTART;VALUE=DATE:20241011
DTEND;VALUE=DATE:20241012
DTSTAMP:20260419T231434
CREATED:20241007T185043Z
LAST-MODIFIED:20241007T185043Z
UID:333562-1728604800-1728691199@kwhi.com
SUMMARY:Cub Band Fall Show (Brenham)
DESCRIPTION:Everyone in the community is invited to a performance of the Cub Band's Fall Show
URL:https://kwhi.com/event/cub-band-fall-show-brenham/
LOCATION:Cub Stadium\, 1600 East Tom Green\, Brenham\, TX\, 77833\, United States
CATEGORIES:Bulletin Board
ATTACH;FMTTYPE=image/jpeg:https://kwhi.com/wp-content/uploads/2024/10/promise-of-a-new-day.jpg
END:VEVENT
BEGIN:VEVENT
DTSTART;VALUE=DATE:20241011
DTEND;VALUE=DATE:20241012
DTSTAMP:20260419T231434
CREATED:20241007T150806Z
LAST-MODIFIED:20241007T150806Z
UID:333515-1728604800-1728691199@kwhi.com
SUMMARY:BLINN BUCCANEER MEN'S BASKETBALL
DESCRIPTION:The Blinn Buccaneer Men's Basketball Team will be taking part in scrimmage play at the Fort Worth Blowout on Friday\, October 11. The games are taking place at the Game On Sports Complex in Fort Worth.
URL:https://kwhi.com/event/blinn-buccaneer-mens-basketball-21/
LOCATION:Game On Sports Complex in Fort Worth\, TX
CATEGORIES:Sports Events
ATTACH;FMTTYPE=image/jpeg:https://kwhi.com/wp-content/uploads/2024/02/Blinn-Mens-Basketball-Feature-17-1.jpg
END:VEVENT
BEGIN:VEVENT
DTSTART;VALUE=DATE:20240830
DTEND;VALUE=DATE:20240831
DTSTAMP:20260419T231434
CREATED:20240626T152630Z
LAST-MODIFIED:20240626T152630Z
UID:326784-1724976000-1725062399@kwhi.com
SUMMARY:Navasota Rattler Football Schedule
DESCRIPTION:
URL:https://kwhi.com/event/navasota-rattler-football-schedule/
LOCATION:TX
CATEGORIES:Bulletin Board
ATTACH;FMTTYPE=image/png:https://kwhi.com/wp-content/uploads/2024/06/navasota-football-schedule.png
END:VEVENT
BEGIN:VEVENT
DTSTART;VALUE=DATE:20240830
DTEND;VALUE=DATE:20240831
DTSTAMP:20260419T231434
CREATED:20240625T214805Z
LAST-MODIFIED:20240625T214805Z
UID:326727-1724976000-1725062399@kwhi.com
SUMMARY:Caldwell Hornet Football Schedule
DESCRIPTION:
URL:https://kwhi.com/event/caldwell-hornet-football-schedule-3/
LOCATION:TX
CATEGORIES:Bulletin Board
ATTACH;FMTTYPE=image/png:https://kwhi.com/wp-content/uploads/2024/06/caldwell-hornet-football-schedule.png
END:VEVENT
BEGIN:VEVENT
DTSTART;VALUE=DATE:20241011
DTEND;VALUE=DATE:20241012
DTSTAMP:20260419T231434
CREATED:20240610T201018Z
LAST-MODIFIED:20240610T201018Z
UID:325579-1728604800-1728691199@kwhi.com
SUMMARY:Brenham Cub Football Schedule
DESCRIPTION:
URL:https://kwhi.com/event/brenham-cub-football-schedule-2/
LOCATION:TX
CATEGORIES:Bulletin Board
ATTACH;FMTTYPE=image/jpeg:https://kwhi.com/wp-content/uploads/2024/06/2024-Cub-Football-Schedule.jpg
END:VEVENT
BEGIN:VEVENT
DTSTART;VALUE=DATE:20240112
DTEND;VALUE=DATE:20240113
DTSTAMP:20260419T231434
CREATED:20240108T152102Z
LAST-MODIFIED:20240108T152102Z
UID:312447-1705017600-1705103999@kwhi.com
SUMMARY:Sons of Hermann Lodge 6 Monthly Meetings
DESCRIPTION:MEETING INFORMATION\n2nd Friday\, Monthly\nMeal at 6:30 PM Meeting at 7:15 PM \nHERMANN SONS LIFE HALL \nEFFECTIVE JANUARY 1\, 2024.  REGUALR MEETINGS\, MEAL WILL BE SERVED AT 6:30 AND MEETING WILL START AT 7:15.  PLEASE MAKE NOTE OF TIME CHANGE.  Make an effort to come to all meetings and support your lodge.
URL:https://kwhi.com/event/sons-of-hermann-lodge-6-monthly-meetings/
LOCATION:Hermann Sons Life Hall (Brenham)\, 304 East Germania Street\, Brenham\, TX\, 77833\, United States
CATEGORIES:Bulletin Board
ATTACH;FMTTYPE=image/png:https://kwhi.com/wp-content/uploads/2024/01/hermann-sons-life-logo.png
END:VEVENT
BEGIN:VEVENT
DTSTART;VALUE=DATE:20240112
DTEND;VALUE=DATE:20240113
DTSTAMP:20260419T231434
CREATED:20240105T183022Z
LAST-MODIFIED:20240105T192101Z
UID:312366-1705017600-1705103999@kwhi.com
SUMMARY:Brenham Elks Friday Night Steak Dinner
DESCRIPTION:The weekly Friday night steak dinner begins at 6:30 PM at Brenham Elks Lodge #979\, with all members and guests invited\n- 16 oz Boneless Ribeye with Baked Potato\, Salad\, and Dessert\n- Chef's Choice: Pork & Beef Stew with cornbread\, salad and dessert
URL:https://kwhi.com/event/brenham-elks-friday-night-steak-dinner/
LOCATION:Brenham Elks Lodge 979\, 400 East Germania\, Brenham\, TX\, 77833\, United States
CATEGORIES:Bulletin Board
ATTACH;FMTTYPE=image/jpeg:https://kwhi.com/wp-content/uploads/2024/01/elks-steak-supper-24.jpg
END:VEVENT
BEGIN:VEVENT
DTSTART;TZID=America/Chicago:20240104T183000
DTEND;TZID=America/Chicago:20240104T200000
DTSTAMP:20260419T231434
CREATED:20231220T152834Z
LAST-MODIFIED:20231220T152834Z
UID:311439-1704393000-1704398400@kwhi.com
SUMMARY:NAMI Connection Recovery Support Group Meetings
DESCRIPTION:Weekly meeting on Thursdays\, 6:30 – 8:00 pm CST at St. Peters Episcopal Church in Brenham \nNAMI-Brazos Valley serves a seven-county area (Brazos Valley):  Brazos\, Burleson\, Grimes\, Leon\, Madison\, Roberts\, and Washington Counties\nWebsite:  NamiBV.org\nPhone:  979 774-4713
URL:https://kwhi.com/event/nami-connection-recovery-support-group-meetings/
LOCATION:St. Peter’s Episcopal Church (Brenham)\, 2310 Airline Drive\, Brenham\, TX\, 77883\, United States
CATEGORIES:Bulletin Board
ATTACH;FMTTYPE=image/png:https://kwhi.com/wp-content/uploads/2023/12/nami-connection-recovery-supp-gr.png
END:VEVENT
BEGIN:VEVENT
DTSTART;TZID=America/Chicago:20241010T180000
DTEND;TZID=America/Chicago:20241010T193000
DTSTAMP:20260419T231434
CREATED:20241007T152655Z
LAST-MODIFIED:20241007T152655Z
UID:333538-1728583200-1728588600@kwhi.com
SUMMARY:BLINN BUCCANEER VOLLEYBALL
DESCRIPTION:The Blinn Buccaneer Volleyball Team will travel to Wharton for a conference match on Thursday\, October 10\, at 6pm.
URL:https://kwhi.com/event/blinn-buccaneer-volleyball-33/
LOCATION:Wharton County Junior College\, 911 E Boling Hwy.\, Wharton\, TX\, 77488\, United States
CATEGORIES:Sports Events
ATTACH;FMTTYPE=image/jpeg:https://kwhi.com/wp-content/uploads/2024/10/Blinn-Volleyball-Feature-25.jpg
END:VEVENT
BEGIN:VEVENT
DTSTART;TZID=America/Chicago:20241010T080000
DTEND;TZID=America/Chicago:20241010T170000
DTSTAMP:20260419T231434
CREATED:20241007T135538Z
LAST-MODIFIED:20241007T135538Z
UID:333480-1728547200-1728579600@kwhi.com
SUMMARY:BRENHAM CROSS COUNTRY
DESCRIPTION:The Brenham High School Cross Country Team will be taking part in the District Meet on Thursday\, October 10. The meet is being held at Texas A&M University in College Station.
URL:https://kwhi.com/event/brenham-cross-country-5/
LOCATION:Texas A&M College Station Campus\, College Station\, TX\, 77843\, United States
CATEGORIES:Sports Events
ATTACH;FMTTYPE=image/jpeg:https://kwhi.com/wp-content/uploads/2023/09/Cross-Country-Logo.jpg
END:VEVENT
BEGIN:VEVENT
DTSTART;VALUE=DATE:20241010
DTEND;VALUE=DATE:20241011
DTSTAMP:20260419T231434
CREATED:20241007T144812Z
LAST-MODIFIED:20241007T144812Z
UID:333504-1728518400-1728604799@kwhi.com
SUMMARY:BURTON CROSS COUNTRY
DESCRIPTION:The Burton Panther and Lady Panther Cross Country Teams are taking part in the District Meet on Thursday\, October 10. The meet is being held at Davidson Creek Park in Caldwell beginning at 8:30am.
URL:https://kwhi.com/event/burton-cross-country-9/
LOCATION:Davidson Creek Park\, S Wright Street\, Caldwell\, TX\, 77836\, United States
CATEGORIES:Sports Events
ATTACH;FMTTYPE=image/jpeg:https://kwhi.com/wp-content/uploads/2024/09/Burton-Cross-Country-2-Feature.jpg
END:VEVENT
BEGIN:VEVENT
DTSTART;VALUE=DATE:20241010
DTEND;VALUE=DATE:20241011
DTSTAMP:20260419T231434
CREATED:20241004T193046Z
LAST-MODIFIED:20241004T193046Z
UID:333381-1728518400-1728604799@kwhi.com
SUMMARY:Jury Trial CANCELLED (Washington County)
DESCRIPTION:The Jury Trial scheduled for October 10\, 2024\, for Washington Co. JP3 Court\, Hon. Judge Duane Houston has been cancelled. Jurors do not need to appear.
URL:https://kwhi.com/event/jury-trial-cancelled-washington-county/
LOCATION:TX
CATEGORIES:Bulletin Board
ATTACH;FMTTYPE=image/jpeg:https://kwhi.com/wp-content/uploads/2024/08/jurytrialcanceledFEATURE.jpg
END:VEVENT
BEGIN:VEVENT
DTSTART;VALUE=DATE:20241010
DTEND;VALUE=DATE:20241011
DTSTAMP:20260419T231434
CREATED:20241001T202033Z
LAST-MODIFIED:20241001T202033Z
UID:333137-1728518400-1728604799@kwhi.com
SUMMARY:Fortnightly Club of Brenham General Meeting
DESCRIPTION:The Fortnightly Club of Brenham will hold a general meeting on October 10\, at noon at the Nancy Carol Roberts Memorial Library. The program\, "What's Happening in the City?" will be presented by Jennifer Eckermann\, City of Brenham Tourism and Marketing Director. Hostesses are the members of the Public Affairs Department
URL:https://kwhi.com/event/fortnightly-club-of-brenham-general-meeting/
LOCATION:Nancy Carol Roberts Memorial Library\, 100 W. Martin Luther King Jr. Pky\, Brenham\, TX\, 77833\, United States
CATEGORIES:Bulletin Board
ATTACH;FMTTYPE=image/jpeg:https://kwhi.com/wp-content/uploads/2024/10/fortnightly-club-of-brenham-Picture1.jpg
END:VEVENT
BEGIN:VEVENT
DTSTART;VALUE=DATE:20241010
DTEND;VALUE=DATE:20241011
DTSTAMP:20260419T231434
CREATED:20240926T143206Z
LAST-MODIFIED:20240926T143206Z
UID:332785-1728518400-1728604799@kwhi.com
SUMMARY:Fall Prevention Series at Senior Activity Center (Brenham)
DESCRIPTION:
URL:https://kwhi.com/event/fall-prevention-series-at-senior-activity-center-brenham/
LOCATION:Margaret E. Blizzard Senior Activity Center\, 1301 East Tom Green\, Brenham\, TX\, 77833\, United States
CATEGORIES:Bulletin Board
ATTACH;FMTTYPE=image/png:https://kwhi.com/wp-content/uploads/2024/09/fall-prevention-oct.png
END:VEVENT
END:VCALENDAR