BEGIN:VCALENDAR
VERSION:2.0
PRODID:-//KWHI.com - ECPv6.15.17.1//NONSGML v1.0//EN
CALSCALE:GREGORIAN
METHOD:PUBLISH
X-WR-CALNAME:KWHI.com
X-ORIGINAL-URL:https://kwhi.com
X-WR-CALDESC:Events for KWHI.com
REFRESH-INTERVAL;VALUE=DURATION:PT1H
X-Robots-Tag:noindex
X-PUBLISHED-TTL:PT1H
BEGIN:VTIMEZONE
TZID:America/Chicago
BEGIN:DAYLIGHT
TZOFFSETFROM:-0600
TZOFFSETTO:-0500
TZNAME:CDT
DTSTART:20240310T080000
END:DAYLIGHT
BEGIN:STANDARD
TZOFFSETFROM:-0500
TZOFFSETTO:-0600
TZNAME:CST
DTSTART:20241103T070000
END:STANDARD
BEGIN:DAYLIGHT
TZOFFSETFROM:-0600
TZOFFSETTO:-0500
TZNAME:CDT
DTSTART:20250309T080000
END:DAYLIGHT
BEGIN:STANDARD
TZOFFSETFROM:-0500
TZOFFSETTO:-0600
TZNAME:CST
DTSTART:20251102T070000
END:STANDARD
BEGIN:DAYLIGHT
TZOFFSETFROM:-0600
TZOFFSETTO:-0500
TZNAME:CDT
DTSTART:20260308T080000
END:DAYLIGHT
BEGIN:STANDARD
TZOFFSETFROM:-0500
TZOFFSETTO:-0600
TZNAME:CST
DTSTART:20261101T070000
END:STANDARD
END:VTIMEZONE
BEGIN:VEVENT
DTSTART;TZID=America/Chicago:20251219T190000
DTEND;TZID=America/Chicago:20251219T203000
DTSTAMP:20260421T083344
CREATED:20251211T153908Z
LAST-MODIFIED:20251211T153908Z
UID:364702-1766170800-1766176200@kwhi.com
SUMMARY:BRENHAM CUB BASKETBALL
DESCRIPTION:The Brenham Cub Basketball Team is traveling to Houston for a non-district game against Memorial High School on Friday\, December 19\, at 7pm.
URL:https://kwhi.com/event/brenham-cub-basketball-44/
LOCATION:Memorial High School\, Spring
CATEGORIES:Sports Events
END:VEVENT
BEGIN:VEVENT
DTSTART;TZID=America/Chicago:20251219T180000
DTEND;TZID=America/Chicago:20251219T193000
DTSTAMP:20260421T083344
CREATED:20251211T165336Z
LAST-MODIFIED:20251211T165336Z
UID:364746-1766167200-1766172600@kwhi.com
SUMMARY:BURTON LADY PANTHER BASKETBALL
DESCRIPTION:The Burton Lady Panther Basketball Team opens district play with a road game at the Snook Lady Blue Jays on Friday\, December 19\, at 6:15pm.
URL:https://kwhi.com/event/burton-lady-panther-basketball-28/
LOCATION:Snook High School\, 10110 FM 2155\, Snook\, TX\, 77878\, United States
CATEGORIES:Sports Events
END:VEVENT
BEGIN:VEVENT
DTSTART;VALUE=DATE:20251219
DTEND;VALUE=DATE:20251220
DTSTAMP:20260421T083344
CREATED:20251211T165024Z
LAST-MODIFIED:20251211T165024Z
UID:364740-1766102400-1766188799@kwhi.com
SUMMARY:Caldwell December Event Schedule
DESCRIPTION:
URL:https://kwhi.com/event/caldwell-december-event-schedule-2/
LOCATION:TX
CATEGORIES:Bulletin Board
ATTACH;FMTTYPE=image/jpeg:https://kwhi.com/wp-content/uploads/2025/12/christmas-on-square-caldwell-end-dec-21.jpg
END:VEVENT
BEGIN:VEVENT
DTSTART;VALUE=DATE:20251219
DTEND;VALUE=DATE:20251220
DTSTAMP:20260421T083344
CREATED:20251121T154509Z
LAST-MODIFIED:20251121T154509Z
UID:363450-1766102400-1766188799@kwhi.com
SUMMARY:The Polar Express at The Barnhill Center (Brenham)
DESCRIPTION:
URL:https://kwhi.com/event/the-polar-express-at-the-barnhill-center-brenham/
LOCATION:The Barnhill Center at Historic Simon Theatre\, 111 W. Main\, Brenham\, TX\, 77833\, United States
CATEGORIES:Bulletin Board
ATTACH;FMTTYPE=image/jpeg:https://kwhi.com/wp-content/uploads/2025/11/polar-express-dec-19.jpg
END:VEVENT
BEGIN:VEVENT
DTSTART;TZID=America/Chicago:20251218T170000
DTEND;TZID=America/Chicago:20251218T190000
DTSTAMP:20260421T083344
CREATED:20251211T170314Z
LAST-MODIFIED:20251211T170426Z
UID:364760-1766077200-1766084400@kwhi.com
SUMMARY:BRENHAM CUB AND CUBETTE SOCCER
DESCRIPTION:The Brenham Cub and Cubette Soccer Teams will be hosting a Co-Ed Varsity Match on Thursday\, December 18\, at 5pm at Cub Stadium.
URL:https://kwhi.com/event/brenham-cub-and-cubette-soccer/
LOCATION:Cub Stadium\, 1600 East Tom Green\, Brenham\, TX\, 77833\, United States
CATEGORIES:Sports Events
END:VEVENT
BEGIN:VEVENT
DTSTART;TZID=America/Chicago:20251218T130000
DTEND;TZID=America/Chicago:20251218T190000
DTSTAMP:20260421T083344
CREATED:20251204T213130Z
LAST-MODIFIED:20251204T213130Z
UID:364265-1766062800-1766084400@kwhi.com
SUMMARY:Blood Drive (Sealy)
DESCRIPTION:
URL:https://kwhi.com/event/blood-drive-sealy-3/
LOCATION:Wal-mart Supercenter (Sealy)\, 310 Overcreek Way\, Sealy\, TX\, 77474\, United States
CATEGORIES:Bulletin Board
ATTACH;FMTTYPE=image/jpeg:https://kwhi.com/wp-content/uploads/2025/12/blood-drive-dec-18.jpg
END:VEVENT
BEGIN:VEVENT
DTSTART;VALUE=DATE:20251218
DTEND;VALUE=DATE:20251219
DTSTAMP:20260421T083344
CREATED:20251205T205330Z
LAST-MODIFIED:20251205T205330Z
UID:364351-1766016000-1766102399@kwhi.com
SUMMARY:Friends of Bluebonnet Opry (Brenham)
DESCRIPTION:PLEASE NOTE CHANGE TO THIS MONTHS FEATURED ENTERTAINMENT! \nTerry Lyne Moore has cancelled...taking her place will be Debbie Davis.
URL:https://kwhi.com/event/friends-of-bluebonnet-opry-brenham-15/
LOCATION:Silver Wings Ballroom\, 4100 Highway 105 \, Brenham\, TX\, 77833\, United States
CATEGORIES:Bulletin Board
ATTACH;FMTTYPE=image/jpeg:https://kwhi.com/wp-content/uploads/2025/12/bluebonnet-opry-dec-18.jpg
END:VEVENT
BEGIN:VEVENT
DTSTART;VALUE=DATE:20251218
DTEND;VALUE=DATE:20251219
DTSTAMP:20260421T083344
CREATED:20241230T204510Z
LAST-MODIFIED:20241230T204510Z
UID:339415-1766016000-1766102399@kwhi.com
SUMMARY:Compassion Care Grief Support Groups (Brenham)
DESCRIPTION:
URL:https://kwhi.com/event/compassion-care-grief-support-groups-brenham-7/
LOCATION:Hospice Brazos Valley (Brenham)\, 302 E. Blue Bell Road\, Brenham\, TX\, 77833\, United States
CATEGORIES:Bulletin Board
ATTACH;FMTTYPE=image/jpeg:https://kwhi.com/wp-content/uploads/2024/12/compassion-and-grief-brenham.jpg
END:VEVENT
BEGIN:VEVENT
DTSTART;VALUE=DATE:20251217
DTEND;VALUE=DATE:20251218
DTSTAMP:20260421T083344
CREATED:20251215T213349Z
LAST-MODIFIED:20251215T213349Z
UID:364979-1765929600-1766015999@kwhi.com
SUMMARY:Washington County A&M Club Christmas Party (Brenham)
DESCRIPTION:
URL:https://kwhi.com/event/washington-county-am-club-christmas-party-brenham/
LOCATION:BT Longhorn Steak & Seafood House\, 205 S. Baylor St.\, Brenham\, TX\, 77833\, United States
CATEGORIES:Bulletin Board
ATTACH;FMTTYPE=image/png:https://kwhi.com/wp-content/uploads/2025/12/wc-am-club-christmas-dec-17.png
END:VEVENT
BEGIN:VEVENT
DTSTART;VALUE=DATE:20251217
DTEND;VALUE=DATE:20251218
DTSTAMP:20260421T083344
CREATED:20251209T162320Z
LAST-MODIFIED:20251209T162320Z
UID:364519-1765929600-1766015999@kwhi.com
SUMMARY:Rattler Powderpuff Game (Navasota)
DESCRIPTION:JUNIORS vs SENIORS
URL:https://kwhi.com/event/rattler-powderpuff-game-navasota/
LOCATION:Navasota Rattler Stadium\, 9238 State Hwy. 90 S\, Navasota\, TX\, 77868\, United States
CATEGORIES:Bulletin Board
ATTACH;FMTTYPE=image/jpeg:https://kwhi.com/wp-content/uploads/2025/12/powderpuff-dec-17.jpg
END:VEVENT
BEGIN:VEVENT
DTSTART;VALUE=DATE:20251217
DTEND;VALUE=DATE:20251218
DTSTAMP:20260421T083344
CREATED:20251117T195616Z
LAST-MODIFIED:20251117T195616Z
UID:363080-1765929600-1766015999@kwhi.com
SUMMARY:German Advent Service (Bellville)
DESCRIPTION:
URL:https://kwhi.com/event/german-advent-service-bellville/
LOCATION:St. John Lutheran Church (Bellville)\, 520 North Holland Street\, Bellville\, TX\, 77418\, United States
CATEGORIES:Bulletin Board
ATTACH;FMTTYPE=image/jpeg:https://kwhi.com/wp-content/uploads/2025/11/german-advent-dec-17.jpg
END:VEVENT
BEGIN:VEVENT
DTSTART;TZID=America/Chicago:20251216T183000
DTEND;TZID=America/Chicago:20251216T200000
DTSTAMP:20260421T083344
CREATED:20251211T153537Z
LAST-MODIFIED:20251211T153537Z
UID:364700-1765909800-1765915200@kwhi.com
SUMMARY:BRENHAM CUB BASKETBALL
DESCRIPTION:The Brenham Cub Basketball Team takes on the Bryan Vikings in a non-district game on Tuesday\, December 16. The opening tip-off is scheduled for 6:30pm at the Brenham High School Gym.
URL:https://kwhi.com/event/brenham-cub-basketball-43/
LOCATION:Brenham High School Gym\, 525 A H Ehrig Drive \, Brenham\, TX\, 77833\, United States
CATEGORIES:Sports Events
END:VEVENT
BEGIN:VEVENT
DTSTART;TZID=America/Chicago:20251216T180000
DTEND;TZID=America/Chicago:20251216T193000
DTSTAMP:20260421T083344
CREATED:20251211T164548Z
LAST-MODIFIED:20251211T164548Z
UID:364728-1765908000-1765913400@kwhi.com
SUMMARY:BURTON PANTHER BASKETBALL
DESCRIPTION:The Burton Panther Basketball Team will host Giddings Lonestar on Tuesday\, December 16\, in a non-district game. The opening tip-off is scheduled for 6pm at the Burton High School Gym.
URL:https://kwhi.com/event/burton-panther-basketball-29/
LOCATION:Burton High School Gym\, 917 N. Main Street\, Burton\, TX\, 77835\, United States
CATEGORIES:Sports Events
END:VEVENT
BEGIN:VEVENT
DTSTART;TZID=America/Chicago:20251216T173000
DTEND;TZID=America/Chicago:20251216T200000
DTSTAMP:20260421T083344
CREATED:20251107T150745Z
LAST-MODIFIED:20251107T150745Z
UID:362089-1765906200-1765915200@kwhi.com
SUMMARY:Homemade for the Holidays Workshop (Brenham)
DESCRIPTION:
URL:https://kwhi.com/event/homemade-for-the-holidays-workshop-brenham-2/
LOCATION:Washington County Expo Event Center\, 1305 E. Blue Bell Rd.\, Brenham\, TX\, 77833\, United States
CATEGORIES:Bulletin Board
ATTACH;FMTTYPE=image/png:https://kwhi.com/wp-content/uploads/2025/11/homemade-for-the-holidays-dec-16.png
END:VEVENT
BEGIN:VEVENT
DTSTART;TZID=America/Chicago:20251216T173000
DTEND;TZID=America/Chicago:20251216T190000
DTSTAMP:20260421T083344
CREATED:20251215T214236Z
LAST-MODIFIED:20251215T214236Z
UID:364982-1765906200-1765911600@kwhi.com
SUMMARY:Tuesday Night Dinner (Bellville)
DESCRIPTION:
URL:https://kwhi.com/event/tuesday-night-dinner-bellville/
LOCATION:Margaret Chesley Memorial Park\, 417 N. Bell Street\, Bellville\, TX\, 77418\, United States
CATEGORIES:Bulletin Board
ATTACH;FMTTYPE=image/jpeg:https://kwhi.com/wp-content/uploads/2025/12/tues-night-dinner-dec-16.jpg
END:VEVENT
BEGIN:VEVENT
DTSTART;TZID=America/Chicago:20251216T170000
DTEND;TZID=America/Chicago:20251216T210000
DTSTAMP:20260421T083344
CREATED:20251211T170122Z
LAST-MODIFIED:20251211T170122Z
UID:364758-1765904400-1765918800@kwhi.com
SUMMARY:BRENHAM CUBETTE SOCCER
DESCRIPTION:The Brenham Cubette Soccer Team will be traveling to Sealy for a scrimmage against the Lady Tigers on Tuesday\, December 16. The JV will play at 5pm\, followed by the Varsity at 7pm.
URL:https://kwhi.com/event/brenham-cubette-soccer-37/
LOCATION:Sealy High School\, 2372 Championship Drive\, Sealy\, TX\, 77474\, United States
CATEGORIES:Sports Events
END:VEVENT
BEGIN:VEVENT
DTSTART;TZID=America/Chicago:20251216T170000
DTEND;TZID=America/Chicago:20251216T200000
DTSTAMP:20260421T083344
CREATED:20251211T220631Z
LAST-MODIFIED:20251211T220631Z
UID:364789-1765904400-1765915200@kwhi.com
SUMMARY:BRENHAM CUB SOCCER
DESCRIPTION:The Brenham Cub Soccer Team will host New Caney West Fork High School in a scrimmage on Tuesday\, December 16\, at Cub Stadium. The JV begins at 5pm\, followed by the Varsity at 6:30pm.
URL:https://kwhi.com/event/brenham-cub-soccer-37/
LOCATION:Cub Stadium\, 1600 E Tom Green\, Brenham\, TX\, 77833\, United States
CATEGORIES:Sports Events
END:VEVENT
BEGIN:VEVENT
DTSTART;VALUE=DATE:20251216
DTEND;VALUE=DATE:20251217
DTSTAMP:20260421T083344
CREATED:20251216T144408Z
LAST-MODIFIED:20251216T144408Z
UID:365011-1765843200-1765929599@kwhi.com
SUMMARY:JH Night (Brenham)
DESCRIPTION:
URL:https://kwhi.com/event/jh-night-brenham/
LOCATION:Brenham High School\, 525 A.H. Ehrig\, Brenham\, TX\, 77835\, United States
CATEGORIES:Bulletin Board
ATTACH;FMTTYPE=image/jpeg:https://kwhi.com/wp-content/uploads/2025/12/Brenham-vs.-Bryan-Graphic.jpg
END:VEVENT
BEGIN:VEVENT
DTSTART;VALUE=DATE:20251216
DTEND;VALUE=DATE:20251217
DTSTAMP:20260421T083344
CREATED:20251212T222757Z
LAST-MODIFIED:20251212T222757Z
UID:364851-1765843200-1765929599@kwhi.com
SUMMARY:Navasota JH 6th Grade Beginner Band Christmas Concert
DESCRIPTION:
URL:https://kwhi.com/event/navasota-jh-6th-grade-beginner-band-christmas-concert/
LOCATION:Brosig Performing Arts Center\, 105 Brosig Ave.\, Navasota\, TX\, 77868\, United States
CATEGORIES:Bulletin Board
ATTACH;FMTTYPE=image/jpeg:https://kwhi.com/wp-content/uploads/2025/12/navasota-christmas-concert-dec-16.jpg
END:VEVENT
BEGIN:VEVENT
DTSTART;VALUE=DATE:20251216
DTEND;VALUE=DATE:20251217
DTSTAMP:20260421T083344
CREATED:20251205T225025Z
LAST-MODIFIED:20251205T225025Z
UID:364377-1765843200-1765929599@kwhi.com
SUMMARY:Ribbon Cutting-Jackson Street Park (Brenham)
DESCRIPTION:
URL:https://kwhi.com/event/ribbon-cutting-jackson-street-park-brenham/
LOCATION:Jackson Street Park\, 1300 South Jackson\, Brenham\, TX\, 77833\, United States
CATEGORIES:Bulletin Board
ATTACH;FMTTYPE=image/jpeg:https://kwhi.com/wp-content/uploads/2025/12/ribbon-cut-dec-16.jpg
END:VEVENT
BEGIN:VEVENT
DTSTART;VALUE=DATE:20251216
DTEND;VALUE=DATE:20251217
DTSTAMP:20260421T083344
CREATED:20251205T220551Z
LAST-MODIFIED:20251205T220551Z
UID:364369-1765843200-1765929599@kwhi.com
SUMMARY:Navasota ISD Bands Christmas Concerts
DESCRIPTION:
URL:https://kwhi.com/event/navasota-isd-bands-christmas-concerts-3/
LOCATION:Brosig Performing Arts Center\, 105 Brosig Ave.\, Navasota\, TX\, 77868\, United States
CATEGORIES:Bulletin Board
ATTACH;FMTTYPE=image/jpeg:https://kwhi.com/wp-content/uploads/2025/12/nisd-bands-concerts-end-dec-16.jpg
END:VEVENT
BEGIN:VEVENT
DTSTART;VALUE=DATE:20251216
DTEND;VALUE=DATE:20251217
DTSTAMP:20260421T083344
CREATED:20251202T155110Z
LAST-MODIFIED:20251202T155110Z
UID:364055-1765843200-1765929599@kwhi.com
SUMMARY:VFW Post 7104 Christmas Party (Brenham)
DESCRIPTION:VFW Post 7104 Christmas party is Tuesday\, December 16\, doors open at 6 PM\, please call the post for reservations\, 979 830-8776
URL:https://kwhi.com/event/vfw-post-7104-christmas-party-brenham/
LOCATION:James F. Dillion VFW Post 7104\, 1200 East Tom Green\, Brenham\, TX\, 77833\, United States
CATEGORIES:Bulletin Board
ATTACH;FMTTYPE=image/jpeg:https://kwhi.com/wp-content/uploads/2025/12/vfw.jpg
END:VEVENT
BEGIN:VEVENT
DTSTART;VALUE=DATE:20251215
DTEND;VALUE=DATE:20251216
DTSTAMP:20260421T083344
CREATED:20251104T162016Z
LAST-MODIFIED:20251104T162016Z
UID:361656-1765756800-1765843199@kwhi.com
SUMMARY:Bryan High School Choirs presents "Feast of Carols"
DESCRIPTION:
URL:https://kwhi.com/event/bryan-high-school-choirs-presents-feast-of-carols/
LOCATION:Bryan High School\, 3450 Campus Drive\, Bryan\, TX\, 77802\, United States
CATEGORIES:Bulletin Board
ATTACH;FMTTYPE=image/jpeg:https://kwhi.com/wp-content/uploads/2025/11/feast-of-carols-end-dec-15.jpg
END:VEVENT
BEGIN:VEVENT
DTSTART;TZID=America/Chicago:20251214T140000
DTEND;TZID=America/Chicago:20251214T170000
DTSTAMP:20260421T083344
CREATED:20251204T154136Z
LAST-MODIFIED:20251204T154136Z
UID:364220-1765720800-1765731600@kwhi.com
SUMMARY:Brenham Elks Children's Christmas Party
DESCRIPTION:PLEASE LET THE ELKS KNOW BY DECEMBER 7th IF YOU ARE ATTENDING\, CONTACT LILA\, 979 421-0008 OR BRENDA\, 979 203-4548
URL:https://kwhi.com/event/brenham-elks-childrens-christmas-party/
LOCATION:Brenham Elks Lodge\, 400 E. Germania\, Brenham\, TX\, 77833\, United States
CATEGORIES:Bulletin Board
ATTACH;FMTTYPE=image/jpeg:https://kwhi.com/wp-content/uploads/2025/12/elks-children-dec-14.jpg
END:VEVENT
BEGIN:VEVENT
DTSTART;TZID=America/Chicago:20251214T110000
DTEND;TZID=America/Chicago:20251214T130000
DTSTAMP:20260421T083344
CREATED:20251114T205246Z
LAST-MODIFIED:20251114T205246Z
UID:362887-1765710000-1765717200@kwhi.com
SUMMARY:West End Historical Society Dine-In Beef Stew\, Turkey Stew\, Chili & Desserts
DESCRIPTION:
URL:https://kwhi.com/event/west-end-historical-society-dine-in-beef-stew-turkey-stew-chili-desserts/
LOCATION:West End Historical Society Building\, 9021 FM 109\, Industry\, TX\, 78944\, United States
ATTACH;FMTTYPE=image/png:https://kwhi.com/wp-content/uploads/2025/11/west-end-hist-soc-dec-14.png
END:VEVENT
BEGIN:VEVENT
DTSTART;VALUE=DATE:20251214
DTEND;VALUE=DATE:20251219
DTSTAMP:20260421T083344
CREATED:20251106T214350Z
LAST-MODIFIED:20251106T214350Z
UID:362021-1765670400-1766102399@kwhi.com
SUMMARY:Brenham HS Theatre presents A Christmas Carol
DESCRIPTION:
URL:https://kwhi.com/event/brenham-hs-theatre-presents-a-christmas-carol/
LOCATION:Brenham High School Auditorium\, 525 A H Ehrig Drive \, Brenham\, TX\, 77833\, United States
CATEGORIES:Bulletin Board
ATTACH;FMTTYPE=image/jpeg:https://kwhi.com/wp-content/uploads/2025/11/a-christmas-carol-end-dec-18.jpg
END:VEVENT
BEGIN:VEVENT
DTSTART;VALUE=DATE:20251214
DTEND;VALUE=DATE:20251215
DTSTAMP:20260421T083344
CREATED:20251201T211921Z
LAST-MODIFIED:20251201T211921Z
UID:364009-1765670400-1765756799@kwhi.com
SUMMARY:Centered Christmas Shop (Brenham)
DESCRIPTION:PLANNING TO SHOP\, PLEASE PRE-REGISTER
URL:https://kwhi.com/event/centered-christmas-shop-brenham/
LOCATION:Center Church (Gym)\, 304 N Market St.\, Brenham\, TX\, 77833\, United States
CATEGORIES:Bulletin Board
ATTACH;FMTTYPE=image/png:https://kwhi.com/wp-content/uploads/2025/12/centered-christmas-shop-dec-14.png
END:VEVENT
BEGIN:VEVENT
DTSTART;VALUE=DATE:20251214
DTEND;VALUE=DATE:20251215
DTSTAMP:20260421T083344
CREATED:20251117T210101Z
LAST-MODIFIED:20251117T210101Z
UID:363107-1765670400-1765756799@kwhi.com
SUMMARY:PFLAG Brenham Meeting
DESCRIPTION:PFLAG Brenham meets on the second Sunday of each month at 5:30 pm.  We are a support group for families\, friends and allies of the LGBTQ+ community.  Let us walk with you on your journey.  For more information\, visit www.facebook.com/BrenhamPFLAG or send an email to pflagbrenham@gmail.com
URL:https://kwhi.com/event/pflag-brenham-meeting-3/
LOCATION:TX
CATEGORIES:Bulletin Board
ATTACH;FMTTYPE=image/jpeg:https://kwhi.com/wp-content/uploads/2025/11/PFLAG-Logo-brenham-2000x1500-002.jpg
END:VEVENT
BEGIN:VEVENT
DTSTART;TZID=America/Chicago:20251213T180000
DTEND;TZID=America/Chicago:20251213T200000
DTSTAMP:20260421T083344
CREATED:20251120T211605Z
LAST-MODIFIED:20251120T211605Z
UID:363404-1765648800-1765656000@kwhi.com
SUMMARY:Christmas on 29th Street (Bryan)
DESCRIPTION:
URL:https://kwhi.com/event/christmas-on-29th-street-bryan/
LOCATION:Spirit of Faith Church\, 900 E 29th St.\, Bryan\, TX\, 77803\, United States
CATEGORIES:Bulletin Board
ATTACH;FMTTYPE=image/jpeg:https://kwhi.com/wp-content/uploads/2025/11/christmas-on-29-street-dec.-13.jpg
END:VEVENT
BEGIN:VEVENT
DTSTART;TZID=America/Chicago:20251213T160000
DTEND;TZID=America/Chicago:20251213T173000
DTSTAMP:20260421T083344
CREATED:20251211T163039Z
LAST-MODIFIED:20251211T163039Z
UID:364722-1765641600-1765647000@kwhi.com
SUMMARY:BLINN MEN'S BASKETBALL
DESCRIPTION:The Blinn Buccaneer Men's Basketball Team will host Kilgore in a Region XIV Conference game on Saturday\, December 13\, at 4pm at the Kruse Center in Brenham.
URL:https://kwhi.com/event/blinn-mens-basketball-2/
LOCATION:Kruse Center at Blinn College\, 208 Blinn Blvd.\, Brenham\, TX\, 77833\, United States
CATEGORIES:Sports Events
END:VEVENT
END:VCALENDAR