BEGIN:VCALENDAR
VERSION:2.0
PRODID:-//KWHI.com - ECPv6.15.17.1//NONSGML v1.0//EN
CALSCALE:GREGORIAN
METHOD:PUBLISH
X-WR-CALNAME:KWHI.com
X-ORIGINAL-URL:https://kwhi.com
X-WR-CALDESC:Events for KWHI.com
REFRESH-INTERVAL;VALUE=DURATION:PT1H
X-Robots-Tag:noindex
X-PUBLISHED-TTL:PT1H
BEGIN:VTIMEZONE
TZID:America/Chicago
BEGIN:DAYLIGHT
TZOFFSETFROM:-0600
TZOFFSETTO:-0500
TZNAME:CDT
DTSTART:20230312T080000
END:DAYLIGHT
BEGIN:STANDARD
TZOFFSETFROM:-0500
TZOFFSETTO:-0600
TZNAME:CST
DTSTART:20231105T070000
END:STANDARD
BEGIN:DAYLIGHT
TZOFFSETFROM:-0600
TZOFFSETTO:-0500
TZNAME:CDT
DTSTART:20240310T080000
END:DAYLIGHT
BEGIN:STANDARD
TZOFFSETFROM:-0500
TZOFFSETTO:-0600
TZNAME:CST
DTSTART:20241103T070000
END:STANDARD
BEGIN:DAYLIGHT
TZOFFSETFROM:-0600
TZOFFSETTO:-0500
TZNAME:CDT
DTSTART:20250309T080000
END:DAYLIGHT
BEGIN:STANDARD
TZOFFSETFROM:-0500
TZOFFSETTO:-0600
TZNAME:CST
DTSTART:20251102T070000
END:STANDARD
END:VTIMEZONE
BEGIN:VEVENT
DTSTART;VALUE=DATE:20240722
DTEND;VALUE=DATE:20240815
DTSTAMP:20260423T024842
CREATED:20240722T145926Z
LAST-MODIFIED:20240722T145926Z
UID:328317-1721606400-1723679999@kwhi.com
SUMMARY:Prayers Over Burton I.S.D.
DESCRIPTION:
URL:https://kwhi.com/event/prayers-over-burton-i-s-d/
LOCATION:TX
CATEGORIES:Bulletin Board
ATTACH;FMTTYPE=image/jpeg:https://kwhi.com/wp-content/uploads/2024/07/prayers-over-burton-isd.jpg
END:VEVENT
BEGIN:VEVENT
DTSTART;VALUE=DATE:20240722
DTEND;VALUE=DATE:20240823
DTSTAMP:20260423T024842
CREATED:20240722T145532Z
LAST-MODIFIED:20240722T145532Z
UID:328312-1721606400-1724371199@kwhi.com
SUMMARY:Accepting Applications for the Washington Co. Fair Parade
DESCRIPTION:The 2024 Washington County Fair Parade in Brenham\, will take place on Saturday\, September 14 at 10:30 AM. The parade will begin at the intersection of Main Street and South Market Street and will feature floats\, bands\, and fire trucks. The theme for this year’s parade is “Celebrating Our Rising Stars” and decorations are encouraged but not required. Applications for the parade are available on the Washington County Fair website https://www.washingtoncofair.com/p/thefair/parade
URL:https://kwhi.com/event/accepting-applications-for-the-washington-co-fair-parade/
LOCATION:TX
CATEGORIES:Bulletin Board
ATTACH;FMTTYPE=image/jpeg:https://kwhi.com/wp-content/uploads/2024/07/parade-wcf.jpg
END:VEVENT
BEGIN:VEVENT
DTSTART;VALUE=DATE:20240731
DTEND;VALUE=DATE:20240815
DTSTAMP:20260423T024842
CREATED:20240723T144528Z
LAST-MODIFIED:20240723T144528Z
UID:328384-1722384000-1723679999@kwhi.com
SUMMARY:Bryan ISD Football Season Ticket Sales
DESCRIPTION:
URL:https://kwhi.com/event/bryan-isd-football-season-ticket-sales/
LOCATION:TX
CATEGORIES:Bulletin Board
ATTACH;FMTTYPE=image/jpeg:https://kwhi.com/wp-content/uploads/2024/07/bryan-isd-athletics.jpg
END:VEVENT
BEGIN:VEVENT
DTSTART;VALUE=DATE:20240731
DTEND;VALUE=DATE:20240821
DTSTAMP:20260423T024842
CREATED:20240731T145409Z
LAST-MODIFIED:20240731T145409Z
UID:328777-1722384000-1724198399@kwhi.com
SUMMARY:Brenham Flag Football League-Registration is Now Open
DESCRIPTION:
URL:https://kwhi.com/event/brenham-flag-football-league-registration-is-now-open/
LOCATION:TX
CATEGORIES:Bulletin Board
ATTACH;FMTTYPE=image/jpeg:https://kwhi.com/wp-content/uploads/2024/07/br-flag-football-league.jpg
END:VEVENT
BEGIN:VEVENT
DTSTART;VALUE=DATE:20240801
DTEND;VALUE=DATE:20240816
DTSTAMP:20260423T024842
CREATED:20240711T140207Z
LAST-MODIFIED:20240711T140207Z
UID:327731-1722470400-1723766399@kwhi.com
SUMMARY:FREE Breakfast & Lunch for All Bryan ISD Students
DESCRIPTION:
URL:https://kwhi.com/event/free-breakfast-lunch-for-all-bryan-isd-students/
LOCATION:TX
CATEGORIES:Bulletin Board
ATTACH;FMTTYPE=image/jpeg:https://kwhi.com/wp-content/uploads/2024/07/bryan-isd-free-lunches.jpg
END:VEVENT
BEGIN:VEVENT
DTSTART;VALUE=DATE:20240809
DTEND;VALUE=DATE:20240812
DTSTAMP:20260423T024842
CREATED:20240725T200926Z
LAST-MODIFIED:20240725T200926Z
UID:328542-1723161600-1723420799@kwhi.com
SUMMARY:Sales Tax Holiday
DESCRIPTION:Sales tax holiday\, runs Friday through Sunday\, August 9-11.  \nThe tax-free weekend exempts tax on qualified items like clothing\, footwear\, school supplies and backpacks that are priced below $100\, providing savings of about $8 on every $100 spent.  During the tax-free weekend\, qualifying items can be purchased tax-free in person or by internet\, phone or mail. \nPurchases are exempt when the item is both delivered to and paid for by the customer during the exemption period.  They are also exempt when the customer orders and pays for the item\, and the seller accepts the order during the exemption period for immediate shipment\, even if delivery is made after the period ends.  A list of eligible items for the tax-free weekend is available at www.texastaxholiday.org.
URL:https://kwhi.com/event/sales-tax-holiday/
LOCATION:TX
CATEGORIES:Bulletin Board
ATTACH;FMTTYPE=image/jpeg:https://kwhi.com/wp-content/uploads/2024/07/tax-free-logo.jpg
END:VEVENT
BEGIN:VEVENT
DTSTART;VALUE=DATE:20240809
DTEND;VALUE=DATE:20240901
DTSTAMP:20260423T024842
CREATED:20240809T202551Z
LAST-MODIFIED:20240809T202551Z
UID:329310-1723161600-1725148799@kwhi.com
SUMMARY:CUBS2READ Brenham ISD Volunteer Tutors Needed
DESCRIPTION:
URL:https://kwhi.com/event/cubs2read-brenham-isd-volunteer-tutors-needed/
LOCATION:TX
CATEGORIES:Bulletin Board
ATTACH;FMTTYPE=image/jpeg:https://kwhi.com/wp-content/uploads/2024/08/cubs2read.jpg
END:VEVENT
BEGIN:VEVENT
DTSTART;VALUE=DATE:20240811
DTEND;VALUE=DATE:20240812
DTSTAMP:20260423T024842
CREATED:20240405T173904Z
LAST-MODIFIED:20240405T173904Z
UID:320688-1723334400-1723420799@kwhi.com
SUMMARY:Sons of Hermann (Shelby) Meeting
DESCRIPTION:MEETING INFORMATION \n2nd Sunday\nJanuary\, April\, August\, December\n5:00 p.m. \nHARMONIE HALL \n509 West FM 389\nFayetteville\, TX 78940
URL:https://kwhi.com/event/sons-of-hermann-shelby-meeting-2/
LOCATION:Harmonie Hall Shelby\, 509 FM 389 West\, Shelby\, TX\, 78940\, United States
CATEGORIES:Bulletin Board
ATTACH;FMTTYPE=image/png:https://kwhi.com/wp-content/uploads/2024/03/hermann-sons-life-logo.png
END:VEVENT
BEGIN:VEVENT
DTSTART;VALUE=DATE:20240811
DTEND;VALUE=DATE:20240812
DTSTAMP:20260423T024842
CREATED:20240718T135858Z
LAST-MODIFIED:20240718T135858Z
UID:328179-1723334400-1723420799@kwhi.com
SUMMARY:Fireman's Fiesta Fundraiser (Brenham)
DESCRIPTION:
URL:https://kwhi.com/event/firemans-fiesta-fundraiser-brenham/
LOCATION:Brenham Fire Department Training Center\, 1101 Hwy 290 West\, Brenham\, TX\, 77833\, United States
CATEGORIES:Bulletin Board
ATTACH;FMTTYPE=image/jpeg:https://kwhi.com/wp-content/uploads/2024/07/fireman-fiesta-aug-11.jpg
END:VEVENT
BEGIN:VEVENT
DTSTART;VALUE=DATE:20240811
DTEND;VALUE=DATE:20240812
DTSTAMP:20260423T024842
CREATED:20240723T143824Z
LAST-MODIFIED:20240723T143824Z
UID:328370-1723334400-1723420799@kwhi.com
SUMMARY:Back to School Prayer Bash (Bryan)
DESCRIPTION:
URL:https://kwhi.com/event/back-to-school-prayer-bash-bryan/
LOCATION:Grace Baptist Church (Bryan)\, 1615 Beck Street\, Bryan\, TX\, 77803\, United States
CATEGORIES:Bulletin Board
ATTACH;FMTTYPE=image/jpeg:https://kwhi.com/wp-content/uploads/2024/07/back-to-sch-prayer-bash.jpg
END:VEVENT
BEGIN:VEVENT
DTSTART;VALUE=DATE:20240811
DTEND;VALUE=DATE:20240812
DTSTAMP:20260423T024842
CREATED:20240725T195044Z
LAST-MODIFIED:20240725T195044Z
UID:328538-1723334400-1723420799@kwhi.com
SUMMARY:West End Historical Society Meeting
DESCRIPTION:The West End Historical Society will have its next meeting on Sunday\, August 11th at 2pm at the West End Historical building (located just 1 mile north of Industry on HWY 159).  Featured speakers are David and Ann Gensine Koether of Fayette County.  The couple will present a program on arrowheads.  Various arrowheads will be on display.  Any interested in arrowheads or the history of this community is invited to attend.
URL:https://kwhi.com/event/west-end-historical-society-meeting-2/
LOCATION:West End Historical Society Building\, 9021 FM 109\, Industry\, TX\, 78944\, United States
CATEGORIES:Bulletin Board
ATTACH;FMTTYPE=image/jpeg:https://kwhi.com/wp-content/uploads/2024/07/west-end-historical-society.jpg
END:VEVENT
BEGIN:VEVENT
DTSTART;VALUE=DATE:20240811
DTEND;VALUE=DATE:20240812
DTSTAMP:20260423T024842
CREATED:20240729T192610Z
LAST-MODIFIED:20240729T192610Z
UID:328680-1723334400-1723420799@kwhi.com
SUMMARY:Back to School Bash hosted by Bellville Methodist Church
DESCRIPTION:
URL:https://kwhi.com/event/back-to-school-bash-hosted-by-bellville-methodist-church/
LOCATION:Bellville Methodist Church\, 234 S. Masonic St.\, Bellville\, TX\, 77418\, United States
CATEGORIES:Bulletin Board
ATTACH;FMTTYPE=image/png:https://kwhi.com/wp-content/uploads/2024/07/back-to-sch-bash-bellville-mc-aug-11.png
END:VEVENT
BEGIN:VEVENT
DTSTART;VALUE=DATE:20240811
DTEND;VALUE=DATE:20240812
DTSTAMP:20260423T024842
CREATED:20240807T141302Z
LAST-MODIFIED:20240807T141302Z
UID:329182-1723334400-1723420799@kwhi.com
SUMMARY:Building Fund Program for Mt. Pleasant MBC (Brenham)
DESCRIPTION:Rebuilding benefit for Mt. Pleasant MBC of Washington.  Historical Church established in 1866.  The church was destroyed by fire on July 15\, 2024.
URL:https://kwhi.com/event/building-fund-program-for-mt-pleasant-mbc-brenham/
LOCATION:We Care For All Child Care Center\, 900 E Blue Bell Rd.\, Brenham\, TX\, 77833\, United States
CATEGORIES:Bulletin Board
ATTACH;FMTTYPE=image/jpeg:https://kwhi.com/wp-content/uploads/2024/08/building-fund-pgm-aug.jpg
END:VEVENT
BEGIN:VEVENT
DTSTART;VALUE=DATE:20240811
DTEND;VALUE=DATE:20240818
DTSTAMP:20260423T024842
CREATED:20240806T194217Z
LAST-MODIFIED:20240806T194217Z
UID:329137-1723334400-1723939199@kwhi.com
SUMMARY:Fall Plant Sale (Washington County)
DESCRIPTION:
URL:https://kwhi.com/event/fall-plant-sale-washington-county/
LOCATION:TX
CATEGORIES:Bulletin Board
ATTACH;FMTTYPE=image/jpeg:https://kwhi.com/wp-content/uploads/2024/08/FallPlantSale2024Flyer.jpg
END:VEVENT
BEGIN:VEVENT
DTSTART;TZID=America/Chicago:20240811T120000
DTEND;TZID=America/Chicago:20240811T170000
DTSTAMP:20260423T024842
CREATED:20240715T214631Z
LAST-MODIFIED:20240715T214631Z
UID:327986-1723377600-1723395600@kwhi.com
SUMMARY:Rallying Together Back to School Event (Bryan)
DESCRIPTION:
URL:https://kwhi.com/event/rallying-together-back-to-school-event-bryan/
LOCATION:Bryan High Gym\, 4150 Campus Drive\, Bryan\, TX\, 77802\, United States
CATEGORIES:Bulletin Board
ATTACH;FMTTYPE=image/jpeg:https://kwhi.com/wp-content/uploads/2024/07/rally-together-aug-11.jpg
END:VEVENT
BEGIN:VEVENT
DTSTART;VALUE=DATE:20240212
DTEND;VALUE=DATE:20240213
DTSTAMP:20260423T024842
CREATED:20240212T224935Z
LAST-MODIFIED:20240212T224935Z
UID:315980-1707696000-1707782399@kwhi.com
SUMMARY:HOA - Meals on Wheels of Austin County Volunteers Needed
DESCRIPTION:
URL:https://kwhi.com/event/hoa-meals-on-wheels-of-austin-county-volunteers-needed/
LOCATION:TX
CATEGORIES:Bulletin Board
ATTACH;FMTTYPE=image/png:https://kwhi.com/wp-content/uploads/2024/02/HOA-volunteers-needed.png
END:VEVENT
BEGIN:VEVENT
DTSTART;VALUE=DATE:20240812
DTEND;VALUE=DATE:20240813
DTSTAMP:20260423T024842
CREATED:20240726T175048Z
LAST-MODIFIED:20240726T175048Z
UID:328577-1723420800-1723507199@kwhi.com
SUMMARY:Navasota ISD Back to School
DESCRIPTION:
URL:https://kwhi.com/event/navasota-isd-back-to-school/
LOCATION:TX
CATEGORIES:Bulletin Board
ATTACH;FMTTYPE=image/png:https://kwhi.com/wp-content/uploads/2024/07/nisd-back-to-school-aug-12.png
END:VEVENT
BEGIN:VEVENT
DTSTART;VALUE=DATE:20240812
DTEND;VALUE=DATE:20240813
DTSTAMP:20260423T024842
CREATED:20240802T195712Z
LAST-MODIFIED:20240802T195712Z
UID:328953-1723420800-1723507199@kwhi.com
SUMMARY:Burton ISD Meet the Teacher & Meet the Panthers
DESCRIPTION:Meet the Teachers - 4:00-6:00PM\nMeet the Panthers - starting at 6:00PM
URL:https://kwhi.com/event/burton-isd-meet-the-teacher-meet-the-panthers/
LOCATION:TX
CATEGORIES:Bulletin Board
ATTACH;FMTTYPE=image/jpeg:https://kwhi.com/wp-content/uploads/2024/08/burton-isd-meet-the-teacher.jpg
END:VEVENT
BEGIN:VEVENT
DTSTART;VALUE=DATE:20240812
DTEND;VALUE=DATE:20240817
DTSTAMP:20260423T024842
CREATED:20240723T143456Z
LAST-MODIFIED:20240723T143456Z
UID:328363-1723420800-1723852799@kwhi.com
SUMMARY:Brahma Football Season Ticket Sales
DESCRIPTION:
URL:https://kwhi.com/event/brahma-football-season-ticket-sales/
LOCATION:Bellville ISD Administration Building\, 518 S. Mathews Street\, Bellville\, TX\, 77418\, United States
CATEGORIES:Bulletin Board
ATTACH;FMTTYPE=image/png:https://kwhi.com/wp-content/uploads/2024/07/brahma-ftball.png
END:VEVENT
BEGIN:VEVENT
DTSTART;VALUE=DATE:20240812
DTEND;VALUE=DATE:20240904
DTSTAMP:20260423T024842
CREATED:20240812T211914Z
LAST-MODIFIED:20240812T211914Z
UID:329441-1723420800-1725407999@kwhi.com
SUMMARY:WCF Little Mr. and Miss Contest Open Registration
DESCRIPTION:
URL:https://kwhi.com/event/wcf-little-mr-and-miss-contest-open-registration/
LOCATION:TX
CATEGORIES:Bulletin Board
ATTACH;FMTTYPE=image/jpeg:https://kwhi.com/wp-content/uploads/2024/08/little-mr.jpg
END:VEVENT
BEGIN:VEVENT
DTSTART;VALUE=DATE:20240812
DTEND;VALUE=DATE:20240904
DTSTAMP:20260423T024842
CREATED:20240812T212030Z
LAST-MODIFIED:20240812T212030Z
UID:329445-1723420800-1725407999@kwhi.com
SUMMARY:WCF Junior Mr. and Miss Contest Open Registration
DESCRIPTION:
URL:https://kwhi.com/event/wcf-junior-mr-and-miss-contest-open-registration/
LOCATION:TX
CATEGORIES:Bulletin Board
ATTACH;FMTTYPE=image/jpeg:https://kwhi.com/wp-content/uploads/2024/08/junior-mr.jpg
END:VEVENT
BEGIN:VEVENT
DTSTART;VALUE=DATE:20240812
DTEND;VALUE=DATE:20240906
DTSTAMP:20260423T024842
CREATED:20240812T211343Z
LAST-MODIFIED:20240812T211343Z
UID:329435-1723420800-1725580799@kwhi.com
SUMMARY:Austin County Civic Chorale Looking for Interested Singers
DESCRIPTION:
URL:https://kwhi.com/event/austin-county-civic-chorale-looking-for-interested-singers/
LOCATION:TX
CATEGORIES:Bulletin Board
ATTACH;FMTTYPE=image/png:https://kwhi.com/wp-content/uploads/2024/08/ac-civicchorale-rehearsals.png
END:VEVENT
BEGIN:VEVENT
DTSTART;TZID=America/Chicago:20240812T090000
DTEND;TZID=America/Chicago:20240812T160000
DTSTAMP:20260423T024842
CREATED:20240801T172757Z
LAST-MODIFIED:20240801T172757Z
UID:328861-1723453200-1723478400@kwhi.com
SUMMARY:Rudder HS Schedule Walk (Bryan)
DESCRIPTION:
URL:https://kwhi.com/event/rudder-hs-schedule-walk-bryan/
LOCATION:Rudder High School\, TX\, United States
CATEGORIES:Bulletin Board
ATTACH;FMTTYPE=image/jpeg:https://kwhi.com/wp-content/uploads/2024/08/rudder-hs-walk-aug.jpg
END:VEVENT
BEGIN:VEVENT
DTSTART;TZID=America/Chicago:20240812T150000
DTEND;TZID=America/Chicago:20240812T180000
DTSTAMP:20260423T024842
CREATED:20240812T140544Z
LAST-MODIFIED:20240812T140544Z
UID:329366-1723474800-1723485600@kwhi.com
SUMMARY:BRENHAM CUBETTE VOLLEYBALL
DESCRIPTION:The Brenham Cubette Volleyball Team opens the 2024 season this (Monday) afternoon. They will be in Bryan for matches against the Lady Vikings at 3pm\, and against the Waller Lady Bulldogs at 4pm.
URL:https://kwhi.com/event/brenham-cubette-volleyball-25/
LOCATION:Bryan High Gym\, 4150 Campus Drive\, Bryan\, TX\, 77802\, United States
CATEGORIES:Sports Events
ATTACH;FMTTYPE=image/jpeg:https://kwhi.com/wp-content/uploads/2023/10/Cubette-Volleyball-feature-1030239.jpg
END:VEVENT
BEGIN:VEVENT
DTSTART;TZID=America/Chicago:20240813T160000
DTEND;TZID=America/Chicago:20240813T190000
DTSTAMP:20260423T024842
CREATED:20240813T133815Z
LAST-MODIFIED:20240813T133815Z
UID:329484-1723564800-1723575600@kwhi.com
SUMMARY:BURTON LADY PANTHER VOLLEYBALL
DESCRIPTION:The Burton Lady Panther Volleyball Team will open their season on Tuesday\, August 13\, with a three team match against Aggieland Home School and Franklin.  First serve is scheduled for 4pm at the Burton High School Gym.
URL:https://kwhi.com/event/burton-lady-panther-volleyball-11/
LOCATION:Burton High School Gym\, 917 N. Main Street\, Burton\, TX\, 77835\, United States
CATEGORIES:Sports Events
ATTACH;FMTTYPE=image/jpeg:https://kwhi.com/wp-content/uploads/2023/10/Burton-Volleyball-feature-1031238.jpg
END:VEVENT
BEGIN:VEVENT
DTSTART;TZID=America/Chicago:20240814T083000
DTEND;TZID=America/Chicago:20240814T123000
DTSTAMP:20260423T024842
CREATED:20240806T195238Z
LAST-MODIFIED:20240806T195238Z
UID:329150-1723624200-1723638600@kwhi.com
SUMMARY:Private Pesticide Applicator Training (Washington County)
DESCRIPTION:
URL:https://kwhi.com/event/private-pesticide-applicator-training-washington-county/
LOCATION:Washington County Extension Office (conference room)\, 1305 East Blue Bell Road\, Brenham\, TX\, 77833\, United States
CATEGORIES:Bulletin Board
ATTACH;FMTTYPE=image/jpeg:https://kwhi.com/wp-content/uploads/2024/08/private-pesticide-app-training.jpg
END:VEVENT
BEGIN:VEVENT
DTSTART;VALUE=DATE:20240815
DTEND;VALUE=DATE:20240816
DTSTAMP:20260423T024842
CREATED:20240812T211007Z
LAST-MODIFIED:20240812T211007Z
UID:329429-1723680000-1723766399@kwhi.com
SUMMARY:Friends of Bluebonnet Opry (Brenham)
DESCRIPTION:
URL:https://kwhi.com/event/friends-of-bluebonnet-opry-brenham/
LOCATION:Silver Wings Ballroom\, 4100 Highway 105 \, Brenham\, TX\, 77833\, United States
CATEGORIES:Bulletin Board
ATTACH;FMTTYPE=image/jpeg:https://kwhi.com/wp-content/uploads/2024/08/friends-of-bb-opry-aug.jpg
END:VEVENT
BEGIN:VEVENT
DTSTART;VALUE=DATE:20240815
DTEND;VALUE=DATE:20240816
DTSTAMP:20260423T024842
CREATED:20240813T191307Z
LAST-MODIFIED:20240813T191457Z
UID:329552-1723680000-1723766399@kwhi.com
SUMMARY:Spirit Night at Pioneer-Grace Lutheran School PTL
DESCRIPTION:
URL:https://kwhi.com/event/spirit-night-at-pioneer-grace-lutheran-school-ptl/
LOCATION:Pioneer Smokehouse and Mercantile\, 309 South Park\, Brenham\, TX\, 77833\, United States
CATEGORIES:Bulletin Board
ATTACH;FMTTYPE=image/png:https://kwhi.com/wp-content/uploads/2024/08/spirit-night-aug-15.png
END:VEVENT
BEGIN:VEVENT
DTSTART;VALUE=DATE:20240815
DTEND;VALUE=DATE:20240818
DTSTAMP:20260423T024842
CREATED:20240812T144410Z
LAST-MODIFIED:20240812T144410Z
UID:329377-1723680000-1723939199@kwhi.com
SUMMARY:BRENHAM CUBETTE VOLLEYBALL
DESCRIPTION:The Brenham Cubette Volleyball Team will be taking part in the Round Rock Westwood Tournament August 15-17. The matches are being held at multiple locations in the Austin area.
URL:https://kwhi.com/event/brenham-cubette-volleyball-26/
LOCATION:Round Rock West Wood High School
CATEGORIES:Sports Events
ATTACH;FMTTYPE=image/jpeg:https://kwhi.com/wp-content/uploads/2023/10/Cubette-Volleyball-feature-1030238.jpg
END:VEVENT
BEGIN:VEVENT
DTSTART;VALUE=DATE:20240815
DTEND;VALUE=DATE:20240818
DTSTAMP:20260423T024842
CREATED:20240813T134028Z
LAST-MODIFIED:20240813T134028Z
UID:329486-1723680000-1723939199@kwhi.com
SUMMARY:BURTON LADY PANTHER VOLLEYBALL
DESCRIPTION:The Burton Lady Panther Volleyball Team will be taking part in the Columbus Tournament. The tournament runs from Thursday\, August 15\, thru Saturday\, August 17.
URL:https://kwhi.com/event/burton-lady-panther-volleyball-12/
LOCATION:Columbus High School
CATEGORIES:Sports Events
ATTACH;FMTTYPE=image/jpeg:https://kwhi.com/wp-content/uploads/2023/10/Burton-Volleyball-feature-1031235.jpg
END:VEVENT
END:VCALENDAR