BEGIN:VCALENDAR
VERSION:2.0
PRODID:-//KWHI.com - ECPv6.15.17.1//NONSGML v1.0//EN
CALSCALE:GREGORIAN
METHOD:PUBLISH
X-WR-CALNAME:KWHI.com
X-ORIGINAL-URL:https://kwhi.com
X-WR-CALDESC:Events for KWHI.com
REFRESH-INTERVAL;VALUE=DURATION:PT1H
X-Robots-Tag:noindex
X-PUBLISHED-TTL:PT1H
BEGIN:VTIMEZONE
TZID:America/Chicago
BEGIN:DAYLIGHT
TZOFFSETFROM:-0600
TZOFFSETTO:-0500
TZNAME:CDT
DTSTART:20230312T080000
END:DAYLIGHT
BEGIN:STANDARD
TZOFFSETFROM:-0500
TZOFFSETTO:-0600
TZNAME:CST
DTSTART:20231105T070000
END:STANDARD
BEGIN:DAYLIGHT
TZOFFSETFROM:-0600
TZOFFSETTO:-0500
TZNAME:CDT
DTSTART:20240310T080000
END:DAYLIGHT
BEGIN:STANDARD
TZOFFSETFROM:-0500
TZOFFSETTO:-0600
TZNAME:CST
DTSTART:20241103T070000
END:STANDARD
BEGIN:DAYLIGHT
TZOFFSETFROM:-0600
TZOFFSETTO:-0500
TZNAME:CDT
DTSTART:20250309T080000
END:DAYLIGHT
BEGIN:STANDARD
TZOFFSETFROM:-0500
TZOFFSETTO:-0600
TZNAME:CST
DTSTART:20251102T070000
END:STANDARD
END:VTIMEZONE
BEGIN:VEVENT
DTSTART;VALUE=DATE:20241010
DTEND;VALUE=DATE:20241111
DTSTAMP:20260423T024816
CREATED:20240927T143951Z
LAST-MODIFIED:20240927T144345Z
UID:332849-1728518400-1731283199@kwhi.com
SUMMARY:Mark Marburger CANCER BENEFIT (Brenham)
DESCRIPTION:TO PURCHASE TICKETS CALL JULIA\, AT 979 337-4535
URL:https://kwhi.com/event/mark-marburger-cancer-benefit/
LOCATION:TX
CATEGORIES:Bulletin Board
ATTACH;FMTTYPE=image/jpeg:https://kwhi.com/wp-content/uploads/2024/09/marburger-cancer-benefit.jpg
END:VEVENT
BEGIN:VEVENT
DTSTART;VALUE=DATE:20241101
DTEND;VALUE=DATE:20241119
DTSTAMP:20260423T024816
CREATED:20241023T205455Z
LAST-MODIFIED:20241023T205455Z
UID:335068-1730419200-1731974399@kwhi.com
SUMMARY:Austin & Colorado County Soil Testing Campaign
DESCRIPTION:
URL:https://kwhi.com/event/austin-colorado-county-soil-testing-campaign/
LOCATION:TX
CATEGORIES:Bulletin Board
ATTACH;FMTTYPE=image/jpeg:https://kwhi.com/wp-content/uploads/2024/10/ac-soil-testing-camp-nov.jpg
END:VEVENT
BEGIN:VEVENT
DTSTART;VALUE=DATE:20241104
DTEND;VALUE=DATE:20241115
DTSTAMP:20260423T024816
CREATED:20241104T214623Z
LAST-MODIFIED:20241104T214623Z
UID:335839-1730678400-1731628799@kwhi.com
SUMMARY:Brenham Children's Chorus Drive-Thru Dinner
DESCRIPTION:
URL:https://kwhi.com/event/brenham-childrens-chorus-drive-thru-dinner/
LOCATION:TX
CATEGORIES:Bulletin Board
ATTACH;FMTTYPE=image/jpeg:https://kwhi.com/wp-content/uploads/2024/11/bcc-dinner-nov.jpg
END:VEVENT
BEGIN:VEVENT
DTSTART;VALUE=DATE:20241104
DTEND;VALUE=DATE:20241201
DTSTAMP:20260423T024816
CREATED:20241104T164638Z
LAST-MODIFIED:20241104T164638Z
UID:335801-1730678400-1733011199@kwhi.com
SUMMARY:Anchor Club of Brenham sponsoring Wreaths across America
DESCRIPTION:The Anchor Club of Brenham is sponsoring Wreaths across America right here in Brenham at the Prairie Lea Cemetery.   Remember the fallen\, Honor those who serve\, Teach the next generation the value of freedom. This is the mission of Wreaths Across America.  You can join us by sponsoring a wreath at $17 each or helping us lay the wreaths on Veterans graves at Prairie Lea Cemetery on December 14\, 2024\, at 2pm.  The deadline to order a wreath is November 30th.  Please text Carol Hutchens at 979-451-9579 for more information.
URL:https://kwhi.com/event/anchor-club-of-brenham-sponsoring-wreaths-across-america/
LOCATION:TX
CATEGORIES:Bulletin Board
ATTACH;FMTTYPE=image/png:https://kwhi.com/wp-content/uploads/2024/11/wreaths-across-america.png
END:VEVENT
BEGIN:VEVENT
DTSTART;VALUE=DATE:20241104
DTEND;VALUE=DATE:20241206
DTSTAMP:20260423T024816
CREATED:20241104T215315Z
LAST-MODIFIED:20241104T215315Z
UID:335842-1730678400-1733443199@kwhi.com
SUMMARY:Christmas Gift Drive for Seniors in the Brazos Valley
DESCRIPTION:
URL:https://kwhi.com/event/christmas-gift-drive-for-seniors-in-the-brazos-valley/
LOCATION:Benn Law Group\, 750 Wm D Fitch Pkwy\, Suite 220\, College Station\, TX\, 77845\, United States
CATEGORIES:Bulletin Board
ATTACH;FMTTYPE=image/jpeg:https://kwhi.com/wp-content/uploads/2024/11/christmas-gift-dr-until-dec-5.jpg
END:VEVENT
BEGIN:VEVENT
DTSTART;VALUE=DATE:20241104
DTEND;VALUE=DATE:20241216
DTSTAMP:20260423T024816
CREATED:20241104T221727Z
LAST-MODIFIED:20241104T221727Z
UID:335849-1730678400-1734307199@kwhi.com
SUMMARY:City of Bellville Police Department Blue Santa Applications Accepted Now
DESCRIPTION:
URL:https://kwhi.com/event/city-of-bellville-police-department-blue-santa-applications-accepted-now/
LOCATION:TX
CATEGORIES:Bulletin Board
ATTACH;FMTTYPE=image/jpeg:https://kwhi.com/wp-content/uploads/2024/11/blue-santa-bellville.jpg
END:VEVENT
BEGIN:VEVENT
DTSTART;VALUE=DATE:20240112
DTEND;VALUE=DATE:20240113
DTSTAMP:20260423T024816
CREATED:20240105T183022Z
LAST-MODIFIED:20240105T192101Z
UID:312366-1705017600-1705103999@kwhi.com
SUMMARY:Brenham Elks Friday Night Steak Dinner
DESCRIPTION:The weekly Friday night steak dinner begins at 6:30 PM at Brenham Elks Lodge #979\, with all members and guests invited\n- 16 oz Boneless Ribeye with Baked Potato\, Salad\, and Dessert\n- Chef's Choice: Pork & Beef Stew with cornbread\, salad and dessert
URL:https://kwhi.com/event/brenham-elks-friday-night-steak-dinner/
LOCATION:Brenham Elks Lodge 979\, 400 East Germania\, Brenham\, TX\, 77833\, United States
CATEGORIES:Bulletin Board
ATTACH;FMTTYPE=image/jpeg:https://kwhi.com/wp-content/uploads/2024/01/elks-steak-supper-24.jpg
END:VEVENT
BEGIN:VEVENT
DTSTART;VALUE=DATE:20240112
DTEND;VALUE=DATE:20240113
DTSTAMP:20260423T024816
CREATED:20240108T152102Z
LAST-MODIFIED:20240108T152102Z
UID:312447-1705017600-1705103999@kwhi.com
SUMMARY:Sons of Hermann Lodge 6 Monthly Meetings
DESCRIPTION:MEETING INFORMATION\n2nd Friday\, Monthly\nMeal at 6:30 PM Meeting at 7:15 PM \nHERMANN SONS LIFE HALL \nEFFECTIVE JANUARY 1\, 2024.  REGUALR MEETINGS\, MEAL WILL BE SERVED AT 6:30 AND MEETING WILL START AT 7:15.  PLEASE MAKE NOTE OF TIME CHANGE.  Make an effort to come to all meetings and support your lodge.
URL:https://kwhi.com/event/sons-of-hermann-lodge-6-monthly-meetings/
LOCATION:Hermann Sons Life Hall (Brenham)\, 304 East Germania Street\, Brenham\, TX\, 77833\, United States
CATEGORIES:Bulletin Board
ATTACH;FMTTYPE=image/png:https://kwhi.com/wp-content/uploads/2024/01/hermann-sons-life-logo.png
END:VEVENT
BEGIN:VEVENT
DTSTART;VALUE=DATE:20240830
DTEND;VALUE=DATE:20240831
DTSTAMP:20260423T024816
CREATED:20240625T214805Z
LAST-MODIFIED:20240625T214805Z
UID:326727-1724976000-1725062399@kwhi.com
SUMMARY:Caldwell Hornet Football Schedule
DESCRIPTION:
URL:https://kwhi.com/event/caldwell-hornet-football-schedule-3/
LOCATION:TX
CATEGORIES:Bulletin Board
ATTACH;FMTTYPE=image/png:https://kwhi.com/wp-content/uploads/2024/06/caldwell-hornet-football-schedule.png
END:VEVENT
BEGIN:VEVENT
DTSTART;VALUE=DATE:20240830
DTEND;VALUE=DATE:20240831
DTSTAMP:20260423T024816
CREATED:20240626T152630Z
LAST-MODIFIED:20240626T152630Z
UID:326784-1724976000-1725062399@kwhi.com
SUMMARY:Navasota Rattler Football Schedule
DESCRIPTION:
URL:https://kwhi.com/event/navasota-rattler-football-schedule/
LOCATION:TX
CATEGORIES:Bulletin Board
ATTACH;FMTTYPE=image/png:https://kwhi.com/wp-content/uploads/2024/06/navasota-football-schedule.png
END:VEVENT
BEGIN:VEVENT
DTSTART;VALUE=DATE:20241108
DTEND;VALUE=DATE:20241109
DTSTAMP:20260423T024816
CREATED:20241028T195916Z
LAST-MODIFIED:20241028T195916Z
UID:335392-1731024000-1731110399@kwhi.com
SUMMARY:Honor Our Veterans (Burton)
DESCRIPTION:
URL:https://kwhi.com/event/honor-our-veterans-burton/
LOCATION:Burton High School Gym\, 917 N. Main Street\, Burton\, TX\, 77835\, United States
CATEGORIES:Bulletin Board
ATTACH;FMTTYPE=image/png:https://kwhi.com/wp-content/uploads/2024/10/t-y-veterans.png
END:VEVENT
BEGIN:VEVENT
DTSTART;VALUE=DATE:20241108
DTEND;VALUE=DATE:20241109
DTSTAMP:20260423T024816
CREATED:20241105T202551Z
LAST-MODIFIED:20241105T202551Z
UID:335933-1731024000-1731110399@kwhi.com
SUMMARY:Veterans Day Program (Calvert)
DESCRIPTION:
URL:https://kwhi.com/event/veterans-day-program-calvert/
LOCATION:Calvert Cafetorium\, Calvert\, 77837\, United States
CATEGORIES:Bulletin Board
ATTACH;FMTTYPE=image/jpeg:https://kwhi.com/wp-content/uploads/2024/11/veterans-day-calvert.jpg
END:VEVENT
BEGIN:VEVENT
DTSTART;VALUE=DATE:20241108
DTEND;VALUE=DATE:20241109
DTSTAMP:20260423T024816
CREATED:20241108T211232Z
LAST-MODIFIED:20241108T211232Z
UID:336335-1731024000-1731110399@kwhi.com
SUMMARY:BVCAP Head Start & Early Head Start Accepting Applications
DESCRIPTION:
URL:https://kwhi.com/event/bvcap-head-start-early-head-start-accepting-applications/
LOCATION:TX
CATEGORIES:Bulletin Board
ATTACH;FMTTYPE=image/png:https://kwhi.com/wp-content/uploads/2024/11/head-start-applications.png
END:VEVENT
BEGIN:VEVENT
DTSTART;VALUE=DATE:20241108
DTEND;VALUE=DATE:20241110
DTSTAMP:20260423T024816
CREATED:20241104T165022Z
LAST-MODIFIED:20241104T165022Z
UID:335804-1731024000-1731196799@kwhi.com
SUMMARY:BRENHAM HIGH SCHOOL GOLF
DESCRIPTION:The Brenham Cub and Cubette Golf Teams will be hosting tournaments on Friday and Saturday\, November 8-9\, at the Brenham Country Club.
URL:https://kwhi.com/event/brenham-high-school-golf/
LOCATION:Brenham Country Club\, 4107 Highway 105\, Brenham\, TX\, 77833\, United States
CATEGORIES:Sports Events
ATTACH;FMTTYPE=image/jpeg:https://kwhi.com/wp-content/uploads/2024/10/Cub-Golf-Team-2024.jpg
END:VEVENT
BEGIN:VEVENT
DTSTART;VALUE=DATE:20241108
DTEND;VALUE=DATE:20241111
DTSTAMP:20260423T024816
CREATED:20241009T171336Z
LAST-MODIFIED:20241023T131512Z
UID:333840-1731024000-1731283199@kwhi.com
SUMMARY:Vintage Market Days-The Holiday Market (Hempstead)
DESCRIPTION:
URL:https://kwhi.com/event/vintage-market-days-hempstead/
LOCATION:Waller County Fairgrounds\, 21988 FM-359\, Hempstead\, TX\, 77445\, United States
CATEGORIES:Bulletin Board
ATTACH;FMTTYPE=image/jpeg:https://kwhi.com/wp-content/uploads/2024/10/vintage-market-days-nov.jpg
END:VEVENT
BEGIN:VEVENT
DTSTART;TZID=America/Chicago:20241108T090000
DTEND;TZID=America/Chicago:20241108T103000
DTSTAMP:20260423T024816
CREATED:20241105T202834Z
LAST-MODIFIED:20241105T202834Z
UID:335937-1731056400-1731061800@kwhi.com
SUMMARY:Coffee & Donuts for Veterans at Bank of Brenham
DESCRIPTION:
URL:https://kwhi.com/event/coffee-donuts-for-veterans-at-bank-of-brenham/
LOCATION:Bank of Brenham (CADENCE Bank)\, 501 South Austin\, Brenham\, TX\, 77833\, United States
CATEGORIES:Bulletin Board
ATTACH;FMTTYPE=image/jpeg:https://kwhi.com/wp-content/uploads/2024/11/BOB-nov-8.jpg
END:VEVENT
BEGIN:VEVENT
DTSTART;TZID=America/Chicago:20241108T153000
DTEND;TZID=America/Chicago:20241108T170000
DTSTAMP:20260423T024816
CREATED:20241104T164552Z
LAST-MODIFIED:20241104T164552Z
UID:335800-1731079800-1731085200@kwhi.com
SUMMARY:BRENHAM CUBETTE BASKETBALL
DESCRIPTION:The Brenham Cubette Basketball Team will be hosting Navasota in a non-district game on Friday\, November 8. The opening tipoff is scheduled for 3:30pm at the Brenham High School Gym.
URL:https://kwhi.com/event/brenham-cubette-basketball-20/
LOCATION:Brenham High School Gym\, 525 A H Ehrig Drive \, Brenham\, TX\, 77833\, United States
CATEGORIES:Sports Events
ATTACH;FMTTYPE=image/jpeg:https://kwhi.com/wp-content/uploads/2024/02/cubette-basketball-feature-26244.jpg
END:VEVENT
BEGIN:VEVENT
DTSTART;TZID=America/Chicago:20240112T173000
DTEND;TZID=America/Chicago:20240112T193000
DTSTAMP:20260423T024816
CREATED:20240109T144545Z
LAST-MODIFIED:20240109T144545Z
UID:312532-1705080600-1705087800@kwhi.com
SUMMARY:(Child) Pizza BINGO
DESCRIPTION:
URL:https://kwhi.com/event/child-pizza-bingo/
LOCATION:Blue Bell Aquatic Center\, 1800 East Tom Green\, Brenham\, TX\, 77833\, United States
CATEGORIES:Bulletin Board
ATTACH;FMTTYPE=image/jpeg:https://kwhi.com/wp-content/uploads/2024/01/pizza-bingo.jpg
END:VEVENT
BEGIN:VEVENT
DTSTART;TZID=America/Chicago:20241108T190000
DTEND;TZID=America/Chicago:20241108T213000
DTSTAMP:20260423T024816
CREATED:20240822T151408Z
LAST-MODIFIED:20240822T151408Z
UID:330194-1731092400-1731101400@kwhi.com
SUMMARY:BURTON PANTHER FOOTBALL
DESCRIPTION:The Burton Panthers will play their regular season finale on the road at Granger on Friday\, November 8\, at 7pm. \nKWHI will have live coverage beginning with the pregame at 6:30pm.
URL:https://kwhi.com/event/burton-panther-football-23/
LOCATION:Granger High School\, Granger\, TX\, United States
CATEGORIES:Sports Events
ATTACH;FMTTYPE=image/jpeg:https://kwhi.com/wp-content/uploads/2021/12/Burton-Football-feature-123213.jpg
END:VEVENT
BEGIN:VEVENT
DTSTART;VALUE=DATE:20241109
DTEND;VALUE=DATE:20241110
DTSTAMP:20260423T024816
CREATED:20241023T205107Z
LAST-MODIFIED:20241023T205107Z
UID:335058-1731110400-1731196799@kwhi.com
SUMMARY:Gospel Musical Fundraiser (Bellville)
DESCRIPTION:
URL:https://kwhi.com/event/gospel-musical-fundraiser-bellville/
LOCATION:Back to Holiness Church\, 835 W. Austin St.\, Bellville\, TX\, 77418\, United States
CATEGORIES:Bulletin Board
ATTACH;FMTTYPE=image/jpeg:https://kwhi.com/wp-content/uploads/2024/10/gospel-musical-fundraiser-nov-9.jpg
END:VEVENT
BEGIN:VEVENT
DTSTART;VALUE=DATE:20241109
DTEND;VALUE=DATE:20241110
DTSTAMP:20260423T024816
CREATED:20241025T134454Z
LAST-MODIFIED:20241025T134454Z
UID:335186-1731110400-1731196799@kwhi.com
SUMMARY:Prairie Hill - Rocky Hill VFD Dinner & Annual Meeting
DESCRIPTION:Gun Drawing After Dinner
URL:https://kwhi.com/event/prairie-hill-rocky-hill-vfd-dinner-annual-meeting/
LOCATION:Prairie Hill Volunteer Fire Hall\, 7559 FM 50\, Brenham\, TX\, 77833\, United States
CATEGORIES:Bulletin Board
ATTACH;FMTTYPE=image/jpeg:https://kwhi.com/wp-content/uploads/2024/10/ph-pork-steak-dinner.jpg
END:VEVENT
BEGIN:VEVENT
DTSTART;VALUE=DATE:20241109
DTEND;VALUE=DATE:20241111
DTSTAMP:20260423T024816
CREATED:20241031T135753Z
LAST-MODIFIED:20241031T135753Z
UID:335597-1731110400-1731283199@kwhi.com
SUMMARY:Friends of the Library Book Sale (Bryan)
DESCRIPTION:
URL:https://kwhi.com/event/friends-of-the-library-book-sale-bryan/
LOCATION:Clara B. Mounce Library\, 201 E 26th Street\, Bryan\, TX\, 77803\, United States
CATEGORIES:Bulletin Board
ATTACH;FMTTYPE=image/jpeg:https://kwhi.com/wp-content/uploads/2024/10/friends-of-the-library-nov.jpg
END:VEVENT
BEGIN:VEVENT
DTSTART;TZID=America/Chicago:20241109T090000
DTEND;TZID=America/Chicago:20241109T120000
DTSTAMP:20260423T024816
CREATED:20241023T204921Z
LAST-MODIFIED:20241023T204921Z
UID:335054-1731142800-1731153600@kwhi.com
SUMMARY:Mill Creek Fall Cleanup (Bellville)
DESCRIPTION:
URL:https://kwhi.com/event/mill-creek-fall-cleanup-bellville/
LOCATION:Bleiblerville Volunteer Fire Department\, 3342 FM 2502\, Bellville\, TX\, 77418\, United States
CATEGORIES:Bulletin Board
ATTACH;FMTTYPE=image/jpeg:https://kwhi.com/wp-content/uploads/2024/10/mc-fall-clean-up.jpg
END:VEVENT
BEGIN:VEVENT
DTSTART;TZID=America/Chicago:20241109T090000
DTEND;TZID=America/Chicago:20241109T140000
DTSTAMP:20260423T024816
CREATED:20241022T150753Z
LAST-MODIFIED:20241022T150753Z
UID:334877-1731142800-1731160800@kwhi.com
SUMMARY:Test-drive a Ford and earn $20 for Brenham Cub Band
DESCRIPTION:
URL:https://kwhi.com/event/test-drive-a-ford-and-earn-20-for-brenham-cub-band/
LOCATION:Brenham Middle School\, 1600 South Blue Bell Road\, Brenham\, TX\, 77833\, United States
CATEGORIES:Bulletin Board
ATTACH;FMTTYPE=image/jpeg:https://kwhi.com/wp-content/uploads/2024/10/test-drive-ford-nov-1.jpg
END:VEVENT
BEGIN:VEVENT
DTSTART;TZID=America/Chicago:20241109T100000
DTEND;TZID=America/Chicago:20241109T120000
DTSTAMP:20260423T024816
CREATED:20240517T204038Z
LAST-MODIFIED:20240517T204038Z
UID:323980-1731146400-1731153600@kwhi.com
SUMMARY:Pop-Up Play Day at Jackson Street Park
DESCRIPTION:
URL:https://kwhi.com/event/pop-up-play-day-at-jackson-street-park/
LOCATION:Jackson Street Park\, 1300 South Jackson\, Brenham\, TX\, 77833\, United States
CATEGORIES:Bulletin Board
ATTACH;FMTTYPE=image/jpeg:https://kwhi.com/wp-content/uploads/2024/05/pop-up-play-days-2024.jpg
END:VEVENT
BEGIN:VEVENT
DTSTART;TZID=America/Chicago:20241109T100000
DTEND;TZID=America/Chicago:20241109T120000
DTSTAMP:20260423T024816
CREATED:20241104T222458Z
LAST-MODIFIED:20241104T222458Z
UID:335856-1731146400-1731153600@kwhi.com
SUMMARY:Gulf Coast Winegrowers Association Tailgate (Fayetteville)
DESCRIPTION:
URL:https://kwhi.com/event/gulf-coast-winegrowers-association-tailgate-fayetteville/
LOCATION:Blue Mule Winery\, 8127 N FM 1291\, Fayetteville\, 78940\, United States
CATEGORIES:Bulletin Board
ATTACH;FMTTYPE=image/jpeg:https://kwhi.com/wp-content/uploads/2024/11/winegrowers-tailgate.jpg
END:VEVENT
BEGIN:VEVENT
DTSTART;TZID=America/Chicago:20241109T100000
DTEND;TZID=America/Chicago:20241109T140000
DTSTAMP:20260423T024816
CREATED:20240821T193755Z
LAST-MODIFIED:20240821T193755Z
UID:330117-1731146400-1731160800@kwhi.com
SUMMARY:Benefit Bake Sale-Help Students go to Italy (Brenham)
DESCRIPTION:
URL:https://kwhi.com/event/benefit-bake-sale-help-students-go-to-italy-brenham/
LOCATION:Tractor Supply Brenham\, 2718 S Market\, Brenham\, TX\, 77833\, United States
CATEGORIES:Bulletin Board
ATTACH;FMTTYPE=image/jpeg:https://kwhi.com/wp-content/uploads/2024/08/bake-sale-aug-sept-oct-nov-dec.jpg
END:VEVENT
BEGIN:VEVENT
DTSTART;TZID=America/Chicago:20241109T120000
DTEND;TZID=America/Chicago:20241109T133000
DTSTAMP:20260423T024816
CREATED:20241104T163736Z
LAST-MODIFIED:20241104T163736Z
UID:335796-1731153600-1731159000@kwhi.com
SUMMARY:BRENHAM CUB BASKETBALL
DESCRIPTION:The Brenham Cub Basketball Team will host Magnolia in a non-district game on Saturday\, November 9. The opening tipoff is scheduled for 12 noon at the Brenham High School Gym.
URL:https://kwhi.com/event/brenham-cub-basketball-28/
LOCATION:Brenham High School Gym\, 525 A H Ehrig Drive \, Brenham\, TX\, 77833\, United States
CATEGORIES:Sports Events
ATTACH;FMTTYPE=image/jpeg:https://kwhi.com/wp-content/uploads/2024/02/Cub-Basketball-feature-22245.jpg
END:VEVENT
BEGIN:VEVENT
DTSTART;TZID=America/Chicago:20241109T130000
DTEND;TZID=America/Chicago:20241109T180000
DTSTAMP:20260423T024816
CREATED:20241029T134855Z
LAST-MODIFIED:20241029T134855Z
UID:335434-1731157200-1731175200@kwhi.com
SUMMARY:Paws & Pints Harvest (Columbus)
DESCRIPTION:
URL:https://kwhi.com/event/paws-pints-harvest-columbus/
LOCATION:Hound Song Brewing Company\, 535 Walnut St.\, Columbus\, TX\, 78934\, United States
CATEGORIES:Bulletin Board
ATTACH;FMTTYPE=image/jpeg:https://kwhi.com/wp-content/uploads/2024/10/paws-pints-harvest-nov.jpg
END:VEVENT
BEGIN:VEVENT
DTSTART;TZID=America/Chicago:20241109T150000
DTEND;TZID=America/Chicago:20241109T180000
DTSTAMP:20260423T024816
CREATED:20240822T161750Z
LAST-MODIFIED:20240822T162101Z
UID:330218-1731164400-1731175200@kwhi.com
SUMMARY:BLINN BUCCANEER FOOTBALL
DESCRIPTION:The Blinn Buccaneer Football Team will wrap up the regular season with a home game against Cisco College on Saturday\, November 9\, at 3pm. \nKWHI will be there to broadcast live beginning with the pregame at 2:30pm.
URL:https://kwhi.com/event/blinn-buccaneer-football-20/
LOCATION:Cub Stadium\, 1600 East Tom Green\, Brenham\, TX\, 77833\, United States
CATEGORIES:Sports Events
END:VEVENT
END:VCALENDAR