BEGIN:VCALENDAR
VERSION:2.0
PRODID:-//KWHI.com - ECPv6.15.17.1//NONSGML v1.0//EN
CALSCALE:GREGORIAN
METHOD:PUBLISH
X-WR-CALNAME:KWHI.com
X-ORIGINAL-URL:https://kwhi.com
X-WR-CALDESC:Events for KWHI.com
REFRESH-INTERVAL;VALUE=DURATION:PT1H
X-Robots-Tag:noindex
X-PUBLISHED-TTL:PT1H
BEGIN:VTIMEZONE
TZID:America/Chicago
BEGIN:DAYLIGHT
TZOFFSETFROM:-0600
TZOFFSETTO:-0500
TZNAME:CDT
DTSTART:20250309T080000
END:DAYLIGHT
BEGIN:STANDARD
TZOFFSETFROM:-0500
TZOFFSETTO:-0600
TZNAME:CST
DTSTART:20251102T070000
END:STANDARD
BEGIN:DAYLIGHT
TZOFFSETFROM:-0600
TZOFFSETTO:-0500
TZNAME:CDT
DTSTART:20260308T080000
END:DAYLIGHT
BEGIN:STANDARD
TZOFFSETFROM:-0500
TZOFFSETTO:-0600
TZNAME:CST
DTSTART:20261101T070000
END:STANDARD
BEGIN:DAYLIGHT
TZOFFSETFROM:-0600
TZOFFSETTO:-0500
TZNAME:CDT
DTSTART:20270314T080000
END:DAYLIGHT
BEGIN:STANDARD
TZOFFSETFROM:-0500
TZOFFSETTO:-0600
TZNAME:CST
DTSTART:20271107T070000
END:STANDARD
END:VTIMEZONE
BEGIN:VEVENT
DTSTART;VALUE=DATE:20260512
DTEND;VALUE=DATE:20260515
DTSTAMP:20260423T173506
CREATED:20260415T215752Z
LAST-MODIFIED:20260415T215752Z
UID:374779-1778544000-1778803199@kwhi.com
SUMMARY:Annual Revival at Harris Spring AME Church (Brenham)
DESCRIPTION:
URL:https://kwhi.com/event/annual-revival-at-harris-spring-ame-church-brenham/
LOCATION:Harris Spring African Methodist Episcopal Church\, 3507 Harris Spring Lane\, Brenham\, TX\, 77833\, United States
CATEGORIES:Bulletin Board
ATTACH;FMTTYPE=image/jpeg:https://kwhi.com/wp-content/uploads/2026/04/revival-may-12-14.jpg
END:VEVENT
BEGIN:VEVENT
DTSTART;VALUE=DATE:20260514
DTEND;VALUE=DATE:20260517
DTSTAMP:20260423T173506
CREATED:20260422T193239Z
LAST-MODIFIED:20260422T193239Z
UID:375250-1778716800-1778975999@kwhi.com
SUMMARY:Lee County Fair (Giddings)
DESCRIPTION:2026 Lee County Fair Schedule Highlights\n\nThursday\, May 14: Gates open at 4:30 PM\, featuring entertainment from Dustin De La Garza.\nFriday\, May 15: Gates open at 10:00 AM\, featuring:\n\nSenior Day Bingo & BBQ Lunch (10:30 AM - 1:30 PM).\nELVIS Tribute by Mike Elliott (12:30 PM).\nJackpot Events (Beans\, Margarita\, Salsa\, and Cocktail contests).\nMighty Thomas Carnival (5:00 PM - 11:00 PM).\nLive Concert: Bombshell (9:30 PM).\n\n\nSaturday\, May 16: Gates open at 9:00 AM\, featuring:\n\nParade & Armed Forces Day Ceremony.\nCharcoal Challenge BBQ Cookoff.\nClassic Car Show.\nLive Concert: Aaron Watson (9:30 PM 
URL:https://kwhi.com/event/lee-county-fair-giddings-2/
LOCATION:Lee County Fairgrounds\, 2493 West Hwy. 290\, Giddings\, TX\, 78942\, United States
CATEGORIES:Bulletin Board
ATTACH;FMTTYPE=image/jpeg:https://kwhi.com/wp-content/uploads/2026/04/lee-co-fair-may-14-15-16.jpg
END:VEVENT
BEGIN:VEVENT
DTSTART;TZID=America/Chicago:20260514T100000
DTEND;TZID=America/Chicago:20260514T113000
DTSTAMP:20260423T173506
CREATED:20251212T145224Z
LAST-MODIFIED:20251212T145224Z
UID:364811-1778752800-1778758200@kwhi.com
SUMMARY:Grimes Mobile Pantry (Navasota)
DESCRIPTION:
URL:https://kwhi.com/event/grimes-mobile-pantry-navasota-5/
LOCATION:Grimes County Expo\, 5220 FM 3455 Rd.\, Navasota\, TX\, 77868\, United States
CATEGORIES:Bulletin Board
ATTACH;FMTTYPE=image/jpeg:https://kwhi.com/wp-content/uploads/2025/12/grimes-mobil-pantry-2026.jpg
END:VEVENT
BEGIN:VEVENT
DTSTART;VALUE=DATE:20260515
DTEND;VALUE=DATE:20260517
DTSTAMP:20260423T173506
CREATED:20260422T193601Z
LAST-MODIFIED:20260422T193601Z
UID:375256-1778803200-1778975999@kwhi.com
SUMMARY:Magnolia Days Festival (Columbus)
DESCRIPTION:
URL:https://kwhi.com/event/magnolia-days-festival-columbus-2/
LOCATION:Downtown Columbus\, Columbus\, TX\, 78934\, United States
CATEGORIES:Bulletin Board
ATTACH;FMTTYPE=image/jpeg:https://kwhi.com/wp-content/uploads/2026/04/magnolia-days-may-15-16.jpg
END:VEVENT
BEGIN:VEVENT
DTSTART;VALUE=DATE:20260516
DTEND;VALUE=DATE:20260517
DTSTAMP:20260423T173506
CREATED:20260217T224146Z
LAST-MODIFIED:20260217T224146Z
UID:369860-1778889600-1778975999@kwhi.com
SUMMARY:First Aid & CPR Training (Bellville)
DESCRIPTION:
URL:https://kwhi.com/event/first-aid-cpr-training-bellville-5/
LOCATION:TX
CATEGORIES:Bulletin Board
ATTACH;FMTTYPE=image/jpeg:https://kwhi.com/wp-content/uploads/2026/02/first-aid-training-end-nov-21.jpg
END:VEVENT
BEGIN:VEVENT
DTSTART;VALUE=DATE:20260516
DTEND;VALUE=DATE:20260517
DTSTAMP:20260423T173506
CREATED:20260401T133832Z
LAST-MODIFIED:20260401T133832Z
UID:373633-1778889600-1778975999@kwhi.com
SUMMARY:Broadway Dreams presented by Brenham Children's Chorus
DESCRIPTION:
URL:https://kwhi.com/event/broadway-dreams-presented-by-brenham-childrens-chorus/
LOCATION:Dr. W.W. O’Donnell Performing Arts Center\, 600 Blinn Blvd.\, Brenham\, TX\, 77833\, United States
CATEGORIES:Bulletin Board
ATTACH;FMTTYPE=image/jpeg:https://kwhi.com/wp-content/uploads/2026/04/broadway-dreams-may-16.jpg
END:VEVENT
BEGIN:VEVENT
DTSTART;TZID=America/Chicago:20260516T090000
DTEND;TZID=America/Chicago:20260516T130000
DTSTAMP:20260423T173506
CREATED:20260406T140427Z
LAST-MODIFIED:20260406T140427Z
UID:373975-1778922000-1778936400@kwhi.com
SUMMARY:Chappell Hill Farmers Market
DESCRIPTION:
URL:https://kwhi.com/event/chappell-hill-farmers-market-4/
LOCATION:Downtown Chappell Hill\, Main Street\, Chappell Hill\, TX\, 77426\, United States
CATEGORIES:Bulletin Board
ATTACH;FMTTYPE=image/jpeg:https://kwhi.com/wp-content/uploads/2026/04/ch-farmers-apr-18-may-16.jpg
END:VEVENT
BEGIN:VEVENT
DTSTART;TZID=America/Chicago:20260516T193000
DTEND;TZID=America/Chicago:20260516T213000
DTSTAMP:20260423T173506
CREATED:20260225T164025Z
LAST-MODIFIED:20260225T164025Z
UID:370649-1778959800-1778967000@kwhi.com
SUMMARY:Sounds of Navasota
DESCRIPTION:
URL:https://kwhi.com/event/sounds-of-navasota/
LOCATION:TX
CATEGORIES:Bulletin Board
ATTACH;FMTTYPE=image/jpeg:https://kwhi.com/wp-content/uploads/2026/02/sounds-of-nava-end-aug-15.jpg
END:VEVENT
BEGIN:VEVENT
DTSTART;VALUE=DATE:20260517
DTEND;VALUE=DATE:20260518
DTSTAMP:20260423T173506
CREATED:20260409T194239Z
LAST-MODIFIED:20260409T194239Z
UID:374360-1778976000-1779062399@kwhi.com
SUMMARY:Bleiblerville VFD Fish Fry
DESCRIPTION:
URL:https://kwhi.com/event/bleiblerville-vfd-fish-fry-3/
LOCATION:Bleiblerville VFD Station\, 3342 FM 2502\, Bleiblerville\, TX\, 78931\, United States
CATEGORIES:Bulletin Board
ATTACH;FMTTYPE=image/png:https://kwhi.com/wp-content/uploads/2026/04/bleiblerville-fish-fry-may-17.png
END:VEVENT
BEGIN:VEVENT
DTSTART;TZID=America/Chicago:20260518T160000
DTEND;TZID=America/Chicago:20260518T180000
DTSTAMP:20260423T173506
CREATED:20260406T141248Z
LAST-MODIFIED:20260406T141249Z
UID:373981-1779120000-1779127200@kwhi.com
SUMMARY:Navasota ISD PK & Kindergarten Roundup
DESCRIPTION:
URL:https://kwhi.com/event/navasota-isd-pk-kindergarten-roundup/
LOCATION:Navasota ISD Elementary Campuses\, Navasota\, TX\, 77868\, United States
CATEGORIES:Bulletin Board
ATTACH;FMTTYPE=image/png:https://kwhi.com/wp-content/uploads/2026/04/nisd-round-up-may-18-july-27.png
END:VEVENT
BEGIN:VEVENT
DTSTART;VALUE=DATE:20260519
DTEND;VALUE=DATE:20260520
DTSTAMP:20260423T173506
CREATED:20260206T221615Z
LAST-MODIFIED:20260206T221615Z
UID:368980-1779148800-1779235199@kwhi.com
SUMMARY:Austin County Lunch N Learn Series-Spring (Bellville)
DESCRIPTION:
URL:https://kwhi.com/event/austin-county-lunch-n-learn-series-spring-bellville-4/
LOCATION:Austin County AgriLife Extension Office\, Courthouse\, 1 East Main\, Bellville\, TX\, 77418\, United States
CATEGORIES:Bulletin Board
ATTACH;FMTTYPE=image/jpeg:https://kwhi.com/wp-content/uploads/2026/02/lunch-n-learn-series-spring-end-may-19.jpg
END:VEVENT
BEGIN:VEVENT
DTSTART;VALUE=DATE:20260519
DTEND;VALUE=DATE:20260521
DTSTAMP:20260423T173506
CREATED:20260410T141924Z
LAST-MODIFIED:20260410T141924Z
UID:374438-1779148800-1779321599@kwhi.com
SUMMARY:Hearne Elementary Awards Ceremony & Graduation
DESCRIPTION:
URL:https://kwhi.com/event/hearne-elementary-awards-ceremony-graduation/
LOCATION:Hearne Elementary School\, Hearne\, 77859\, United States
CATEGORIES:Bulletin Board
ATTACH;FMTTYPE=image/jpeg:https://kwhi.com/wp-content/uploads/2026/04/hearne-ele-awards-may-19.jpg
END:VEVENT
BEGIN:VEVENT
DTSTART;TZID=America/Chicago:20260519T173000
DTEND;TZID=America/Chicago:20260519T190000
DTSTAMP:20260423T173506
CREATED:20260225T201857Z
LAST-MODIFIED:20260225T201857Z
UID:370708-1779211800-1779217200@kwhi.com
SUMMARY:Gather & Grace hosts Tuesday Night Dinner (Bellville)
DESCRIPTION:
URL:https://kwhi.com/event/gather-grace-hosts-tuesday-night-dinner-bellville-3/
LOCATION:Margaret Chesley Memorial Park\, 417 N. Bell Street\, Bellville\, TX\, 77418\, United States
CATEGORIES:Bulletin Board
ATTACH;FMTTYPE=image/jpeg:https://kwhi.com/wp-content/uploads/2026/02/gather-n-grace-bellville-end-may-19.jpg
END:VEVENT
BEGIN:VEVENT
DTSTART;VALUE=DATE:20260521
DTEND;VALUE=DATE:20260522
DTSTAMP:20260423T173506
CREATED:20260225T201221Z
LAST-MODIFIED:20260225T201221Z
UID:370699-1779321600-1779407999@kwhi.com
SUMMARY:Austin County Cattle Women Meeting (Bellville)
DESCRIPTION:
URL:https://kwhi.com/event/austin-county-cattle-women-meeting-bellville-3/
LOCATION:Austin County Expo\, 1076 Hwy 159 E\, Bellville\, TX\, 77418\, United States
CATEGORIES:Bulletin Board
ATTACH;FMTTYPE=image/jpeg:https://kwhi.com/wp-content/uploads/2026/02/ac-cattlewomen-meetings-end-dec-10.jpg
END:VEVENT
BEGIN:VEVENT
DTSTART;VALUE=DATE:20260521
DTEND;VALUE=DATE:20260522
DTSTAMP:20260423T173506
CREATED:20260420T134946Z
LAST-MODIFIED:20260420T134946Z
UID:375053-1779321600-1779407999@kwhi.com
SUMMARY:Friends of Bluebonnet Opry Polka Show (Brenham)
DESCRIPTION:
URL:https://kwhi.com/event/friends-of-bluebonnet-opry-polka-show-brenham/
LOCATION:Silver Wings Ballroom\, 4100 Highway 105 \, Brenham\, TX\, 77833\, United States
CATEGORIES:Bulletin Board
ATTACH;FMTTYPE=image/webp:https://kwhi.com/wp-content/uploads/2026/04/OpryPoster-May_2.webp
END:VEVENT
BEGIN:VEVENT
DTSTART;TZID=America/Chicago:20260521T193000
DTEND;TZID=America/Chicago:20260521T210000
DTSTAMP:20260423T173506
CREATED:20260409T202608Z
LAST-MODIFIED:20260409T202608Z
UID:374366-1779391800-1779397200@kwhi.com
SUMMARY:Snook High School Class of 2026-Senior Sunset Dinner
DESCRIPTION:
URL:https://kwhi.com/event/snook-high-school-class-of-2026-senior-sunset-dinner/
LOCATION:Bluejay Stadium\, 10110 FM 2155\, Snook\, TX\, 77878\, United States
CATEGORIES:Bulletin Board
ATTACH;FMTTYPE=image/jpeg:https://kwhi.com/wp-content/uploads/2026/04/senior-sundet-may-21.jpg
END:VEVENT
BEGIN:VEVENT
DTSTART;TZID=America/Chicago:20260523T100000
DTEND;TZID=America/Chicago:20260523T140000
DTSTAMP:20260423T173506
CREATED:20260407T190614Z
LAST-MODIFIED:20260407T190614Z
UID:374172-1779530400-1779544800@kwhi.com
SUMMARY:Boots\, Bibles & Bling (Brenham)
DESCRIPTION:
URL:https://kwhi.com/event/boots-bibles-bling-brenham/
LOCATION:New Beginning Missionary Baptist Church (Brenham)\, 2105 FM 2935\, Brenham\, TX\, 77833\, United States
CATEGORIES:Bulletin Board
ATTACH;FMTTYPE=image/jpeg:https://kwhi.com/wp-content/uploads/2026/04/boots-bible-bling-may-23.jpg
END:VEVENT
BEGIN:VEVENT
DTSTART;VALUE=DATE:20260601
DTEND;VALUE=DATE:20260602
DTSTAMP:20260423T173506
CREATED:20260408T201359Z
LAST-MODIFIED:20260408T201359Z
UID:374308-1780272000-1780358399@kwhi.com
SUMMARY:Austin County Fair Rabbit Project Meetings (Bellville)
DESCRIPTION:
URL:https://kwhi.com/event/austin-county-fair-rabbit-project-meetings-bellville-3/
LOCATION:Austin County Fairgrounds Exposition Hall\, 1076 TX-159\, Bellville\, TX\, 77418\, United States
CATEGORIES:Bulletin Board
ATTACH;FMTTYPE=image/jpeg:https://kwhi.com/wp-content/uploads/2026/04/acf-rabbit-meetings-end-sept-14.jpg
END:VEVENT
BEGIN:VEVENT
DTSTART;VALUE=DATE:20260601
DTEND;VALUE=DATE:20260711
DTSTAMP:20260423T173506
CREATED:20260423T201115Z
LAST-MODIFIED:20260423T201115Z
UID:375354-1780272000-1783727999@kwhi.com
SUMMARY:JAM Meal Train (Brenham)
DESCRIPTION:Throughout JAM\, our Missionary Counselors are faithfully serving kids and families in our community each weekday. \nFrom June 1st–July 10th\, we are asking for help to provide lunches to support them as they pour into our kids! \nThank you for helping fuel the college students who have committed their summer to serving through JAM! \nVisit here to donate or volunteer: \nhttps://www.mealtrain.com/trains/ee30yo
URL:https://kwhi.com/event/jam-meal-train-brenham/
LOCATION:TX
CATEGORIES:Bulletin Board
ATTACH;FMTTYPE=image/jpeg:https://kwhi.com/wp-content/uploads/2026/04/jam-meal-train-end-july-10.jpg
END:VEVENT
BEGIN:VEVENT
DTSTART;TZID=America/Chicago:20260602T120000
DTEND;TZID=America/Chicago:20260602T130000
DTSTAMP:20260423T173506
CREATED:20260106T151132Z
LAST-MODIFIED:20260106T151132Z
UID:366146-1780401600-1780405200@kwhi.com
SUMMARY:Walk With A Doc (Brenham)
DESCRIPTION:Register online before your first walk.  Chapter number; 3612
URL:https://kwhi.com/event/walk-with-a-doc-brenham-7/
LOCATION:Blinn College Kruse Recreation Center\, 208 Blinn Blvd\, Brenham\, TX\, 77833\, United States
CATEGORIES:Bulletin Board
ATTACH;FMTTYPE=image/jpeg:https://kwhi.com/wp-content/uploads/2026/01/wwad-2026.jpg
END:VEVENT
BEGIN:VEVENT
DTSTART;TZID=America/Chicago:20260602T130000
DTEND;TZID=America/Chicago:20260602T160000
DTSTAMP:20260423T173506
CREATED:20260203T220105Z
LAST-MODIFIED:20260203T220105Z
UID:368636-1780405200-1780416000@kwhi.com
SUMMARY:Fun & Fellowship (Bellville)
DESCRIPTION:
URL:https://kwhi.com/event/fun-fellowship-bellville-5/
LOCATION:Bellville Methodist Church\, 234 S. Masonic St.\, Bellville\, TX\, 77418\, United States
CATEGORIES:Bulletin Board
ATTACH;FMTTYPE=image/jpeg:https://kwhi.com/wp-content/uploads/2026/02/fun-fellowship-end-june-2.jpg
END:VEVENT
BEGIN:VEVENT
DTSTART;VALUE=DATE:20260604
DTEND;VALUE=DATE:20260605
DTSTAMP:20260423T173506
CREATED:20260326T142729Z
LAST-MODIFIED:20260326T142729Z
UID:373148-1780531200-1780617599@kwhi.com
SUMMARY:American Legion Quade-Werchan Post #338 and Auxiliary Meeting (Round Top)
DESCRIPTION:American Legion Quade-Werchan Post #338 and Auxiliary meeting; Thursday\, June 4\, 6 PM fellowship\, 6:30 meeting\, at the post hall in Round Top.
URL:https://kwhi.com/event/american-legion-quade-werchan-post-338-and-auxiliary-meeting-round-top-6/
LOCATION:American Legion Hall Round Top\, 1503 N. State Hwy. 237\, Round Top\, TX\, 78954\, United States
CATEGORIES:Bulletin Board
ATTACH;FMTTYPE=image/png:https://kwhi.com/wp-content/uploads/2026/03/american-legion-post-auxiliary-logos-1.png
END:VEVENT
BEGIN:VEVENT
DTSTART;VALUE=DATE:20260604
DTEND;VALUE=DATE:20260605
DTSTAMP:20260423T173506
CREATED:20260415T210231Z
LAST-MODIFIED:20260415T210231Z
UID:374754-1780531200-1780617599@kwhi.com
SUMMARY:Austin County Livestock Association Annual Meeting (Cat Spring)
DESCRIPTION:
URL:https://kwhi.com/event/austin-county-livestock-association-annual-meeting-cat-spring-2/
LOCATION:Cat Spring Agricultural Hall\, 13035 Hall Rd\, Cat Spring\, TX\, 78933\, United States
CATEGORIES:Bulletin Board
ATTACH;FMTTYPE=image/png:https://kwhi.com/wp-content/uploads/2026/04/ac-livestock-assoc-meeting-june-4.png
END:VEVENT
BEGIN:VEVENT
DTSTART;VALUE=DATE:20260605
DTEND;VALUE=DATE:20260606
DTSTAMP:20260423T173506
CREATED:20260309T200023Z
LAST-MODIFIED:20260309T200023Z
UID:371825-1780617600-1780703999@kwhi.com
SUMMARY:Brazos Valley Educator's Awards (Bryan)
DESCRIPTION:
URL:https://kwhi.com/event/brazos-valley-educators-awards-bryan-2/
LOCATION:The ICE HOUSE\, 800 N Main Street\, Bryan\, TX\, 77803\, United States
CATEGORIES:Bulletin Board
ATTACH;FMTTYPE=image/jpeg:https://kwhi.com/wp-content/uploads/2026/03/bv-educators-jun-5.jpg
END:VEVENT
BEGIN:VEVENT
DTSTART;VALUE=DATE:20260606
DTEND;VALUE=DATE:20260607
DTSTAMP:20260423T173506
CREATED:20260415T210547Z
LAST-MODIFIED:20260415T210547Z
UID:374760-1780704000-1780790399@kwhi.com
SUMMARY:Austin County Home-Grown Vegetable Contest
DESCRIPTION:
URL:https://kwhi.com/event/austin-county-home-grown-vegetable-contest-2/
LOCATION:TX
CATEGORIES:Bulletin Board
ATTACH;FMTTYPE=image/png:https://kwhi.com/wp-content/uploads/2026/04/home-grown-vege-contest-june-6.png
END:VEVENT
BEGIN:VEVENT
DTSTART;VALUE=DATE:20260606
DTEND;VALUE=DATE:20260608
DTSTAMP:20260423T173506
CREATED:20260421T192345Z
LAST-MODIFIED:20260421T192503Z
UID:375187-1780704000-1780876799@kwhi.com
SUMMARY:Amateur (Ham) Radio Technician License Class Offered (Brenham)
DESCRIPTION:REGISTER BY MAY 30th
URL:https://kwhi.com/event/amateur-ham-radio-technician-license-class-offered/
LOCATION:TX
ATTACH;FMTTYPE=image/jpeg:https://kwhi.com/wp-content/uploads/2026/04/Washington-Co-ARC-Tech-Class-Flyer-June-2026-1.jpg
END:VEVENT
BEGIN:VEVENT
DTSTART;VALUE=DATE:20260607
DTEND;VALUE=DATE:20260608
DTSTAMP:20260423T173506
CREATED:20260422T145217Z
LAST-MODIFIED:20260422T145217Z
UID:375218-1780790400-1780876799@kwhi.com
SUMMARY:WCJA Juneteenth Musical (Brenham)
DESCRIPTION:
URL:https://kwhi.com/event/wcja-juneteenth-musical-brenham/
LOCATION:New Life Church of God (Brenham)\, 1990 Farm to Market 389\, Brenham\, TX\, 77833\, United States
CATEGORIES:Bulletin Board
ATTACH;FMTTYPE=image/jpeg:https://kwhi.com/wp-content/uploads/2026/04/juneteenth-brenham.jpg
END:VEVENT
BEGIN:VEVENT
DTSTART;TZID=America/Chicago:20260607T090000
DTEND;TZID=America/Chicago:20260607T150000
DTSTAMP:20260423T173506
CREATED:20260126T165758Z
LAST-MODIFIED:20260126T165758Z
UID:367640-1780822800-1780844400@kwhi.com
SUMMARY:Farmers' & Artisan Market (Somerville)
DESCRIPTION:
URL:https://kwhi.com/event/farmers-artisan-market-somerville-5/
LOCATION:Downtown Somerville\, TX\, 77879\, United States
CATEGORIES:Bulletin Board
ATTACH;FMTTYPE=image/jpeg:https://kwhi.com/wp-content/uploads/2026/01/somerville-farmers-artisan-market-2026.jpg
END:VEVENT
BEGIN:VEVENT
DTSTART;VALUE=DATE:20260610
DTEND;VALUE=DATE:20260611
DTSTAMP:20260423T173506
CREATED:20260106T221002Z
LAST-MODIFIED:20260106T221002Z
UID:366234-1781049600-1781135999@kwhi.com
SUMMARY:See A Child Riding Unrestrained? Help Us Keep Kids Safe!
DESCRIPTION:
URL:https://kwhi.com/event/see-a-child-riding-unrestrained-help-us-keep-kids-safe-3/
LOCATION:TX
CATEGORIES:Bulletin Board
ATTACH;FMTTYPE=image/jpeg:https://kwhi.com/wp-content/uploads/2026/01/see-a-child-end-dec-2026.jpg
END:VEVENT
BEGIN:VEVENT
DTSTART;TZID=America/Chicago:20260611T100000
DTEND;TZID=America/Chicago:20260611T113000
DTSTAMP:20260423T173506
CREATED:20251212T145342Z
LAST-MODIFIED:20251212T145342Z
UID:364813-1781172000-1781177400@kwhi.com
SUMMARY:Grimes Mobile Pantry (Navasota)
DESCRIPTION:
URL:https://kwhi.com/event/grimes-mobile-pantry-navasota-6/
LOCATION:Grimes County Expo\, 5220 FM 3455 Rd.\, Navasota\, TX\, 77868\, United States
CATEGORIES:Bulletin Board
ATTACH;FMTTYPE=image/jpeg:https://kwhi.com/wp-content/uploads/2025/12/grimes-mobil-pantry-2026.jpg
END:VEVENT
END:VCALENDAR