BEGIN:VCALENDAR
VERSION:2.0
PRODID:-//KWHI.com - ECPv6.15.17.1//NONSGML v1.0//EN
CALSCALE:GREGORIAN
METHOD:PUBLISH
X-ORIGINAL-URL:https://kwhi.com
X-WR-CALDESC:Events for KWHI.com
REFRESH-INTERVAL;VALUE=DURATION:PT1H
X-Robots-Tag:noindex
X-PUBLISHED-TTL:PT1H
BEGIN:VTIMEZONE
TZID:America/Chicago
BEGIN:DAYLIGHT
TZOFFSETFROM:-0600
TZOFFSETTO:-0500
TZNAME:CDT
DTSTART:20240310T080000
END:DAYLIGHT
BEGIN:STANDARD
TZOFFSETFROM:-0500
TZOFFSETTO:-0600
TZNAME:CST
DTSTART:20241103T070000
END:STANDARD
BEGIN:DAYLIGHT
TZOFFSETFROM:-0600
TZOFFSETTO:-0500
TZNAME:CDT
DTSTART:20250309T080000
END:DAYLIGHT
BEGIN:STANDARD
TZOFFSETFROM:-0500
TZOFFSETTO:-0600
TZNAME:CST
DTSTART:20251102T070000
END:STANDARD
BEGIN:DAYLIGHT
TZOFFSETFROM:-0600
TZOFFSETTO:-0500
TZNAME:CDT
DTSTART:20260308T080000
END:DAYLIGHT
BEGIN:STANDARD
TZOFFSETFROM:-0500
TZOFFSETTO:-0600
TZNAME:CST
DTSTART:20261101T070000
END:STANDARD
END:VTIMEZONE
BEGIN:VEVENT
DTSTART;VALUE=DATE:20250301
DTEND;VALUE=DATE:20250416
DTSTAMP:20260420T100123
CREATED:20250213T160312Z
LAST-MODIFIED:20250213T160312Z
UID:342577-1740787200-1744761599@kwhi.com
SUMMARY:Calling All Graduating Washington County Senior 4-H Members
DESCRIPTION:
URL:https://kwhi.com/event/calling-all-graduating-washington-county-senior-4-h-members/
LOCATION:TX
CATEGORIES:Bulletin Board
ATTACH;FMTTYPE=image/jpeg:https://kwhi.com/wp-content/uploads/2025/02/sr-4h-members.jpg
END:VEVENT
BEGIN:VEVENT
DTSTART;VALUE=DATE:20250312
DTEND;VALUE=DATE:20250413
DTSTAMP:20260420T100123
CREATED:20250312T191559Z
LAST-MODIFIED:20250312T191559Z
UID:344823-1741737600-1744502399@kwhi.com
SUMMARY:Faith Mission Cannery Center Capital Campaign in Progress (Brenham)
DESCRIPTION:
URL:https://kwhi.com/event/faith-mission-cannery-center-capital-campaign-in-progress-brenham/
LOCATION:TX
CATEGORIES:Bulletin Board
ATTACH;FMTTYPE=image/jpeg:https://kwhi.com/wp-content/uploads/2025/03/capital-campaign-cannery-kitchen.jpeg
END:VEVENT
BEGIN:VEVENT
DTSTART;VALUE=DATE:20250404
DTEND;VALUE=DATE:20250501
DTSTAMP:20260420T100123
CREATED:20250404T132949Z
LAST-MODIFIED:20250404T132949Z
UID:346453-1743724800-1746057599@kwhi.com
SUMMARY:Downtown Brenham's Peanut Butter & JAM Drive
DESCRIPTION:Here’s where YOU come in: Swing by a participating Downtown Brenham business and drop off unopened peanut butter and/or JAM. Every jar you donate helps create a yummy sandwich—and ensures a child gets a nutritious meal! \nBut wait\, there’s more! It’s a 𝐏𝐁 & 𝐉𝐀𝐌 showdown! Our Downtown businesses are battling it out to see who can stack up the most donations and claim the title of 𝐏𝐁 & 𝐉𝐀𝐌 Champ (plus a tasty lunch prize). Donate to your fav and help them win! 
URL:https://kwhi.com/event/downtown-brenhams-peanut-butter-jam-drive-2/
LOCATION:Downtown Brenham\, Brenham\, TX\, 77833\, United States
CATEGORIES:Bulletin Board
ATTACH;FMTTYPE=image/jpeg:https://kwhi.com/wp-content/uploads/2025/04/pb-and-jam.jpg
END:VEVENT
BEGIN:VEVENT
DTSTART;VALUE=DATE:20250404
DTEND;VALUE=DATE:20250504
DTSTAMP:20260420T100123
CREATED:20250404T135420Z
LAST-MODIFIED:20250404T135420Z
UID:346456-1743724800-1746316799@kwhi.com
SUMMARY:Washington Co. Juneteenth Registration Open Now (Brenham)
DESCRIPTION:Please see any WCJA member for registration applications.
URL:https://kwhi.com/event/washington-co-juneteenth-registration-open-now-brenham/
LOCATION:TX
CATEGORIES:Bulletin Board
ATTACH;FMTTYPE=image/jpeg:https://kwhi.com/wp-content/uploads/2025/04/juneteenth-registration-end-may-3.jpg
END:VEVENT
BEGIN:VEVENT
DTSTART;VALUE=DATE:20250411
DTEND;VALUE=DATE:20250413
DTSTAMP:20260420T100123
CREATED:20250411T180437Z
LAST-MODIFIED:20250411T180437Z
UID:347123-1744329600-1744502399@kwhi.com
SUMMARY:Area 6 Special Olympics Spring Games (College Station)
DESCRIPTION:
URL:https://kwhi.com/event/area-6-special-olympics-spring-games-college-station/
LOCATION:College Station High School\, 4002 Victoria Ave\, College Station\, TX\, 77845\, United States
CATEGORIES:Bulletin Board
ATTACH;FMTTYPE=image/jpeg:https://kwhi.com/wp-content/uploads/2025/04/spring-fest-apr-11-12.jpg
END:VEVENT
BEGIN:VEVENT
DTSTART;VALUE=DATE:20250411
DTEND;VALUE=DATE:20250414
DTSTAMP:20260420T100123
CREATED:20250407T200713Z
LAST-MODIFIED:20250407T200713Z
UID:346696-1744329600-1744588799@kwhi.com
SUMMARY:First Bellville Players Dinner Theater
DESCRIPTION:
URL:https://kwhi.com/event/first-bellville-players-dinner-theater/
LOCATION:First Baptist Church Bellville\, 504 East Strauss Street\, Bellville\, TX\, 77418\, United States
CATEGORIES:Bulletin Board
ATTACH;FMTTYPE=image/jpeg:https://kwhi.com/wp-content/uploads/2025/04/first-bellville-players-apr-11-12-13.jpg
END:VEVENT
BEGIN:VEVENT
DTSTART;VALUE=DATE:20250412
DTEND;VALUE=DATE:20250413
DTSTAMP:20260420T100123
CREATED:20250214T181716Z
LAST-MODIFIED:20250214T181716Z
UID:342750-1744416000-1744502399@kwhi.com
SUMMARY:Colorado County Fair Association Shrimp Boil (Columbus)
DESCRIPTION:
URL:https://kwhi.com/event/colorado-county-fair-association-shrimp-boil-columbus/
LOCATION:Colorado County Fairgrounds\, 1146 Crossroads Blvd.\, Columbus\, TX\, 78934\, United States
CATEGORIES:Bulletin Board
ATTACH;FMTTYPE=image/jpeg:https://kwhi.com/wp-content/uploads/2025/02/shrimp-boil-apr-12.jpg
END:VEVENT
BEGIN:VEVENT
DTSTART;VALUE=DATE:20250412
DTEND;VALUE=DATE:20250413
DTSTAMP:20260420T100123
CREATED:20250303T202743Z
LAST-MODIFIED:20250401T142027Z
UID:344103-1744416000-1744502399@kwhi.com
SUMMARY:A.R. Pickard H.S. Reunion Association Scholarship Banquet (Brenham)
DESCRIPTION:TICKETS ON SALE NOW!  CONTACT ANY MEMBER OF THE A.R. PICKARD H.S. REUNION ASSOCIATION TO PURCHASE TICKETS.
URL:https://kwhi.com/event/a-r-pickard-h-s-reunion-association-scholarship-banquet-brenham/
LOCATION:Blinn College Banquet Room\, 902 College Avenue\, Brenham\, TX\, 77833\, United States
CATEGORIES:Bulletin Board
ATTACH;FMTTYPE=image/jpeg:https://kwhi.com/wp-content/uploads/2025/03/a-r-pickard-hs-reunion-assoc-new-flyer.jpg
END:VEVENT
BEGIN:VEVENT
DTSTART;VALUE=DATE:20250412
DTEND;VALUE=DATE:20250413
DTSTAMP:20260420T100123
CREATED:20250321T213712Z
LAST-MODIFIED:20250321T213712Z
UID:345434-1744416000-1744502399@kwhi.com
SUMMARY:Public Forum featuring School Board and City Council Candidates (Brenham)
DESCRIPTION:
URL:https://kwhi.com/event/public-forum-featuring-school-board-and-city-council-candidates-brenham/
LOCATION:Cannery Kitchen\, 314 East Alamo\, Brenham\, TX\, 77833\, United States
CATEGORIES:Bulletin Board
ATTACH;FMTTYPE=image/png:https://kwhi.com/wp-content/uploads/2025/03/school-board-city-council-forum.png
END:VEVENT
BEGIN:VEVENT
DTSTART;VALUE=DATE:20250412
DTEND;VALUE=DATE:20250413
DTSTAMP:20260420T100123
CREATED:20250325T194440Z
LAST-MODIFIED:20250325T194440Z
UID:345654-1744416000-1744502399@kwhi.com
SUMMARY:Building Fund Benefit Program for Mercy Seat Baptist Church
DESCRIPTION:Our current sanctuary has deteriorated\, and we are moving forward with constructing a new one (17263 FM 912) in Washington TX.  The new church will not simply be another building.  It will be the community’s church where everyone is welcome.
URL:https://kwhi.com/event/building-fund-benefit-program-for-mercy-seat-baptist-church/
LOCATION:Mt. Rose Missionary Baptist Church (Brenham)\, 204 Kerr Street\, Brenham\, TX\, 77833\, United States
CATEGORIES:Bulletin Board
ATTACH;FMTTYPE=image/jpeg:https://kwhi.com/wp-content/uploads/2025/03/all-the-way.jpg
END:VEVENT
BEGIN:VEVENT
DTSTART;VALUE=DATE:20250412
DTEND;VALUE=DATE:20250413
DTSTAMP:20260420T100123
CREATED:20250401T141213Z
LAST-MODIFIED:20250401T141213Z
UID:346173-1744416000-1744502399@kwhi.com
SUMMARY:New Hope MBC Pre-Choir Musical (Gay Hill)
DESCRIPTION:
URL:https://kwhi.com/event/new-hope-mbc-pre-choir-musical-gay-hill/
LOCATION:New Hope Missionary Baptist Church (Gay Hill)\, 805 FM 390 West\, Brenham\, TX\, 77833\, United States
CATEGORIES:Bulletin Board
ATTACH;FMTTYPE=image/jpeg:https://kwhi.com/wp-content/uploads/2025/04/pre-choir-musical-apr-12.jpg
END:VEVENT
BEGIN:VEVENT
DTSTART;VALUE=DATE:20250412
DTEND;VALUE=DATE:20250413
DTSTAMP:20260420T100123
CREATED:20250401T184653Z
LAST-MODIFIED:20250401T184653Z
UID:346247-1744416000-1744502399@kwhi.com
SUMMARY:Lee Scott Masonic Lodge #793 Turkey Shoot & Gun Drawing (Somerville)
DESCRIPTION:
URL:https://kwhi.com/event/lee-scott-masonic-lodge-793-turkey-shoot-gun-drawing-somerville/
LOCATION:American Legion Hall Somerville\, 517 8th Street\, Somerville\, 77879\, United States
CATEGORIES:Bulletin Board
ATTACH;FMTTYPE=image/jpeg:https://kwhi.com/wp-content/uploads/2025/04/turkey-shoot-gun-drawing-apr-12.jpg
END:VEVENT
BEGIN:VEVENT
DTSTART;VALUE=DATE:20250412
DTEND;VALUE=DATE:20250413
DTSTAMP:20260420T100123
CREATED:20250402T135125Z
LAST-MODIFIED:20250402T135125Z
UID:346312-1744416000-1744502399@kwhi.com
SUMMARY:Brenham HS Class of 1985 Reunion Planning Meeting
DESCRIPTION:Brenham high class of 1985 will hold a planning meeting on Saturday\, April 12 to organize their 40th class reunion at 30 North Gastro Pub starting at 4 PM\, for more info visit the FB page Brenham high school class of 1985 40-year class reunion or call or text Stacey Schulte Walters\, 979 277-2244 or Brian Gaskamp\, 979 661-5026
URL:https://kwhi.com/event/brenham-hs-class-of-1985-reunion-planning-meeting/
LOCATION:30 North Gastropub\, 302 E Alamo Street\, Brenham\, TX\, 77833\, United States
CATEGORIES:Bulletin Board
ATTACH;FMTTYPE=image/png:https://kwhi.com/wp-content/uploads/2025/04/psa.png
END:VEVENT
BEGIN:VEVENT
DTSTART;VALUE=DATE:20250412
DTEND;VALUE=DATE:20250414
DTSTAMP:20260420T100123
CREATED:20250331T193807Z
LAST-MODIFIED:20250331T193807Z
UID:346125-1744416000-1744588799@kwhi.com
SUMMARY:Chappell Hill Bluebonnet Festival Entertainment Lineup
DESCRIPTION:
URL:https://kwhi.com/event/chappell-hill-bluebonnet-festival-entertainment-lineup/
LOCATION:Downtown Chappell Hill\, Main Street\, Chappell Hill\, TX\, 77426\, United States
CATEGORIES:Bulletin Board
ATTACH;FMTTYPE=image/png:https://kwhi.com/wp-content/uploads/2025/03/bb-festival-schedule-apr-12-13.png
END:VEVENT
BEGIN:VEVENT
DTSTART;TZID=America/Chicago:20250412T080000
DTEND;TZID=America/Chicago:20250412T160000
DTSTAMP:20260420T100123
CREATED:20250328T181627Z
LAST-MODIFIED:20250328T181627Z
UID:345949-1744444800-1744473600@kwhi.com
SUMMARY:Texas Czech Genealogical Society presents Czech Family Origins (Caldwell)
DESCRIPTION:
URL:https://kwhi.com/event/texas-czech-genealogical-society-presents-czech-family-origins-caldwell/
LOCATION:Caldwell Civic and Visitor Center\, 103 TX 21 West\, Caldwell\, TX\, 77836\, United States
CATEGORIES:Bulletin Board
ATTACH;FMTTYPE=image/jpeg:https://kwhi.com/wp-content/uploads/2025/03/czech-family-orgins-apr-12.jpg
END:VEVENT
BEGIN:VEVENT
DTSTART;TZID=America/Chicago:20250412T090000
DTEND;TZID=America/Chicago:20250412T143000
DTSTAMP:20260420T100123
CREATED:20250116T144545Z
LAST-MODIFIED:20250116T144545Z
UID:340451-1744448400-1744468200@kwhi.com
SUMMARY:Gals of Grace-Spring Craft Show (Caldwell)
DESCRIPTION:
URL:https://kwhi.com/event/gals-of-grace-spring-craft-show-caldwell/
LOCATION:Burleson County Cowboy Church (Caldwell)\, 300 County Road 169\, Caldwell\, TX\, 77836\, United States
CATEGORIES:Bulletin Board
ATTACH;FMTTYPE=image/jpeg:https://kwhi.com/wp-content/uploads/2025/01/spring-craft-show-apr.jpg
END:VEVENT
BEGIN:VEVENT
DTSTART;TZID=America/Chicago:20250412T100000
DTEND;TZID=America/Chicago:20250412T130000
DTSTAMP:20260420T100123
CREATED:20250404T192246Z
LAST-MODIFIED:20250404T192246Z
UID:346515-1744452000-1744462800@kwhi.com
SUMMARY:Hildebrandt Meat Market's annual Egg Drop (Lexington)
DESCRIPTION:
URL:https://kwhi.com/event/hildebrandt-meat-markets-annual-egg-drop-lexington/
LOCATION:Lexington City Park\, 9035 US-77\, Lexington\, TX\, 78947\, United States
CATEGORIES:Bulletin Board
ATTACH;FMTTYPE=image/jpeg:https://kwhi.com/wp-content/uploads/2025/03/HildebrandtMeatMarketEasterEggDrop4-12-25Flyer.jpg
END:VEVENT
BEGIN:VEVENT
DTSTART;TZID=America/Chicago:20250412T100000
DTEND;TZID=America/Chicago:20250412T130000
DTSTAMP:20260420T100123
CREATED:20250408T193440Z
LAST-MODIFIED:20250408T193440Z
UID:346828-1744452000-1744462800@kwhi.com
SUMMARY:Youth Collective (Brenham)
DESCRIPTION:
URL:https://kwhi.com/event/youth-collective-brenham/
LOCATION:Brenham High School\, 525 A.H. Ehrig\, Brenham\, TX\, 77835\, United States
CATEGORIES:Bulletin Board
ATTACH;FMTTYPE=image/jpeg:https://kwhi.com/wp-content/uploads/2025/04/youth-collective-apr-12.jpg
END:VEVENT
BEGIN:VEVENT
DTSTART;TZID=America/Chicago:20250315T110000
DTEND;TZID=America/Chicago:20250315T160000
DTSTAMP:20260420T100123
CREATED:20250312T195335Z
LAST-MODIFIED:20250312T195335Z
UID:344832-1742036400-1742054400@kwhi.com
SUMMARY:Flying Horses Antique Carousel Open to the Public on Weekends (Brenham)
DESCRIPTION:antique
URL:https://kwhi.com/event/flying-horses-antique-carousel-open-to-the-public-on-weekends-brenham/
LOCATION:City of Brenham Fireman’s Park\, 901 N. Park Street\, Brenham\, TX\, 77833\, United States
CATEGORIES:Bulletin Board
ATTACH;FMTTYPE=image/jpeg:https://kwhi.com/wp-content/uploads/2025/03/antique-carousel-2025.jpg
END:VEVENT
BEGIN:VEVENT
DTSTART;TZID=America/Chicago:20250412T130000
DTEND;TZID=America/Chicago:20250412T150000
DTSTAMP:20260420T100123
CREATED:20250407T145319Z
LAST-MODIFIED:20250407T145319Z
UID:346615-1744462800-1744470000@kwhi.com
SUMMARY:BRENHAM CUB BASEBALL
DESCRIPTION:The Brenham Cub Baseball Team has a non-district road. The game is against Cy Woods High School on Saturday\, April 11\, at 1pm. KWHI will be there to broadcast live beginning  at 12:35pm.
URL:https://kwhi.com/event/brenham-cub-baseball-59/
LOCATION:Cypress Woods High School\, TX\, United States
CATEGORIES:Sports Events
ATTACH;FMTTYPE=image/jpeg:https://kwhi.com/wp-content/uploads/2025/02/Cub-Baseball-Feature-6.jpg
END:VEVENT
BEGIN:VEVENT
DTSTART;TZID=America/Chicago:20250412T140000
DTEND;TZID=America/Chicago:20250412T170000
DTSTAMP:20260420T100123
CREATED:20250324T205140Z
LAST-MODIFIED:20250324T205140Z
UID:345578-1744466400-1744477200@kwhi.com
SUMMARY:Pre-Easter Worship-Egg Hunt & Health Fair (Washington)
DESCRIPTION:
URL:https://kwhi.com/event/pre-easter-worship-egg-hunt-health-fair-washington/
LOCATION:Washington on the Brazos State Historic Site\, 23400 Park Road 12\, Washington\, TX\, 77880\, United States
CATEGORIES:Bulletin Board
ATTACH;FMTTYPE=image/jpeg:https://kwhi.com/wp-content/uploads/2025/03/comm-wide-egg-hunt-health-fair-apr-12.jpg
END:VEVENT
BEGIN:VEVENT
DTSTART;TZID=America/Chicago:20250412T140000
DTEND;TZID=America/Chicago:20250412T190000
DTSTAMP:20260420T100123
CREATED:20250407T160840Z
LAST-MODIFIED:20250407T160840Z
UID:346643-1744466400-1744484400@kwhi.com
SUMMARY:BLINN BUCCANEER SOFTBALL
DESCRIPTION:The Blinn Buccaneer Softball Team will be traveling to Angelina College for a Region XIV Conference doubleheader on Saturday\, April 12\, at 2pm.
URL:https://kwhi.com/event/blinn-buccaneer-softball-69/
LOCATION:Angelina College\, 3500 S 1st St\, Angelina\, TX\, 75904\, United States
CATEGORIES:Sports Events
ATTACH;FMTTYPE=image/jpeg:https://kwhi.com/wp-content/uploads/2025/03/Blinn-Softball-Feature-22.jpg
END:VEVENT
BEGIN:VEVENT
DTSTART;TZID=America/Chicago:20250412T140000
DTEND;TZID=America/Chicago:20250412T193000
DTSTAMP:20260420T100123
CREATED:20250407T162011Z
LAST-MODIFIED:20250407T162011Z
UID:346649-1744466400-1744486200@kwhi.com
SUMMARY:BLINN BUCCANEER BASEBALL
DESCRIPTION:The Blinn Buccaneer Baseball Team will be traveling to San Jacinto College for a Region XIV Conference doubleheader on Saturday. First pitch is scheduled for 2pm.
URL:https://kwhi.com/event/blinn-buccaneer-baseball-74/
LOCATION:San Jacinto College – North\, 5800 Uvalde\, Houston\, TX\, 77049\, United States
CATEGORIES:Sports Events
ATTACH;FMTTYPE=image/jpeg:https://kwhi.com/wp-content/uploads/2025/04/Blinn-Baseball-Feature-41-1.jpg
END:VEVENT
BEGIN:VEVENT
DTSTART;TZID=America/Chicago:20250412T160000
DTEND;TZID=America/Chicago:20250412T220000
DTSTAMP:20260420T100123
CREATED:20250409T183100Z
LAST-MODIFIED:20250409T183100Z
UID:346932-1744473600-1744495200@kwhi.com
SUMMARY:Relay For Life Brazos Valley (Bryan)
DESCRIPTION:
URL:https://kwhi.com/event/relay-for-life-brazos-valley-bryan/
LOCATION:Davila Middle School (Bryan)\, 2751 N. Earl Rudder Fwy.\, Bryan\, TX\, 77803\, United States
CATEGORIES:Bulletin Board
ATTACH;FMTTYPE=image/jpeg:https://kwhi.com/wp-content/uploads/2025/04/RFL-bv.jpg
END:VEVENT
BEGIN:VEVENT
DTSTART;VALUE=DATE:20250413
DTEND;VALUE=DATE:20250414
DTSTAMP:20260420T100123
CREATED:20250328T181944Z
LAST-MODIFIED:20250328T181944Z
UID:345952-1744502400-1744588799@kwhi.com
SUMMARY:West End Historical Society Meeting (Industry)
DESCRIPTION:The West End Historical Society will be meet\, Sunday April 13th at 2pm at the Historical Building in Industry.  The speaker for this meeting will be Jay Kasper from Shiner.  Mr. Kasper has been collecting antique bottles for 55 years and buys and sells antique bottles at a variety of shows in Texas and other states.  Mr. Kasper will present a program on bottle collecting in general and list the bottling plants from the West End Area.  The public is invited to attend and if you have any antique bottles\, you are encouraged to bring them along.
URL:https://kwhi.com/event/west-end-historical-society-meeting-industry/
LOCATION:West End Historical Society Building\, 9021 FM 109\, Industry\, TX\, 78944\, United States
CATEGORIES:Bulletin Board
ATTACH;FMTTYPE=image/jpeg:https://kwhi.com/wp-content/uploads/2025/03/west-end-historical-society.jpg
END:VEVENT
BEGIN:VEVENT
DTSTART;VALUE=DATE:20250413
DTEND;VALUE=DATE:20250414
DTSTAMP:20260420T100123
CREATED:20250407T194350Z
LAST-MODIFIED:20250407T194350Z
UID:346668-1744502400-1744588799@kwhi.com
SUMMARY:Choir Annual Evening (Gay Hill)
DESCRIPTION:
URL:https://kwhi.com/event/choir-annual-evening-gay-hill/
LOCATION:New Hope Missionary Baptist Church (Gay Hill)\, 805 FM 390 West\, Brenham\, TX\, 77833\, United States
CATEGORIES:Bulletin Board
ATTACH;FMTTYPE=image/jpeg:https://kwhi.com/wp-content/uploads/2025/04/choir-annual-apr-13.jpg
END:VEVENT
BEGIN:VEVENT
DTSTART;TZID=America/Chicago:20250413T110000
DTEND;TZID=America/Chicago:20250413T130000
DTSTAMP:20260420T100123
CREATED:20250319T210920Z
LAST-MODIFIED:20250319T210920Z
UID:345289-1744542000-1744549200@kwhi.com
SUMMARY:Sons of The American Legion BBQ Drive-Thru (Burton)
DESCRIPTION:
URL:https://kwhi.com/event/sons-of-the-american-legion-bbq-drive-thru-burton/
LOCATION:Burton American Legion Hall\, 13100 W. Washington Street\, Burton\, TX\, 77835\, United States
CATEGORIES:Bulletin Board
ATTACH;FMTTYPE=image/jpeg:https://kwhi.com/wp-content/uploads/2025/03/sons-of-american-leg-drive-thru-apr-13.jpg
END:VEVENT
BEGIN:VEVENT
DTSTART;TZID=America/Chicago:20250316T130000
DTEND;TZID=America/Chicago:20250316T160000
DTSTAMP:20260420T100123
CREATED:20250312T195636Z
LAST-MODIFIED:20250312T195636Z
UID:344838-1742130000-1742140800@kwhi.com
SUMMARY:Flying Horses Antique Carousel Open to the Public on Weekends (Brenham)
DESCRIPTION:
URL:https://kwhi.com/event/flying-horses-antique-carousel-open-to-the-public-on-weekends-brenham-2/
LOCATION:City of Brenham Fireman’s Park\, 901 N. Park Street\, Brenham\, TX\, 77833\, United States
CATEGORIES:Bulletin Board
ATTACH;FMTTYPE=image/jpeg:https://kwhi.com/wp-content/uploads/2025/03/antique-carousel-2025.jpg
END:VEVENT
BEGIN:VEVENT
DTSTART;TZID=America/Chicago:20250413T150000
DTEND;TZID=America/Chicago:20250413T200000
DTSTAMP:20260420T100123
CREATED:20250226T193655Z
LAST-MODIFIED:20250226T193655Z
UID:343629-1744556400-1744574400@kwhi.com
SUMMARY:Easter Egg Hunt in Honor of Childhood Cancer (College Station)
DESCRIPTION:
URL:https://kwhi.com/event/easter-egg-hunt-in-honor-of-childhood-cancer-college-station/
LOCATION:W.A. Tarrow Park-Southgate\, 900 Monte Claire Ave.\, College Station\, TX\, 77840\, United States
CATEGORIES:Bulletin Board
ATTACH;FMTTYPE=image/jpeg:https://kwhi.com/wp-content/uploads/2025/02/egg-hunt-cs-apr-13.jpg
END:VEVENT
BEGIN:VEVENT
DTSTART;VALUE=DATE:20250407
DTEND;VALUE=DATE:20250408
DTSTAMP:20260420T100123
CREATED:20250331T141249Z
LAST-MODIFIED:20250331T141249Z
UID:346065-1743984000-1744070399@kwhi.com
SUMMARY:Scouting Washington County Temporary Exhibit-BHM (Brenham)
DESCRIPTION:
URL:https://kwhi.com/event/scouting-washington-county-temporary-exhibit-bhm-brenham/
LOCATION:Brenham Heritage Museum\, 105 S. Market St. \, Brenham\, TX\, 77833\, United States
CATEGORIES:Bulletin Board
ATTACH;FMTTYPE=image/jpeg:https://kwhi.com/wp-content/uploads/2025/03/scouting-till-june-21.jpg
END:VEVENT
END:VCALENDAR