BEGIN:VCALENDAR
VERSION:2.0
PRODID:-//KWHI.com - ECPv6.15.17.1//NONSGML v1.0//EN
CALSCALE:GREGORIAN
METHOD:PUBLISH
X-ORIGINAL-URL:https://kwhi.com
X-WR-CALDESC:Events for KWHI.com
REFRESH-INTERVAL;VALUE=DURATION:PT1H
X-Robots-Tag:noindex
X-PUBLISHED-TTL:PT1H
BEGIN:VTIMEZONE
TZID:America/Chicago
BEGIN:DAYLIGHT
TZOFFSETFROM:-0600
TZOFFSETTO:-0500
TZNAME:CDT
DTSTART:20240310T080000
END:DAYLIGHT
BEGIN:STANDARD
TZOFFSETFROM:-0500
TZOFFSETTO:-0600
TZNAME:CST
DTSTART:20241103T070000
END:STANDARD
BEGIN:DAYLIGHT
TZOFFSETFROM:-0600
TZOFFSETTO:-0500
TZNAME:CDT
DTSTART:20250309T080000
END:DAYLIGHT
BEGIN:STANDARD
TZOFFSETFROM:-0500
TZOFFSETTO:-0600
TZNAME:CST
DTSTART:20251102T070000
END:STANDARD
BEGIN:DAYLIGHT
TZOFFSETFROM:-0600
TZOFFSETTO:-0500
TZNAME:CDT
DTSTART:20260308T080000
END:DAYLIGHT
BEGIN:STANDARD
TZOFFSETFROM:-0500
TZOFFSETTO:-0600
TZNAME:CST
DTSTART:20261101T070000
END:STANDARD
END:VTIMEZONE
BEGIN:VEVENT
DTSTART;VALUE=DATE:20250301
DTEND;VALUE=DATE:20250416
DTSTAMP:20260420T030658
CREATED:20250213T160312Z
LAST-MODIFIED:20250213T160312Z
UID:342577-1740787200-1744761599@kwhi.com
SUMMARY:Calling All Graduating Washington County Senior 4-H Members
DESCRIPTION:
URL:https://kwhi.com/event/calling-all-graduating-washington-county-senior-4-h-members/
LOCATION:TX
CATEGORIES:Bulletin Board
ATTACH;FMTTYPE=image/jpeg:https://kwhi.com/wp-content/uploads/2025/02/sr-4h-members.jpg
END:VEVENT
BEGIN:VEVENT
DTSTART;VALUE=DATE:20250404
DTEND;VALUE=DATE:20250501
DTSTAMP:20260420T030658
CREATED:20250404T132949Z
LAST-MODIFIED:20250404T132949Z
UID:346453-1743724800-1746057599@kwhi.com
SUMMARY:Downtown Brenham's Peanut Butter & JAM Drive
DESCRIPTION:Here’s where YOU come in: Swing by a participating Downtown Brenham business and drop off unopened peanut butter and/or JAM. Every jar you donate helps create a yummy sandwich—and ensures a child gets a nutritious meal! \nBut wait\, there’s more! It’s a 𝐏𝐁 & 𝐉𝐀𝐌 showdown! Our Downtown businesses are battling it out to see who can stack up the most donations and claim the title of 𝐏𝐁 & 𝐉𝐀𝐌 Champ (plus a tasty lunch prize). Donate to your fav and help them win! 
URL:https://kwhi.com/event/downtown-brenhams-peanut-butter-jam-drive-2/
LOCATION:Downtown Brenham\, Brenham\, TX\, 77833\, United States
CATEGORIES:Bulletin Board
ATTACH;FMTTYPE=image/jpeg:https://kwhi.com/wp-content/uploads/2025/04/pb-and-jam.jpg
END:VEVENT
BEGIN:VEVENT
DTSTART;VALUE=DATE:20250404
DTEND;VALUE=DATE:20250504
DTSTAMP:20260420T030658
CREATED:20250404T135420Z
LAST-MODIFIED:20250404T135420Z
UID:346456-1743724800-1746316799@kwhi.com
SUMMARY:Washington Co. Juneteenth Registration Open Now (Brenham)
DESCRIPTION:Please see any WCJA member for registration applications.
URL:https://kwhi.com/event/washington-co-juneteenth-registration-open-now-brenham/
LOCATION:TX
CATEGORIES:Bulletin Board
ATTACH;FMTTYPE=image/jpeg:https://kwhi.com/wp-content/uploads/2025/04/juneteenth-registration-end-may-3.jpg
END:VEVENT
BEGIN:VEVENT
DTSTART;VALUE=DATE:20250415
DTEND;VALUE=DATE:20250416
DTSTAMP:20260420T030658
CREATED:20250326T202209Z
LAST-MODIFIED:20250326T202209Z
UID:345795-1744675200-1744761599@kwhi.com
SUMMARY:Congenital Heart Defects Program Series (Brenham)
DESCRIPTION:
URL:https://kwhi.com/event/congenital-heart-defects-program-series-brenham-2/
LOCATION:Margaret E. Blizzard Senior Activity Center\, 1301 East Tom Green\, Brenham\, TX\, 77833\, United States
CATEGORIES:Bulletin Board
ATTACH;FMTTYPE=image/jpeg:https://kwhi.com/wp-content/uploads/2025/03/congenital-heart-defects-apr-1-15-29.jpg
END:VEVENT
BEGIN:VEVENT
DTSTART;VALUE=DATE:20250415
DTEND;VALUE=DATE:20250416
DTSTAMP:20260420T030658
CREATED:20250402T145449Z
LAST-MODIFIED:20250402T145449Z
UID:346337-1744675200-1744761599@kwhi.com
SUMMARY:Ladies Salad Supper at Brenham Elks Lodge
DESCRIPTION:
URL:https://kwhi.com/event/ladies-salad-supper-at-brenham-elks-lodge/
LOCATION:Brenham Elks Lodge\, 400 E. Germania\, Brenham\, TX\, 77833\, United States
CATEGORIES:Bulletin Board
ATTACH;FMTTYPE=image/jpeg:https://kwhi.com/wp-content/uploads/2025/04/ladies-salad-supper-apr-15.jpg
END:VEVENT
BEGIN:VEVENT
DTSTART;VALUE=DATE:20250415
DTEND;VALUE=DATE:20250427
DTSTAMP:20260420T030658
CREATED:20250303T221721Z
LAST-MODIFIED:20250303T221721Z
UID:344124-1744675200-1745711999@kwhi.com
SUMMARY:The American Revolution Experience Traveling Exhibit (Brenham)
DESCRIPTION:
URL:https://kwhi.com/event/the-american-revolution-experience-traveling-exhibit-brenham/
LOCATION:The Barnhill Center at Historic Simon Theatre\, 111 W. Main\, Brenham\, TX\, 77833\, United States
CATEGORIES:Bulletin Board
ATTACH;FMTTYPE=image/jpeg:https://kwhi.com/wp-content/uploads/2025/03/the-american-revolution-exper-april.jpg
END:VEVENT
BEGIN:VEVENT
DTSTART;TZID=America/Chicago:20250415T120000
DTEND;TZID=America/Chicago:20250415T125500
DTSTAMP:20260420T030658
CREATED:20250310T210711Z
LAST-MODIFIED:20250310T210711Z
UID:344688-1744718400-1744721700@kwhi.com
SUMMARY:Lunch N Learn Series-Spring (Bellville)
DESCRIPTION:
URL:https://kwhi.com/event/lunch-n-learn-series-spring-bellville-2/
LOCATION:Texas A&M AgriLife Extension Service (Austin County)\, 800 East Wendt\, Bellville\, TX\, 77418\, United States
CATEGORIES:Bulletin Board
ATTACH;FMTTYPE=image/jpeg:https://kwhi.com/wp-content/uploads/2025/03/lunch-n-learn-spring-series-feb-mar-apr-may.jpg
END:VEVENT
BEGIN:VEVENT
DTSTART;TZID=America/Chicago:20250415T140000
DTEND;TZID=America/Chicago:20250415T180000
DTSTAMP:20260420T030658
CREATED:20250411T205249Z
LAST-MODIFIED:20250411T205249Z
UID:347141-1744725600-1744740000@kwhi.com
SUMMARY:Valmont Onsite Hiring Event (Brenham)
DESCRIPTION:
URL:https://kwhi.com/event/valmont-onsite-hiring-event-brenham/
LOCATION:Valmont\, 2551 Valmont Dr\, Brenham\, TX\, 77833\, United States
CATEGORIES:Bulletin Board
ATTACH;FMTTYPE=image/png:https://kwhi.com/wp-content/uploads/2025/04/onsite-hiring-event-apr-15.png
END:VEVENT
BEGIN:VEVENT
DTSTART;VALUE=DATE:20250416
DTEND;VALUE=DATE:20250419
DTSTAMP:20260420T030658
CREATED:20250404T135630Z
LAST-MODIFIED:20250404T135630Z
UID:346459-1744761600-1745020799@kwhi.com
SUMMARY:Easter Revival at Mount Rose (Brenham)
DESCRIPTION:
URL:https://kwhi.com/event/easter-revival-at-mount-rose-brenham/
LOCATION:Mt. Rose Missionary Baptist Church (Brenham)\, 204 Kerr Street\, Brenham\, TX\, 77833\, United States
CATEGORIES:Bulletin Board
ATTACH;FMTTYPE=image/jpeg:https://kwhi.com/wp-content/uploads/2025/04/revival-apr-16-17-18.jpg
END:VEVENT
BEGIN:VEVENT
DTSTART;VALUE=DATE:20250417
DTEND;VALUE=DATE:20250418
DTSTAMP:20260420T030658
CREATED:20250407T200151Z
LAST-MODIFIED:20250407T200151Z
UID:346689-1744848000-1744934399@kwhi.com
SUMMARY:Friends of Bluebonnet Opry (Brenham)
DESCRIPTION:
URL:https://kwhi.com/event/friends-of-bluebonnet-opry-brenham-8/
LOCATION:Silver Wings Ballroom\, 4100 Highway 105 \, Brenham\, TX\, 77833\, United States
CATEGORIES:Bulletin Board
ATTACH;FMTTYPE=image/jpeg:https://kwhi.com/wp-content/uploads/2025/04/friends-of-bluebonnet-opry-apr.jpg
END:VEVENT
BEGIN:VEVENT
DTSTART;TZID=America/Chicago:20250417T080000
DTEND;TZID=America/Chicago:20250417T170000
DTSTAMP:20260420T030658
CREATED:20250415T200809Z
LAST-MODIFIED:20250415T200809Z
UID:347487-1744876800-1744909200@kwhi.com
SUMMARY:HANDS OF HOPE A Community of Support Meeting (Brenham)
DESCRIPTION:
URL:https://kwhi.com/event/hands-of-hope-a-community-of-support-meeting-brenham/
LOCATION:Brenham Early Childhood Learning Center\, 304 Kerr Street\, Brenham\, TX\, 77833\, United States
CATEGORIES:Bulletin Board
ATTACH;FMTTYPE=image/jpeg:https://kwhi.com/wp-content/uploads/2025/04/hand-of-hope-apr-17.jpg
END:VEVENT
BEGIN:VEVENT
DTSTART;TZID=America/Chicago:20250417T163000
DTEND;TZID=America/Chicago:20250417T180000
DTSTAMP:20260420T030658
CREATED:20250326T141009Z
LAST-MODIFIED:20250326T141009Z
UID:345720-1744907400-1744912800@kwhi.com
SUMMARY:Brenham HS Class of 2027 Fundraiser
DESCRIPTION:
URL:https://kwhi.com/event/brenham-hs-class-of-2027-fundraiser/
LOCATION:Brenham High School\, 525 A.H. Ehrig\, Brenham\, TX\, 77835\, United States
CATEGORIES:Bulletin Board
ATTACH;FMTTYPE=image/jpeg:https://kwhi.com/wp-content/uploads/2025/03/mac-cheese-fundraiser-apr-17.jpg
END:VEVENT
BEGIN:VEVENT
DTSTART;TZID=America/Chicago:20250417T183000
DTEND;TZID=America/Chicago:20250417T200000
DTSTAMP:20260420T030658
CREATED:20250409T142033Z
LAST-MODIFIED:20250409T142033Z
UID:346896-1744914600-1744920000@kwhi.com
SUMMARY:Brenham ISD Candidate Forum (Washington)
DESCRIPTION:
URL:https://kwhi.com/event/brenham-isd-candidate-forum-washington/
LOCATION:Activity Center (Old School House)\, 20301 FM 1155 E\, Washington\, TX\, 77840\, United States
CATEGORIES:Bulletin Board
ATTACH;FMTTYPE=image/png:https://kwhi.com/wp-content/uploads/2025/04/candidate-forum-apr-10-apr-17.png
END:VEVENT
BEGIN:VEVENT
DTSTART;VALUE=DATE:20250418
DTEND;VALUE=DATE:20250419
DTSTAMP:20260420T030658
CREATED:20250407T195123Z
LAST-MODIFIED:20250407T195123Z
UID:346680-1744934400-1745020799@kwhi.com
SUMMARY:Good Friday Service at First Bellville
DESCRIPTION:
URL:https://kwhi.com/event/good-friday-service-at-first-bellville/
LOCATION:First Baptist Church Bellville\, 504 East Strauss Street\, Bellville\, TX\, 77418\, United States
CATEGORIES:Bulletin Board
ATTACH;FMTTYPE=image/jpeg:https://kwhi.com/wp-content/uploads/2025/04/good-friday-service-first-bell.jpg
END:VEVENT
BEGIN:VEVENT
DTSTART;VALUE=DATE:20250418
DTEND;VALUE=DATE:20250419
DTSTAMP:20260420T030658
CREATED:20250409T141207Z
LAST-MODIFIED:20250409T141207Z
UID:346881-1744934400-1745020799@kwhi.com
SUMMARY:Good Friday Fishing Tournament (Burton)
DESCRIPTION:
URL:https://kwhi.com/event/good-friday-fishing-tournament-burton/
LOCATION:TX
CATEGORIES:Bulletin Board
ATTACH;FMTTYPE=image/jpeg:https://kwhi.com/wp-content/uploads/2025/04/good-friday-fishing.jpg
END:VEVENT
BEGIN:VEVENT
DTSTART;VALUE=DATE:20250418
DTEND;VALUE=DATE:20250420
DTSTAMP:20260420T030658
CREATED:20250325T212334Z
LAST-MODIFIED:20250325T212334Z
UID:345669-1744934400-1745107199@kwhi.com
SUMMARY:Brenham Firefighters Two-Day Blood Drive
DESCRIPTION:
URL:https://kwhi.com/event/brenham-firefighters-two-day-blood-drive-2/
LOCATION:Calvary Baptist Church Fellowship Hall (Brenham)\, 1100 Niebuhr Street\, Brenham\, TX\, 77833\, United States
CATEGORIES:Bulletin Board
ATTACH;FMTTYPE=image/jpeg:https://kwhi.com/wp-content/uploads/2025/03/blood-drive-apr-18-19.jpg
END:VEVENT
BEGIN:VEVENT
DTSTART;TZID=America/Chicago:20250418T120000
DTEND;TZID=America/Chicago:20250418T160000
DTSTAMP:20260420T030658
CREATED:20250320T210953Z
LAST-MODIFIED:20250320T210953Z
UID:345372-1744977600-1744992000@kwhi.com
SUMMARY:Living in Triumph's Easter Egg Hunt (Navasota)
DESCRIPTION:This free community event promises a fun-filled afternoon with food\, games\, prizes\, and a festive Easter egg hunt. In addition to the hunt\, children can enjoy a variety of fun activities throughout the day. Adding to the fun\, there will be a special visit from the Easter Bunny\, so don’t forget your cameras for a chance to snap a memorable photo!  For more information\, please contact Taylor Hughes at thughes@navasotatx.gov or call (936) 825-6475.
URL:https://kwhi.com/event/living-in-triumphs-easter-egg-hunt-navasota/
LOCATION:August Horst Park Pavilion\, 104 Veteran's Memorial Drive\, Navasota\, TX\, 77868\, United States
CATEGORIES:Bulletin Board
ATTACH;FMTTYPE=image/jpeg:https://kwhi.com/wp-content/uploads/2025/03/living-in-thiumphs-egg-hunt-apr-18.jpg
END:VEVENT
BEGIN:VEVENT
DTSTART;TZID=America/Chicago:20250418T140000
DTEND;TZID=America/Chicago:20250418T150000
DTSTAMP:20260420T030658
CREATED:20250320T210650Z
LAST-MODIFIED:20250320T210650Z
UID:345369-1744984800-1744988400@kwhi.com
SUMMARY:Silversage Easter Egg Hunt (Brenham)
DESCRIPTION:
URL:https://kwhi.com/event/silversage-easter-egg-hunt-brenham/
LOCATION:Silversage Assisted Living and Memory Care\, 1121 Prairie Lea Street\, Brenham\, TX\, 77833\, United States
CATEGORIES:Bulletin Board
ATTACH;FMTTYPE=image/jpeg:https://kwhi.com/wp-content/uploads/2025/03/silversage-egg-hunt-apr-18.jpg
END:VEVENT
BEGIN:VEVENT
DTSTART;TZID=America/Chicago:20250307T163000
DTEND;TZID=America/Chicago:20250307T190000
DTSTAMP:20260420T030658
CREATED:20250226T195112Z
LAST-MODIFIED:20250226T195112Z
UID:343640-1741365000-1741374000@kwhi.com
SUMMARY:Sealy Eastside Foundation Fish Fry Fundraiser
DESCRIPTION:
URL:https://kwhi.com/event/sealy-eastside-foundation-fish-fry-fundraiser/
LOCATION:American Legion Hall Sealy\, 1630 Meyer Street\, Sealy\, TX\, 77474\, United States
CATEGORIES:Bulletin Board
ATTACH;FMTTYPE=image/jpeg:https://kwhi.com/wp-content/uploads/2025/02/sealy-eastside-fish-fry-mar-and-apr.jpg
END:VEVENT
BEGIN:VEVENT
DTSTART;TZID=America/Chicago:20250307T163000
DTEND;TZID=America/Chicago:20250307T191500
DTSTAMP:20260420T030658
CREATED:20250228T164415Z
LAST-MODIFIED:20250310T202627Z
UID:343876-1741365000-1741374900@kwhi.com
SUMMARY:Friday Fish C.H.A.M.P. (Sealy)
DESCRIPTION:Charitable Heroes Achieving Memorable Performances (C.H.A.M.P.) Friday Fish Fry\, Friday\, March 7th at Sealy Lifebridge Church\, Serving from 4:30-7:15 pm\, Drive Thru Only
URL:https://kwhi.com/event/champ-friday-fish-fry-sealy/
LOCATION:Sealy Lifebridge Church\, FM 2187 Rd.\, Sealy\, TX\, 77474\, United States
CATEGORIES:Bulletin Board
ATTACH;FMTTYPE=image/jpeg:https://kwhi.com/wp-content/uploads/2025/02/fish-fry-C.H.A.M.P.jpg
END:VEVENT
BEGIN:VEVENT
DTSTART;VALUE=DATE:20250419
DTEND;VALUE=DATE:20250420
DTSTAMP:20260420T030658
CREATED:20250408T192803Z
LAST-MODIFIED:20250408T192803Z
UID:346818-1745020800-1745107199@kwhi.com
SUMMARY:Kruse Village Easter Egg Hunt (Brenham)
DESCRIPTION:
URL:https://kwhi.com/event/kruse-village-easter-egg-hunt-brenham/
LOCATION:Kruse Village Senior Living Community\, 1700 E. Stone Street\, Brenham\, TX\, 77833\, United States
CATEGORIES:Bulletin Board
ATTACH;FMTTYPE=image/jpeg:https://kwhi.com/wp-content/uploads/2025/04/egg-hunt-kruse-apr-19.jpg
END:VEVENT
BEGIN:VEVENT
DTSTART;TZID=America/Chicago:20250419T100000
DTEND;TZID=America/Chicago:20250419T130000
DTSTAMP:20260420T030658
CREATED:20250318T212658Z
LAST-MODIFIED:20250325T141752Z
UID:345200-1745056800-1745067600@kwhi.com
SUMMARY:Community Easter Egg Hunt (Brenham)
DESCRIPTION:
URL:https://kwhi.com/event/community-easter-egg-hunt/
LOCATION:Jerry Wilson Park\, 900 E. Alamo Street\, Brenham\, TX\, 77833\, United States
CATEGORIES:Bulletin Board
ATTACH;FMTTYPE=image/jpeg:https://kwhi.com/wp-content/uploads/2025/03/egg-hunt-jerry-wilson-park.jpg
END:VEVENT
BEGIN:VEVENT
DTSTART;TZID=America/Chicago:20250315T110000
DTEND;TZID=America/Chicago:20250315T160000
DTSTAMP:20260420T030658
CREATED:20250312T195335Z
LAST-MODIFIED:20250312T195335Z
UID:344832-1742036400-1742054400@kwhi.com
SUMMARY:Flying Horses Antique Carousel Open to the Public on Weekends (Brenham)
DESCRIPTION:antique
URL:https://kwhi.com/event/flying-horses-antique-carousel-open-to-the-public-on-weekends-brenham/
LOCATION:City of Brenham Fireman’s Park\, 901 N. Park Street\, Brenham\, TX\, 77833\, United States
CATEGORIES:Bulletin Board
ATTACH;FMTTYPE=image/jpeg:https://kwhi.com/wp-content/uploads/2025/03/antique-carousel-2025.jpg
END:VEVENT
BEGIN:VEVENT
DTSTART;TZID=America/Chicago:20250419T113000
DTEND;TZID=America/Chicago:20250419T133000
DTSTAMP:20260420T030658
CREATED:20250414T202546Z
LAST-MODIFIED:20250414T202546Z
UID:347399-1745062200-1745069400@kwhi.com
SUMMARY:First UMC-Grocery Giveaway (College Station)
DESCRIPTION:
URL:https://kwhi.com/event/first-umc-grocery-giveaway-college-station/
LOCATION:First United Methodist Church (College Station)\, 1125 Wellborn Road\, College Station\, TX\, 77840\, United States
CATEGORIES:Bulletin Board
ATTACH;FMTTYPE=image/jpeg:https://kwhi.com/wp-content/uploads/2025/04/grocery-giveaway-apr-19.jpg
END:VEVENT
BEGIN:VEVENT
DTSTART;TZID=America/Chicago:20250419T130000
DTEND;TZID=America/Chicago:20250419T160000
DTSTAMP:20260420T030658
CREATED:20250409T183303Z
LAST-MODIFIED:20250409T183303Z
UID:346935-1745067600-1745078400@kwhi.com
SUMMARY:Easter Bunny Photos (Navasota)
DESCRIPTION:
URL:https://kwhi.com/event/easter-bunny-photos-navasota/
LOCATION:Downtown Brenham\, Brenham\, TX\, 77833\, United States
CATEGORIES:Bulletin Board
ATTACH;FMTTYPE=image/jpeg:https://kwhi.com/wp-content/uploads/2025/04/bunny-photos-apr-19.jpg
END:VEVENT
BEGIN:VEVENT
DTSTART;TZID=America/Chicago:20250419T140000
DTEND;TZID=America/Chicago:20250419T160000
DTSTAMP:20260420T030658
CREATED:20250214T181149Z
LAST-MODIFIED:20250214T181149Z
UID:342741-1745071200-1745078400@kwhi.com
SUMMARY:Easter Egg Hunt (Burton)
DESCRIPTION:
URL:https://kwhi.com/event/easter-egg-hunt-burton/
LOCATION:TX
CATEGORIES:Bulletin Board
ATTACH;FMTTYPE=image/jpeg:https://kwhi.com/wp-content/uploads/2025/02/egg-hunt-burton-apr-19.jpg
END:VEVENT
BEGIN:VEVENT
DTSTART;VALUE=DATE:20250420
DTEND;VALUE=DATE:20250421
DTSTAMP:20260420T030658
CREATED:20250401T135801Z
LAST-MODIFIED:20250401T135801Z
UID:346154-1745107200-1745193599@kwhi.com
SUMMARY:Easter in the Park (Brenham)
DESCRIPTION:a
URL:https://kwhi.com/event/easter-in-the-park-brenham/
LOCATION:City of Brenham Fireman’s Park\, 901 N. Park Street\, Brenham\, TX\, 77833\, United States
CATEGORIES:Bulletin Board
ATTACH;FMTTYPE=image/jpeg:https://kwhi.com/wp-content/uploads/2025/04/easter-in-the-park-apr-20.jpg
END:VEVENT
BEGIN:VEVENT
DTSTART;VALUE=DATE:20250420
DTEND;VALUE=DATE:20250421
DTSTAMP:20260420T030658
CREATED:20250409T141327Z
LAST-MODIFIED:20250409T141403Z
UID:346884-1745107200-1745193599@kwhi.com
SUMMARY:Rise & Shine Easter Celebration (Round Top)
DESCRIPTION:
URL:https://kwhi.com/event/rise-shine-easter-celebration-round-top/
LOCATION:Round Top Dance Hall\, 550 N Washington Street\, Round Top\, TX\, 78954\, United States
CATEGORIES:Bulletin Board
ATTACH;FMTTYPE=image/jpeg:https://kwhi.com/wp-content/uploads/2025/04/rise-shine-easter-celebration.jpg
END:VEVENT
BEGIN:VEVENT
DTSTART;TZID=America/Chicago:20250316T130000
DTEND;TZID=America/Chicago:20250316T160000
DTSTAMP:20260420T030658
CREATED:20250312T195636Z
LAST-MODIFIED:20250312T195636Z
UID:344838-1742130000-1742140800@kwhi.com
SUMMARY:Flying Horses Antique Carousel Open to the Public on Weekends (Brenham)
DESCRIPTION:
URL:https://kwhi.com/event/flying-horses-antique-carousel-open-to-the-public-on-weekends-brenham-2/
LOCATION:City of Brenham Fireman’s Park\, 901 N. Park Street\, Brenham\, TX\, 77833\, United States
CATEGORIES:Bulletin Board
ATTACH;FMTTYPE=image/jpeg:https://kwhi.com/wp-content/uploads/2025/03/antique-carousel-2025.jpg
END:VEVENT
BEGIN:VEVENT
DTSTART;VALUE=DATE:20250407
DTEND;VALUE=DATE:20250408
DTSTAMP:20260420T030658
CREATED:20250331T141249Z
LAST-MODIFIED:20250331T141249Z
UID:346065-1743984000-1744070399@kwhi.com
SUMMARY:Scouting Washington County Temporary Exhibit-BHM (Brenham)
DESCRIPTION:
URL:https://kwhi.com/event/scouting-washington-county-temporary-exhibit-bhm-brenham/
LOCATION:Brenham Heritage Museum\, 105 S. Market St. \, Brenham\, TX\, 77833\, United States
CATEGORIES:Bulletin Board
ATTACH;FMTTYPE=image/jpeg:https://kwhi.com/wp-content/uploads/2025/03/scouting-till-june-21.jpg
END:VEVENT
END:VCALENDAR